BEGIN:VCALENDAR
VERSION:2.0
PRODID:-//Spring Creek Oaks - ECPv6.15.20//NONSGML v1.0//EN
CALSCALE:GREGORIAN
METHOD:PUBLISH
X-ORIGINAL-URL:https://www.springcreekoaks.org
X-WR-CALDESC:Events for Spring Creek Oaks
REFRESH-INTERVAL;VALUE=DURATION:PT1H
X-Robots-Tag:noindex
X-PUBLISHED-TTL:PT1H
BEGIN:VTIMEZONE
TZID:America/Chicago
BEGIN:DAYLIGHT
TZOFFSETFROM:-0600
TZOFFSETTO:-0500
TZNAME:CDT
DTSTART:20230312T080000
END:DAYLIGHT
BEGIN:STANDARD
TZOFFSETFROM:-0500
TZOFFSETTO:-0600
TZNAME:CST
DTSTART:20231105T070000
END:STANDARD
BEGIN:DAYLIGHT
TZOFFSETFROM:-0600
TZOFFSETTO:-0500
TZNAME:CDT
DTSTART:20240310T080000
END:DAYLIGHT
BEGIN:STANDARD
TZOFFSETFROM:-0500
TZOFFSETTO:-0600
TZNAME:CST
DTSTART:20241103T070000
END:STANDARD
BEGIN:DAYLIGHT
TZOFFSETFROM:-0600
TZOFFSETTO:-0500
TZNAME:CDT
DTSTART:20250309T080000
END:DAYLIGHT
BEGIN:STANDARD
TZOFFSETFROM:-0500
TZOFFSETTO:-0600
TZNAME:CST
DTSTART:20251102T070000
END:STANDARD
END:VTIMEZONE
BEGIN:VEVENT
DTSTART;TZID=America/Chicago:20240408T083000
DTEND;TZID=America/Chicago:20240408T110000
DTSTAMP:20260422T165939
CREATED:20240115T174755Z
LAST-MODIFIED:20240115T180718Z
UID:10006594-1712565000-1712574000@www.springcreekoaks.org
SUMMARY:Kuehnle courts 3-4\, Coach Danny
DESCRIPTION:
URL:https://www.springcreekoaks.org/reservations/kuehnle-courts-3-4-coach-danny/2024-04-08/
CATEGORIES:Tennis
END:VEVENT
BEGIN:VEVENT
DTSTART;TZID=America/Chicago:20240408T170000
DTEND;TZID=America/Chicago:20240408T190000
DTSTAMP:20260422T165939
CREATED:20240115T174912Z
LAST-MODIFIED:20240115T180603Z
UID:10006665-1712595600-1712602800@www.springcreekoaks.org
SUMMARY:Kuehnle courts 3-4\, Coach Danny
DESCRIPTION:
URL:https://www.springcreekoaks.org/reservations/kuehnle-courts-3-4-coach-danny-2/2024-04-08/
CATEGORIES:Tennis
END:VEVENT
BEGIN:VEVENT
DTSTART;TZID=America/Chicago:20240408T190000
DTEND;TZID=America/Chicago:20240408T220000
DTSTAMP:20260422T165939
CREATED:20230909T134836Z
LAST-MODIFIED:20230909T134836Z
UID:10006299-1712602800-1712613600@www.springcreekoaks.org
SUMMARY:CH 2 courts 1-6\, NHTA A2
DESCRIPTION:
URL:https://www.springcreekoaks.org/reservations/ch-2-courts-1-6-nhta-a2-3/2024-04-08/
CATEGORIES:Tennis
END:VEVENT
BEGIN:VEVENT
DTSTART;TZID=America/Chicago:20240409T083000
DTEND;TZID=America/Chicago:20240409T120000
DTSTAMP:20260422T165939
CREATED:20231126T144446Z
LAST-MODIFIED:20231126T144859Z
UID:10003342-1712651400-1712664000@www.springcreekoaks.org
SUMMARY:CH 1 courts 2-3\, Palmer
DESCRIPTION:
URL:https://www.springcreekoaks.org/reservations/ch-1-courts-2-3-palmer/2024-04-09/
CATEGORIES:Tennis
END:VEVENT
BEGIN:VEVENT
DTSTART;TZID=America/Chicago:20240409T090000
DTEND;TZID=America/Chicago:20240409T110000
DTSTAMP:20260422T165939
CREATED:20240115T175133Z
LAST-MODIFIED:20240416T023409Z
UID:10006737-1712653200-1712660400@www.springcreekoaks.org
SUMMARY:Kuehnle courts 3-4\, Coach Danny
DESCRIPTION:
URL:https://www.springcreekoaks.org/reservations/kuehnle-courts-3-4-coach-danny-3/2024-04-09/
CATEGORIES:Tennis
END:VEVENT
BEGIN:VEVENT
DTSTART;TZID=America/Chicago:20240409T170000
DTEND;TZID=America/Chicago:20240409T193000
DTSTAMP:20260422T165939
CREATED:20240115T175240Z
LAST-MODIFIED:20240115T180452Z
UID:10006809-1712682000-1712691000@www.springcreekoaks.org
SUMMARY:Kuehnle courts 3-4\, Coach Danny
DESCRIPTION:
URL:https://www.springcreekoaks.org/reservations/kuehnle-courts-3-4-coach-danny-4/2024-04-09/
CATEGORIES:Tennis
END:VEVENT
BEGIN:VEVENT
DTSTART;TZID=America/Chicago:20240409T180000
DTEND;TZID=America/Chicago:20240409T210000
DTSTAMP:20260422T165939
CREATED:20240130T071535Z
LAST-MODIFIED:20240131T153044Z
UID:10007508-1712685600-1712696400@www.springcreekoaks.org
SUMMARY:CH 2 PB courts 1-2\, A. Cortez
DESCRIPTION:
URL:https://www.springcreekoaks.org/reservations/ch-2-pb-courts-1-2-a-cortez/2024-04-09/
CATEGORIES:Tennis
END:VEVENT
BEGIN:VEVENT
DTSTART;TZID=America/Chicago:20240410T090000
DTEND;TZID=America/Chicago:20240410T113000
DTSTAMP:20260422T165939
CREATED:20231205T012455Z
LAST-MODIFIED:20240107T024742Z
UID:10004070-1712739600-1712748600@www.springcreekoaks.org
SUMMARY:CH 1 courts 2-3\, Hudson
DESCRIPTION:
URL:https://www.springcreekoaks.org/reservations/ch-1-courts-2-3-hudson-2/2024-04-10/
CATEGORIES:Tennis
END:VEVENT
BEGIN:VEVENT
DTSTART;TZID=America/Chicago:20240410T100000
DTEND;TZID=America/Chicago:20240410T110000
DTSTAMP:20260422T165939
CREATED:20240115T175343Z
LAST-MODIFIED:20240416T023303Z
UID:10006881-1712743200-1712746800@www.springcreekoaks.org
SUMMARY:Kuehnle courts 3-4\, Coach Danny
DESCRIPTION:
URL:https://www.springcreekoaks.org/reservations/kuehnle-courts-3-4-coach-danny-5/2024-04-10/
CATEGORIES:Tennis
END:VEVENT
BEGIN:VEVENT
DTSTART;TZID=America/Chicago:20240410T153000
DTEND;TZID=America/Chicago:20240410T173000
DTSTAMP:20260422T165939
CREATED:20240407T233803Z
LAST-MODIFIED:20240407T233803Z
UID:10008204-1712763000-1712770200@www.springcreekoaks.org
SUMMARY:CH 2 court 1\, NCS practice
DESCRIPTION:
URL:https://www.springcreekoaks.org/reservations/ch-2-court-1-ncs-practice/
CATEGORIES:Tennis
END:VEVENT
BEGIN:VEVENT
DTSTART;TZID=America/Chicago:20240410T170000
DTEND;TZID=America/Chicago:20240410T190000
DTSTAMP:20260422T165940
CREATED:20240115T175440Z
LAST-MODIFIED:20240115T180134Z
UID:10006953-1712768400-1712775600@www.springcreekoaks.org
SUMMARY:Kuehnle courts 3-4\, Coach Danny
DESCRIPTION:
URL:https://www.springcreekoaks.org/reservations/kuehnle-courts-3-4-coach-danny-6/2024-04-10/
CATEGORIES:Tennis
END:VEVENT
BEGIN:VEVENT
DTSTART;TZID=America/Chicago:20240411T083000
DTEND;TZID=America/Chicago:20240411T120000
DTSTAMP:20260422T165940
CREATED:20231126T144446Z
LAST-MODIFIED:20231126T144859Z
UID:10003343-1712824200-1712836800@www.springcreekoaks.org
SUMMARY:CH 1 courts 2-3\, Palmer
DESCRIPTION:
URL:https://www.springcreekoaks.org/reservations/ch-1-courts-2-3-palmer/2024-04-11/
CATEGORIES:Tennis
END:VEVENT
BEGIN:VEVENT
DTSTART;TZID=America/Chicago:20240411T083000
DTEND;TZID=America/Chicago:20240411T120000
DTSTAMP:20260422T165940
CREATED:20240118T191357Z
LAST-MODIFIED:20240118T191357Z
UID:10007470-1712824200-1712836800@www.springcreekoaks.org
SUMMARY:CH 2 courts 1-4\, NW league champ
DESCRIPTION:
URL:https://www.springcreekoaks.org/reservations/ch-2-courts-1-4-nw-league-champ/2024-04-11/
CATEGORIES:Tennis
END:VEVENT
BEGIN:VEVENT
DTSTART;TZID=America/Chicago:20240411T090000
DTEND;TZID=America/Chicago:20240411T110000
DTSTAMP:20260422T165940
CREATED:20240115T175542Z
LAST-MODIFIED:20240416T023143Z
UID:10007025-1712826000-1712833200@www.springcreekoaks.org
SUMMARY:Kuehnle courts 3-4\, Coach Danny
DESCRIPTION:
URL:https://www.springcreekoaks.org/reservations/kuehnle-courts-3-4-coach-danny-7/2024-04-11/
CATEGORIES:Tennis
END:VEVENT
BEGIN:VEVENT
DTSTART;TZID=America/Chicago:20240411T090000
DTEND;TZID=America/Chicago:20240411T120000
DTSTAMP:20260422T165940
CREATED:20240325T144507Z
LAST-MODIFIED:20240325T144507Z
UID:10008101-1712826000-1712836800@www.springcreekoaks.org
SUMMARY:Kuehnle court 3\, Karpiuk rain makeup
DESCRIPTION:
URL:https://www.springcreekoaks.org/reservations/kuehnle-court-3-karpiuk-rain-makeup/2024-04-11/
CATEGORIES:Tennis
END:VEVENT
BEGIN:VEVENT
DTSTART;TZID=America/Chicago:20240411T170000
DTEND;TZID=America/Chicago:20240411T193000
DTSTAMP:20260422T165940
CREATED:20240115T175721Z
LAST-MODIFIED:20240416T023026Z
UID:10007097-1712854800-1712863800@www.springcreekoaks.org
SUMMARY:Kuehnle courts 3-4\, Coach Danny
DESCRIPTION:
URL:https://www.springcreekoaks.org/reservations/kuehnle-courts-3-4-coach-danny-8/2024-04-11/
CATEGORIES:Tennis
END:VEVENT
BEGIN:VEVENT
DTSTART;TZID=America/Chicago:20240411T190000
DTEND;TZID=America/Chicago:20240411T220000
DTSTAMP:20260422T165940
CREATED:20240113T021559Z
LAST-MODIFIED:20240131T152936Z
UID:10006535-1712862000-1712872800@www.springcreekoaks.org
SUMMARY:CH 2 PB courts 3-4\, P. Guzman
DESCRIPTION:
URL:https://www.springcreekoaks.org/reservations/ch-1-courts-2-3-p-guzman/2024-04-11/
CATEGORIES:Tennis
END:VEVENT
BEGIN:VEVENT
DTSTART;TZID=America/Chicago:20240411T190000
DTEND;TZID=America/Chicago:20240411T223000
DTSTAMP:20260422T165940
CREATED:20240208T140545Z
LAST-MODIFIED:20240208T140545Z
UID:10007914-1712862000-1712874600@www.springcreekoaks.org
SUMMARY:CH 2 courts 1-6\, Men’s league\, Bausch
DESCRIPTION:
URL:https://www.springcreekoaks.org/reservations/ch-2-courts-1-6-mens-league-bausch-3/2024-04-11/
CATEGORIES:Tennis
END:VEVENT
BEGIN:VEVENT
DTSTART;TZID=America/Chicago:20240411T190000
DTEND;TZID=America/Chicago:20240411T230000
DTSTAMP:20260422T165940
CREATED:20240311T234052Z
LAST-MODIFIED:20240311T234052Z
UID:10008076-1712862000-1712876400@www.springcreekoaks.org
SUMMARY:CH 2 courts 1-6\, Men’s league Bautsch
DESCRIPTION:
URL:https://www.springcreekoaks.org/reservations/ch-2-courts-1-6-mens-league-bautsch-2/2024-04-11/
CATEGORIES:Tennis
END:VEVENT
BEGIN:VEVENT
DTSTART;TZID=America/Chicago:20240412T083000
DTEND;TZID=America/Chicago:20240412T120000
DTSTAMP:20260422T165940
CREATED:20240117T020331Z
LAST-MODIFIED:20240117T020331Z
UID:10007133-1712910600-1712923200@www.springcreekoaks.org
SUMMARY:CH 2 courts 1-4\, JR Open 2 Karpiuk
DESCRIPTION:
URL:https://www.springcreekoaks.org/reservations/ch-2-courts-1-4-jr-open-2-karpiuk/2024-04-12/
CATEGORIES:Tennis
END:VEVENT
BEGIN:VEVENT
DTSTART;TZID=America/Chicago:20240412T180000
DTEND;TZID=America/Chicago:20240412T190000
DTSTAMP:20260422T165940
CREATED:20240115T175843Z
LAST-MODIFIED:20240118T192404Z
UID:10007117-1712944800-1712948400@www.springcreekoaks.org
SUMMARY:Kuehnle courts 3-4\, Coach Danny
DESCRIPTION:
URL:https://www.springcreekoaks.org/reservations/kuehnle-courts-3-4-coach-danny-9/2024-04-12/
CATEGORIES:Tennis
END:VEVENT
BEGIN:VEVENT
DTSTART;TZID=America/Chicago:20240413T060000
DTEND;TZID=America/Chicago:20240413T190000
DTSTAMP:20260422T165940
CREATED:20240312T144546Z
LAST-MODIFIED:20240312T144546Z
UID:10008081-1712988000-1713034800@www.springcreekoaks.org
SUMMARY:CH 2 courts 1-6\, Giammalva Jr tournament
DESCRIPTION:
URL:https://www.springcreekoaks.org/reservations/ch-2-courts-1-6-giammalva-jr-tournament-2/2024-04-13/
CATEGORIES:Tennis
END:VEVENT
BEGIN:VEVENT
DTSTART;TZID=America/Chicago:20240413T083000
DTEND;TZID=America/Chicago:20240413T120000
DTSTAMP:20260422T165940
CREATED:20231126T144446Z
LAST-MODIFIED:20231126T144859Z
UID:10003344-1712997000-1713009600@www.springcreekoaks.org
SUMMARY:CH 1 courts 2-3\, Palmer
DESCRIPTION:
URL:https://www.springcreekoaks.org/reservations/ch-1-courts-2-3-palmer/2024-04-13/
CATEGORIES:Tennis
END:VEVENT
BEGIN:VEVENT
DTSTART;TZID=America/Chicago:20240413T090000
DTEND;TZID=America/Chicago:20240413T120000
DTSTAMP:20260422T165940
CREATED:20240325T144507Z
LAST-MODIFIED:20240325T144507Z
UID:10008102-1712998800-1713009600@www.springcreekoaks.org
SUMMARY:Kuehnle court 3\, Karpiuk rain makeup
DESCRIPTION:
URL:https://www.springcreekoaks.org/reservations/kuehnle-court-3-karpiuk-rain-makeup/2024-04-13/
CATEGORIES:Tennis
END:VEVENT
END:VCALENDAR