BEGIN:VCALENDAR
VERSION:2.0
PRODID:-//Spring Creek Oaks - ECPv6.15.20//NONSGML v1.0//EN
CALSCALE:GREGORIAN
METHOD:PUBLISH
X-WR-CALNAME:Spring Creek Oaks
X-ORIGINAL-URL:https://www.springcreekoaks.org
X-WR-CALDESC:Events for Spring Creek Oaks
REFRESH-INTERVAL;VALUE=DURATION:PT1H
X-Robots-Tag:noindex
X-PUBLISHED-TTL:PT1H
BEGIN:VTIMEZONE
TZID:America/Chicago
BEGIN:DAYLIGHT
TZOFFSETFROM:-0600
TZOFFSETTO:-0500
TZNAME:CDT
DTSTART:20230312T080000
END:DAYLIGHT
BEGIN:STANDARD
TZOFFSETFROM:-0500
TZOFFSETTO:-0600
TZNAME:CST
DTSTART:20231105T070000
END:STANDARD
BEGIN:DAYLIGHT
TZOFFSETFROM:-0600
TZOFFSETTO:-0500
TZNAME:CDT
DTSTART:20240310T080000
END:DAYLIGHT
BEGIN:STANDARD
TZOFFSETFROM:-0500
TZOFFSETTO:-0600
TZNAME:CST
DTSTART:20241103T070000
END:STANDARD
BEGIN:DAYLIGHT
TZOFFSETFROM:-0600
TZOFFSETTO:-0500
TZNAME:CDT
DTSTART:20250309T080000
END:DAYLIGHT
BEGIN:STANDARD
TZOFFSETFROM:-0500
TZOFFSETTO:-0600
TZNAME:CST
DTSTART:20251102T070000
END:STANDARD
END:VTIMEZONE
BEGIN:VEVENT
DTSTART;TZID=America/Chicago:20240401T083000
DTEND;TZID=America/Chicago:20240401T110000
DTSTAMP:20260422T165804
CREATED:20240115T174755Z
LAST-MODIFIED:20240115T180718Z
UID:10006593-1711960200-1711969200@www.springcreekoaks.org
SUMMARY:Kuehnle courts 3-4\, Coach Danny
DESCRIPTION:
URL:https://www.springcreekoaks.org/reservations/kuehnle-courts-3-4-coach-danny/2024-04-01/
CATEGORIES:Tennis
END:VEVENT
BEGIN:VEVENT
DTSTART;TZID=America/Chicago:20240401T170000
DTEND;TZID=America/Chicago:20240401T190000
DTSTAMP:20260422T165804
CREATED:20240115T174912Z
LAST-MODIFIED:20240115T180603Z
UID:10006664-1711990800-1711998000@www.springcreekoaks.org
SUMMARY:Kuehnle courts 3-4\, Coach Danny
DESCRIPTION:
URL:https://www.springcreekoaks.org/reservations/kuehnle-courts-3-4-coach-danny-2/2024-04-01/
CATEGORIES:Tennis
END:VEVENT
BEGIN:VEVENT
DTSTART;TZID=America/Chicago:20240402T083000
DTEND;TZID=America/Chicago:20240402T120000
DTSTAMP:20260422T165804
CREATED:20231126T144446Z
LAST-MODIFIED:20231126T144859Z
UID:10003339-1712046600-1712059200@www.springcreekoaks.org
SUMMARY:CH 1 courts 2-3\, Palmer
DESCRIPTION:
URL:https://www.springcreekoaks.org/reservations/ch-1-courts-2-3-palmer/2024-04-02/
CATEGORIES:Tennis
END:VEVENT
BEGIN:VEVENT
DTSTART;TZID=America/Chicago:20240402T090000
DTEND;TZID=America/Chicago:20240402T110000
DTSTAMP:20260422T165804
CREATED:20240115T175133Z
LAST-MODIFIED:20240416T023409Z
UID:10006736-1712048400-1712055600@www.springcreekoaks.org
SUMMARY:Kuehnle courts 3-4\, Coach Danny
DESCRIPTION:
URL:https://www.springcreekoaks.org/reservations/kuehnle-courts-3-4-coach-danny-3/2024-04-02/
CATEGORIES:Tennis
END:VEVENT
BEGIN:VEVENT
DTSTART;TZID=America/Chicago:20240402T153000
DTEND;TZID=America/Chicago:20240402T173000
DTSTAMP:20260422T165804
CREATED:20240129T183405Z
LAST-MODIFIED:20240129T183405Z
UID:10007497-1712071800-1712079000@www.springcreekoaks.org
SUMMARY:CH 2 courts 1-3\, NCS practice
DESCRIPTION:
URL:https://www.springcreekoaks.org/reservations/ch-2-courts-1-3-ncs-practice-5/
CATEGORIES:Tennis
END:VEVENT
BEGIN:VEVENT
DTSTART;TZID=America/Chicago:20240402T170000
DTEND;TZID=America/Chicago:20240402T193000
DTSTAMP:20260422T165804
CREATED:20240115T175240Z
LAST-MODIFIED:20240115T180452Z
UID:10006808-1712077200-1712086200@www.springcreekoaks.org
SUMMARY:Kuehnle courts 3-4\, Coach Danny
DESCRIPTION:
URL:https://www.springcreekoaks.org/reservations/kuehnle-courts-3-4-coach-danny-4/2024-04-02/
CATEGORIES:Tennis
END:VEVENT
BEGIN:VEVENT
DTSTART;TZID=America/Chicago:20240402T180000
DTEND;TZID=America/Chicago:20240402T210000
DTSTAMP:20260422T165804
CREATED:20240130T071535Z
LAST-MODIFIED:20240131T153044Z
UID:10007507-1712080800-1712091600@www.springcreekoaks.org
SUMMARY:CH 2 PB courts 1-2\, A. Cortez
DESCRIPTION:
URL:https://www.springcreekoaks.org/reservations/ch-2-pb-courts-1-2-a-cortez/2024-04-02/
CATEGORIES:Tennis
END:VEVENT
BEGIN:VEVENT
DTSTART;TZID=America/Chicago:20240403T090000
DTEND;TZID=America/Chicago:20240403T110000
DTSTAMP:20260422T165804
CREATED:20240327T211719Z
LAST-MODIFIED:20240327T211719Z
UID:10008106-1712134800-1712142000@www.springcreekoaks.org
SUMMARY:CH 2 court 3\, Lopez
DESCRIPTION:
URL:https://www.springcreekoaks.org/reservations/ch-2-court-3-lopez-44/
CATEGORIES:Tennis
END:VEVENT
BEGIN:VEVENT
DTSTART;TZID=America/Chicago:20240403T090000
DTEND;TZID=America/Chicago:20240403T113000
DTSTAMP:20260422T165804
CREATED:20231205T012455Z
LAST-MODIFIED:20240107T024742Z
UID:10004069-1712134800-1712143800@www.springcreekoaks.org
SUMMARY:CH 1 courts 2-3\, Hudson
DESCRIPTION:
URL:https://www.springcreekoaks.org/reservations/ch-1-courts-2-3-hudson-2/2024-04-03/
CATEGORIES:Tennis
END:VEVENT
BEGIN:VEVENT
DTSTART;TZID=America/Chicago:20240403T100000
DTEND;TZID=America/Chicago:20240403T110000
DTSTAMP:20260422T165804
CREATED:20240115T175343Z
LAST-MODIFIED:20240416T023303Z
UID:10006880-1712138400-1712142000@www.springcreekoaks.org
SUMMARY:Kuehnle courts 3-4\, Coach Danny
DESCRIPTION:
URL:https://www.springcreekoaks.org/reservations/kuehnle-courts-3-4-coach-danny-5/2024-04-03/
CATEGORIES:Tennis
END:VEVENT
BEGIN:VEVENT
DTSTART;TZID=America/Chicago:20240403T170000
DTEND;TZID=America/Chicago:20240403T190000
DTSTAMP:20260422T165804
CREATED:20240115T175440Z
LAST-MODIFIED:20240115T180134Z
UID:10006952-1712163600-1712170800@www.springcreekoaks.org
SUMMARY:Kuehnle courts 3-4\, Coach Danny
DESCRIPTION:
URL:https://www.springcreekoaks.org/reservations/kuehnle-courts-3-4-coach-danny-6/2024-04-03/
CATEGORIES:Tennis
END:VEVENT
BEGIN:VEVENT
DTSTART;TZID=America/Chicago:20240404T083000
DTEND;TZID=America/Chicago:20240404T120000
DTSTAMP:20260422T165804
CREATED:20231126T144446Z
LAST-MODIFIED:20231126T144859Z
UID:10003340-1712219400-1712232000@www.springcreekoaks.org
SUMMARY:CH 1 courts 2-3\, Palmer
DESCRIPTION:
URL:https://www.springcreekoaks.org/reservations/ch-1-courts-2-3-palmer/2024-04-04/
CATEGORIES:Tennis
END:VEVENT
BEGIN:VEVENT
DTSTART;TZID=America/Chicago:20240404T083000
DTEND;TZID=America/Chicago:20240404T120000
DTSTAMP:20260422T165804
CREATED:20240118T191357Z
LAST-MODIFIED:20240118T191357Z
UID:10007469-1712219400-1712232000@www.springcreekoaks.org
SUMMARY:CH 2 courts 1-4\, NW league champ
DESCRIPTION:
URL:https://www.springcreekoaks.org/reservations/ch-2-courts-1-4-nw-league-champ/2024-04-04/
CATEGORIES:Tennis
END:VEVENT
BEGIN:VEVENT
DTSTART;TZID=America/Chicago:20240404T090000
DTEND;TZID=America/Chicago:20240404T110000
DTSTAMP:20260422T165804
CREATED:20240115T175542Z
LAST-MODIFIED:20240416T023143Z
UID:10007024-1712221200-1712228400@www.springcreekoaks.org
SUMMARY:Kuehnle courts 3-4\, Coach Danny
DESCRIPTION:
URL:https://www.springcreekoaks.org/reservations/kuehnle-courts-3-4-coach-danny-7/2024-04-04/
CATEGORIES:Tennis
END:VEVENT
BEGIN:VEVENT
DTSTART;TZID=America/Chicago:20240404T170000
DTEND;TZID=America/Chicago:20240404T193000
DTSTAMP:20260422T165804
CREATED:20240115T175721Z
LAST-MODIFIED:20240416T023026Z
UID:10007096-1712250000-1712259000@www.springcreekoaks.org
SUMMARY:Kuehnle courts 3-4\, Coach Danny
DESCRIPTION:
URL:https://www.springcreekoaks.org/reservations/kuehnle-courts-3-4-coach-danny-8/2024-04-04/
CATEGORIES:Tennis
END:VEVENT
BEGIN:VEVENT
DTSTART;TZID=America/Chicago:20240404T190000
DTEND;TZID=America/Chicago:20240404T220000
DTSTAMP:20260422T165804
CREATED:20240113T021559Z
LAST-MODIFIED:20240131T152936Z
UID:10006534-1712257200-1712268000@www.springcreekoaks.org
SUMMARY:CH 2 PB courts 3-4\, P. Guzman
DESCRIPTION:
URL:https://www.springcreekoaks.org/reservations/ch-1-courts-2-3-p-guzman/2024-04-04/
CATEGORIES:Tennis
END:VEVENT
BEGIN:VEVENT
DTSTART;TZID=America/Chicago:20240405T083000
DTEND;TZID=America/Chicago:20240405T120000
DTSTAMP:20260422T165804
CREATED:20240117T020642Z
LAST-MODIFIED:20240117T020642Z
UID:10007137-1712305800-1712318400@www.springcreekoaks.org
SUMMARY:CH 2 courts 1-4\, JR Open 2 Nacewski
DESCRIPTION:
URL:https://www.springcreekoaks.org/reservations/ch-2-courts-1-4-jr-open-2-nacewski/2024-04-05/
CATEGORIES:Tennis
END:VEVENT
BEGIN:VEVENT
DTSTART;TZID=America/Chicago:20240405T083000
DTEND;TZID=America/Chicago:20240405T120000
DTSTAMP:20260422T165804
CREATED:20240117T021036Z
LAST-MODIFIED:20240117T021036Z
UID:10007142-1712305800-1712318400@www.springcreekoaks.org
SUMMARY:Kuehnle courts 1-4\, JR B3
DESCRIPTION:
URL:https://www.springcreekoaks.org/reservations/kuehnle-courts-1-4-jr-b3-3/
CATEGORIES:Tennis
END:VEVENT
BEGIN:VEVENT
DTSTART;TZID=America/Chicago:20240405T180000
DTEND;TZID=America/Chicago:20240405T190000
DTSTAMP:20260422T165804
CREATED:20240115T175843Z
LAST-MODIFIED:20240118T192404Z
UID:10007116-1712340000-1712343600@www.springcreekoaks.org
SUMMARY:Kuehnle courts 3-4\, Coach Danny
DESCRIPTION:
URL:https://www.springcreekoaks.org/reservations/kuehnle-courts-3-4-coach-danny-9/2024-04-05/
CATEGORIES:Tennis
END:VEVENT
BEGIN:VEVENT
DTSTART;TZID=America/Chicago:20240406T083000
DTEND;TZID=America/Chicago:20240406T120000
DTSTAMP:20260422T165804
CREATED:20231126T144446Z
LAST-MODIFIED:20231126T144859Z
UID:10003341-1712392200-1712404800@www.springcreekoaks.org
SUMMARY:CH 1 courts 2-3\, Palmer
DESCRIPTION:
URL:https://www.springcreekoaks.org/reservations/ch-1-courts-2-3-palmer/2024-04-06/
CATEGORIES:Tennis
END:VEVENT
BEGIN:VEVENT
DTSTART;TZID=America/Chicago:20240406T160000
DTEND;TZID=America/Chicago:20240406T190000
DTSTAMP:20260422T165804
CREATED:20240225T215408Z
LAST-MODIFIED:20240225T215408Z
UID:10008049-1712419200-1712430000@www.springcreekoaks.org
SUMMARY:CH 2 PB courts 1-4\, A. Cortez
DESCRIPTION:
URL:https://www.springcreekoaks.org/reservations/ch-2-pb-courts-1-4-a-cortez/
CATEGORIES:Tennis
END:VEVENT
END:VCALENDAR