BEGIN:VCALENDAR
VERSION:2.0
PRODID:-//Spring Creek Oaks - ECPv6.15.20//NONSGML v1.0//EN
CALSCALE:GREGORIAN
METHOD:PUBLISH
X-ORIGINAL-URL:https://www.springcreekoaks.org
X-WR-CALDESC:Events for Spring Creek Oaks
REFRESH-INTERVAL;VALUE=DURATION:PT1H
X-Robots-Tag:noindex
X-PUBLISHED-TTL:PT1H
BEGIN:VTIMEZONE
TZID:America/Chicago
BEGIN:DAYLIGHT
TZOFFSETFROM:-0600
TZOFFSETTO:-0500
TZNAME:CDT
DTSTART:20220313T080000
END:DAYLIGHT
BEGIN:STANDARD
TZOFFSETFROM:-0500
TZOFFSETTO:-0600
TZNAME:CST
DTSTART:20221106T070000
END:STANDARD
BEGIN:DAYLIGHT
TZOFFSETFROM:-0600
TZOFFSETTO:-0500
TZNAME:CDT
DTSTART:20230312T080000
END:DAYLIGHT
BEGIN:STANDARD
TZOFFSETFROM:-0500
TZOFFSETTO:-0600
TZNAME:CST
DTSTART:20231105T070000
END:STANDARD
BEGIN:DAYLIGHT
TZOFFSETFROM:-0600
TZOFFSETTO:-0500
TZNAME:CDT
DTSTART:20240310T080000
END:DAYLIGHT
BEGIN:STANDARD
TZOFFSETFROM:-0500
TZOFFSETTO:-0600
TZNAME:CST
DTSTART:20241103T070000
END:STANDARD
END:VTIMEZONE
BEGIN:VEVENT
DTSTART;TZID=America/Chicago:20230911T083000
DTEND;TZID=America/Chicago:20230911T100000
DTSTAMP:20260425T110132
CREATED:20230814T130951Z
LAST-MODIFIED:20230814T130951Z
UID:10003569-1694421000-1694426400@www.springcreekoaks.org
SUMMARY:Kuehnle courts 3-4\, Ladies open drill\, tennis pro Danny
DESCRIPTION:
URL:https://www.springcreekoaks.org/reservations/kuehnle-courts-3-4-ladies-open-drill-tennis-pro-danny/2023-09-11/
CATEGORIES:Tennis
END:VEVENT
BEGIN:VEVENT
DTSTART;TZID=America/Chicago:20230911T083000
DTEND;TZID=America/Chicago:20230911T120000
DTSTAMP:20260425T110132
CREATED:20230823T105349Z
LAST-MODIFIED:20230823T105349Z
UID:10006104-1694421000-1694433600@www.springcreekoaks.org
SUMMARY:CH 2 courts 1-4\, HLTA Champ 2 North
DESCRIPTION:
URL:https://www.springcreekoaks.org/reservations/ch-2-courts-1-4-hlta-champ-2-north-4/2023-09-11/
CATEGORIES:Tennis
END:VEVENT
BEGIN:VEVENT
DTSTART;TZID=America/Chicago:20230911T100000
DTEND;TZID=America/Chicago:20230911T110000
DTSTAMP:20260425T110132
CREATED:20230814T131112Z
LAST-MODIFIED:20230814T131112Z
UID:10005822-1694426400-1694430000@www.springcreekoaks.org
SUMMARY:Kuehnle courts 3-4\, Intermediate Home School class
DESCRIPTION:
URL:https://www.springcreekoaks.org/reservations/kuehnle-courts-3-4-intermediate-home-school-class/2023-09-11/
CATEGORIES:Tennis
END:VEVENT
BEGIN:VEVENT
DTSTART;TZID=America/Chicago:20230911T170000
DTEND;TZID=America/Chicago:20230911T180000
DTSTAMP:20260425T110132
CREATED:20230814T131224Z
LAST-MODIFIED:20230814T131224Z
UID:10005841-1694451600-1694455200@www.springcreekoaks.org
SUMMARY:Kuehnle courts 3-4\, Orange ball class
DESCRIPTION:
URL:https://www.springcreekoaks.org/reservations/kuehnle-courts-3-4-orange-ball-class/2023-09-11/
CATEGORIES:Tennis
END:VEVENT
BEGIN:VEVENT
DTSTART;TZID=America/Chicago:20230911T180000
DTEND;TZID=America/Chicago:20230911T190000
DTSTAMP:20260425T110132
CREATED:20230814T131344Z
LAST-MODIFIED:20230814T131344Z
UID:10005860-1694455200-1694458800@www.springcreekoaks.org
SUMMARY:Kuehnle courts 3-4\, Yellow ball class
DESCRIPTION:
URL:https://www.springcreekoaks.org/reservations/kuehnle-courts-3-4-yellow-ball-class/2023-09-11/
CATEGORIES:Tennis
END:VEVENT
BEGIN:VEVENT
DTSTART;TZID=America/Chicago:20230911T190000
DTEND;TZID=America/Chicago:20230911T200000
DTSTAMP:20260425T110132
CREATED:20230814T131523Z
LAST-MODIFIED:20230814T131523Z
UID:10005879-1694458800-1694462400@www.springcreekoaks.org
SUMMARY:Kuehnle courts 3-4\, Adult drop-in drill\, all levels
DESCRIPTION:
URL:https://www.springcreekoaks.org/reservations/kuehnle-courts-3-4-adult-drop-in-drill-all-levels/2023-09-11/
CATEGORIES:Tennis
END:VEVENT
BEGIN:VEVENT
DTSTART;TZID=America/Chicago:20230911T190000
DTEND;TZID=America/Chicago:20230911T220000
DTSTAMP:20260425T110132
CREATED:20230909T134836Z
LAST-MODIFIED:20230909T134836Z
UID:10006291-1694458800-1694469600@www.springcreekoaks.org
SUMMARY:CH 2 courts 1-6\, NHTA A2
DESCRIPTION:
URL:https://www.springcreekoaks.org/reservations/ch-2-courts-1-6-nhta-a2-3/2023-09-11/
CATEGORIES:Tennis
END:VEVENT
BEGIN:VEVENT
DTSTART;TZID=America/Chicago:20230912T080000
DTEND;TZID=America/Chicago:20230912T100000
DTSTAMP:20260425T110132
CREATED:20230910T221229Z
LAST-MODIFIED:20230910T221229Z
UID:10006304-1694505600-1694512800@www.springcreekoaks.org
SUMMARY:CH 2 court 3\, Lopez
DESCRIPTION:
URL:https://www.springcreekoaks.org/reservations/ch-2-court-3-lopez-36/
CATEGORIES:Tennis
END:VEVENT
BEGIN:VEVENT
DTSTART;TZID=America/Chicago:20230912T090000
DTEND;TZID=America/Chicago:20230912T100000
DTSTAMP:20260425T110132
CREATED:20230814T131725Z
LAST-MODIFIED:20230814T131725Z
UID:10005898-1694509200-1694512800@www.springcreekoaks.org
SUMMARY:Kuehnle courts 3-4\, beginner Homeschool class
DESCRIPTION:
URL:https://www.springcreekoaks.org/reservations/kuehnle-courts-3-4-beginner-homeschool-class/2023-09-12/
CATEGORIES:Tennis
END:VEVENT
BEGIN:VEVENT
DTSTART;TZID=America/Chicago:20230912T090000
DTEND;TZID=America/Chicago:20230912T120000
DTSTAMP:20260425T110132
CREATED:20230819T184258Z
LAST-MODIFIED:20230907T224414Z
UID:10006108-1694509200-1694520000@www.springcreekoaks.org
SUMMARY:CH 1 courts 2-3\, Palmer
DESCRIPTION:
URL:https://www.springcreekoaks.org/reservations/ch-1-courts-2-3-pickleball-meet-and-greet-6/2023-09-12/
CATEGORIES:Tennis
END:VEVENT
BEGIN:VEVENT
DTSTART;TZID=America/Chicago:20230912T090000
DTEND;TZID=America/Chicago:20230912T120000
DTSTAMP:20260425T110132
CREATED:20230907T224932Z
LAST-MODIFIED:20230907T224932Z
UID:10006259-1694509200-1694520000@www.springcreekoaks.org
SUMMARY:CH 1 court 1\, Pickleball meet and greet
DESCRIPTION:
URL:https://www.springcreekoaks.org/reservations/ch-1-court-1-pickleball-meet-and-greet-2/2023-09-12/
CATEGORIES:Tennis
END:VEVENT
BEGIN:VEVENT
DTSTART;TZID=America/Chicago:20230912T100000
DTEND;TZID=America/Chicago:20230912T110000
DTSTAMP:20260425T110132
CREATED:20230814T131902Z
LAST-MODIFIED:20230814T131902Z
UID:10005917-1694512800-1694516400@www.springcreekoaks.org
SUMMARY:Kuehnle courts 3-4\, intermediate homeschool class
DESCRIPTION:
URL:https://www.springcreekoaks.org/reservations/kuehnle-courts-3-4-intermediate-homeschool-class/2023-09-12/
CATEGORIES:Tennis
END:VEVENT
BEGIN:VEVENT
DTSTART;TZID=America/Chicago:20230912T160000
DTEND;TZID=America/Chicago:20230912T170000
DTSTAMP:20260425T110132
CREATED:20230814T132041Z
LAST-MODIFIED:20230814T132041Z
UID:10005936-1694534400-1694538000@www.springcreekoaks.org
SUMMARY:Kuehnle courts 3-4\, Red ball class
DESCRIPTION:
URL:https://www.springcreekoaks.org/reservations/kuehnle-courts-3-4-red-ball-class/2023-09-12/
CATEGORIES:Tennis
END:VEVENT
BEGIN:VEVENT
DTSTART;TZID=America/Chicago:20230912T170000
DTEND;TZID=America/Chicago:20230912T180000
DTSTAMP:20260425T110132
CREATED:20230814T132206Z
LAST-MODIFIED:20230814T132206Z
UID:10005955-1694538000-1694541600@www.springcreekoaks.org
SUMMARY:Kuehnle courts 3-4\, Green ball class
DESCRIPTION:
URL:https://www.springcreekoaks.org/reservations/kuehnle-courts-3-4-green-ball-class/2023-09-12/
CATEGORIES:Tennis
END:VEVENT
BEGIN:VEVENT
DTSTART;TZID=America/Chicago:20230912T180000
DTEND;TZID=America/Chicago:20230912T193000
DTSTAMP:20260425T110132
CREATED:20230814T132345Z
LAST-MODIFIED:20230814T132345Z
UID:10005974-1694541600-1694547000@www.springcreekoaks.org
SUMMARY:Kuehnle courts 3-4\, Yellow ball class
DESCRIPTION:
URL:https://www.springcreekoaks.org/reservations/kuehnle-courts-3-4-yellow-ball-class-2/2023-09-12/
CATEGORIES:Tennis
END:VEVENT
BEGIN:VEVENT
DTSTART;TZID=America/Chicago:20230912T180000
DTEND;TZID=America/Chicago:20230912T220000
DTSTAMP:20260425T110132
CREATED:20230830T121940Z
LAST-MODIFIED:20230915T171226Z
UID:10006208-1694541600-1694556000@www.springcreekoaks.org
SUMMARY:CH 1\, courts 2-3\, Junek
DESCRIPTION:
URL:https://www.springcreekoaks.org/reservations/ch-1-courts-2-3-junek/2023-09-12/
CATEGORIES:Tennis
END:VEVENT
BEGIN:VEVENT
DTSTART;TZID=America/Chicago:20230912T190000
DTEND;TZID=America/Chicago:20230912T220000
DTSTAMP:20260425T110132
CREATED:20230906T230110Z
LAST-MODIFIED:20231031T181323Z
UID:10006237-1694545200-1694556000@www.springcreekoaks.org
SUMMARY:CH 2 courts 1-6\, men’s league Vross
DESCRIPTION:
URL:https://www.springcreekoaks.org/reservations/ch-2-courts-1-6-mens-league-vross-3/2023-09-12/
CATEGORIES:Tennis
END:VEVENT
BEGIN:VEVENT
DTSTART;TZID=America/Chicago:20230913T090000
DTEND;TZID=America/Chicago:20230913T100000
DTSTAMP:20260425T110132
CREATED:20230814T132524Z
LAST-MODIFIED:20230814T132524Z
UID:10005993-1694595600-1694599200@www.springcreekoaks.org
SUMMARY:Kuehnle courts 3-4\, intermediate homeschool class
DESCRIPTION:
URL:https://www.springcreekoaks.org/reservations/kuehnle-courts-3-4-intermediate-homeschool-class-2/2023-09-13/
CATEGORIES:Tennis
END:VEVENT
BEGIN:VEVENT
DTSTART;TZID=America/Chicago:20230913T090000
DTEND;TZID=America/Chicago:20230913T120000
DTSTAMP:20260425T110132
CREATED:20221227T222834Z
LAST-MODIFIED:20221227T222834Z
UID:10005244-1694595600-1694606400@www.springcreekoaks.org
SUMMARY:CH 1 courts 2-3\, Hudson
DESCRIPTION:
URL:https://www.springcreekoaks.org/reservations/ch-1-courts-2-3-hudson/2023-09-13/
CATEGORIES:Tennis
END:VEVENT
BEGIN:VEVENT
DTSTART;TZID=America/Chicago:20230913T170000
DTEND;TZID=America/Chicago:20230913T180000
DTSTAMP:20260425T110132
CREATED:20230814T132653Z
LAST-MODIFIED:20230814T132653Z
UID:10006012-1694624400-1694628000@www.springcreekoaks.org
SUMMARY:Kuehnle courts 3-4\, Orange ball class
DESCRIPTION:
URL:https://www.springcreekoaks.org/reservations/kuehnle-courts-3-4-orange-ball-class-2/2023-09-13/
CATEGORIES:Tennis
END:VEVENT
BEGIN:VEVENT
DTSTART;TZID=America/Chicago:20230913T180000
DTEND;TZID=America/Chicago:20230913T190000
DTSTAMP:20260425T110132
CREATED:20230814T132829Z
LAST-MODIFIED:20230814T132829Z
UID:10006031-1694628000-1694631600@www.springcreekoaks.org
SUMMARY:Kuehnle courts 3-4\, Yellow ball class
DESCRIPTION:
URL:https://www.springcreekoaks.org/reservations/kuehnle-courts-3-4-yellow-ball-class-3/2023-09-13/
CATEGORIES:Tennis
END:VEVENT
BEGIN:VEVENT
DTSTART;TZID=America/Chicago:20230914T083000
DTEND;TZID=America/Chicago:20230914T120000
DTSTAMP:20260425T110132
CREATED:20230823T105540Z
LAST-MODIFIED:20230823T105615Z
UID:10006160-1694680200-1694692800@www.springcreekoaks.org
SUMMARY:Kuehnle courts 1-4\, NW A1
DESCRIPTION:
URL:https://www.springcreekoaks.org/reservations/kuehnle-courts-1-4-nw-a1-2/2023-09-14/
CATEGORIES:Tennis
END:VEVENT
BEGIN:VEVENT
DTSTART;TZID=America/Chicago:20230914T090000
DTEND;TZID=America/Chicago:20230914T110000
DTSTAMP:20260425T110132
CREATED:20230821T190909Z
LAST-MODIFIED:20230821T190909Z
UID:10006156-1694682000-1694689200@www.springcreekoaks.org
SUMMARY:CH 2 courts 1-3\, Honeschool classes
DESCRIPTION:
URL:https://www.springcreekoaks.org/reservations/ch-2-courts-1-3-honeschool-classes/2023-09-14/
CATEGORIES:Tennis
END:VEVENT
BEGIN:VEVENT
DTSTART;TZID=America/Chicago:20230914T090000
DTEND;TZID=America/Chicago:20230914T120000
DTSTAMP:20260425T110132
CREATED:20230819T184409Z
LAST-MODIFIED:20230907T224257Z
UID:10006125-1694682000-1694692800@www.springcreekoaks.org
SUMMARY:CH 1 courts 2-3\, Palmer
DESCRIPTION:
URL:https://www.springcreekoaks.org/reservations/ch-1-courts-2-3-pickleball-meet-and-greet-7/2023-09-14/
CATEGORIES:Tennis
END:VEVENT
BEGIN:VEVENT
DTSTART;TZID=America/Chicago:20230914T090000
DTEND;TZID=America/Chicago:20230914T120000
DTSTAMP:20260425T110132
CREATED:20230907T225043Z
LAST-MODIFIED:20230907T225043Z
UID:10006275-1694682000-1694692800@www.springcreekoaks.org
SUMMARY:CH 1 court 1\, Pickleball meet and greet
DESCRIPTION:
URL:https://www.springcreekoaks.org/reservations/ch-1-court-1-pickleball-meet-and-greet-3/2023-09-14/
CATEGORIES:Tennis
END:VEVENT
BEGIN:VEVENT
DTSTART;TZID=America/Chicago:20230914T170000
DTEND;TZID=America/Chicago:20230914T180000
DTSTAMP:20260425T110132
CREATED:20230814T132947Z
LAST-MODIFIED:20230814T132947Z
UID:10006050-1694710800-1694714400@www.springcreekoaks.org
SUMMARY:Kuehnle courts 3-4\, Orange ball class
DESCRIPTION:
URL:https://www.springcreekoaks.org/reservations/kuehnle-courts-3-4-orange-ball-class-3/2023-09-14/
CATEGORIES:Tennis
END:VEVENT
BEGIN:VEVENT
DTSTART;TZID=America/Chicago:20230914T180000
DTEND;TZID=America/Chicago:20230914T193000
DTSTAMP:20260425T110132
CREATED:20230814T133101Z
LAST-MODIFIED:20230814T133101Z
UID:10006069-1694714400-1694719800@www.springcreekoaks.org
SUMMARY:Kuehnle courts 3-4\, Yellow ball class
DESCRIPTION:
URL:https://www.springcreekoaks.org/reservations/kuehnle-courts-3-4-yellow-ball-class-4/2023-09-14/
CATEGORIES:Tennis
END:VEVENT
BEGIN:VEVENT
DTSTART;TZID=America/Chicago:20230914T193000
DTEND;TZID=America/Chicago:20230914T220000
DTSTAMP:20260425T110132
CREATED:20230911T200317Z
LAST-MODIFIED:20230911T200317Z
UID:10003637-1694719800-1694728800@www.springcreekoaks.org
SUMMARY:CH 1 courts 2-3 (Pickleball)\, Guzman
DESCRIPTION:
URL:https://www.springcreekoaks.org/reservations/ch-1-courts-2-3-pickleball-guzman/2023-09-14/
CATEGORIES:Tennis
END:VEVENT
BEGIN:VEVENT
DTSTART;TZID=America/Chicago:20230915T083000
DTEND;TZID=America/Chicago:20230915T120000
DTSTAMP:20260425T110132
CREATED:20230823T110144Z
LAST-MODIFIED:20230823T110144Z
UID:10006168-1694766600-1694779200@www.springcreekoaks.org
SUMMARY:CH 2 courts 1-4\, JR B3
DESCRIPTION:
URL:https://www.springcreekoaks.org/reservations/ch-2-courts-1-4-jr-b3-2/2023-09-15/
CATEGORIES:Tennis
END:VEVENT
BEGIN:VEVENT
DTSTART;TZID=America/Chicago:20230915T180000
DTEND;TZID=America/Chicago:20230915T190000
DTSTAMP:20260425T110132
CREATED:20230814T133222Z
LAST-MODIFIED:20230814T133222Z
UID:10006088-1694800800-1694804400@www.springcreekoaks.org
SUMMARY:Kuehnle courts 3-4\, Yellow ball class
DESCRIPTION:
URL:https://www.springcreekoaks.org/reservations/kuehnle-courts-3-4-yellow-ball-class-5/2023-09-15/
CATEGORIES:Tennis
END:VEVENT
END:VCALENDAR