BEGIN:VCALENDAR
VERSION:2.0
PRODID:-//Spring Creek Oaks - ECPv6.15.20//NONSGML v1.0//EN
CALSCALE:GREGORIAN
METHOD:PUBLISH
X-WR-CALNAME:Spring Creek Oaks
X-ORIGINAL-URL:https://www.springcreekoaks.org
X-WR-CALDESC:Events for Spring Creek Oaks
REFRESH-INTERVAL;VALUE=DURATION:PT1H
X-Robots-Tag:noindex
X-PUBLISHED-TTL:PT1H
BEGIN:VTIMEZONE
TZID:America/Chicago
BEGIN:DAYLIGHT
TZOFFSETFROM:-0600
TZOFFSETTO:-0500
TZNAME:CDT
DTSTART:20220313T080000
END:DAYLIGHT
BEGIN:STANDARD
TZOFFSETFROM:-0500
TZOFFSETTO:-0600
TZNAME:CST
DTSTART:20221106T070000
END:STANDARD
BEGIN:DAYLIGHT
TZOFFSETFROM:-0600
TZOFFSETTO:-0500
TZNAME:CDT
DTSTART:20230312T080000
END:DAYLIGHT
BEGIN:STANDARD
TZOFFSETFROM:-0500
TZOFFSETTO:-0600
TZNAME:CST
DTSTART:20231105T070000
END:STANDARD
BEGIN:DAYLIGHT
TZOFFSETFROM:-0600
TZOFFSETTO:-0500
TZNAME:CDT
DTSTART:20240310T080000
END:DAYLIGHT
BEGIN:STANDARD
TZOFFSETFROM:-0500
TZOFFSETTO:-0600
TZNAME:CST
DTSTART:20241103T070000
END:STANDARD
END:VTIMEZONE
BEGIN:VEVENT
DTSTART;TZID=America/Chicago:20230828T073000
DTEND;TZID=America/Chicago:20230828T100000
DTSTAMP:20260425T065839
CREATED:20230827T213100Z
LAST-MODIFIED:20230827T213100Z
UID:10003623-1693207800-1693216800@www.springcreekoaks.org
SUMMARY:Kuehnle court 2\, Lopez
DESCRIPTION:
URL:https://www.springcreekoaks.org/reservations/kuehnle-court-2-lopez-18/
CATEGORIES:Tennis
END:VEVENT
BEGIN:VEVENT
DTSTART;TZID=America/Chicago:20230828T083000
DTEND;TZID=America/Chicago:20230828T100000
DTSTAMP:20260425T065839
CREATED:20230814T130951Z
LAST-MODIFIED:20230814T130951Z
UID:10003567-1693211400-1693216800@www.springcreekoaks.org
SUMMARY:Kuehnle courts 3-4\, Ladies open drill\, tennis pro Danny
DESCRIPTION:
URL:https://www.springcreekoaks.org/reservations/kuehnle-courts-3-4-ladies-open-drill-tennis-pro-danny/2023-08-28/
CATEGORIES:Tennis
END:VEVENT
BEGIN:VEVENT
DTSTART;TZID=America/Chicago:20230828T083000
DTEND;TZID=America/Chicago:20230828T120000
DTSTAMP:20260425T065839
CREATED:20230823T105349Z
LAST-MODIFIED:20230823T105349Z
UID:10006103-1693211400-1693224000@www.springcreekoaks.org
SUMMARY:CH 2 courts 1-4\, HLTA Champ 2 North
DESCRIPTION:
URL:https://www.springcreekoaks.org/reservations/ch-2-courts-1-4-hlta-champ-2-north-4/2023-08-28/
CATEGORIES:Tennis
END:VEVENT
BEGIN:VEVENT
DTSTART;TZID=America/Chicago:20230828T100000
DTEND;TZID=America/Chicago:20230828T110000
DTSTAMP:20260425T065839
CREATED:20230814T131112Z
LAST-MODIFIED:20230814T131112Z
UID:10005820-1693216800-1693220400@www.springcreekoaks.org
SUMMARY:Kuehnle courts 3-4\, Intermediate Home School class
DESCRIPTION:
URL:https://www.springcreekoaks.org/reservations/kuehnle-courts-3-4-intermediate-home-school-class/2023-08-28/
CATEGORIES:Tennis
END:VEVENT
BEGIN:VEVENT
DTSTART;TZID=America/Chicago:20230828T170000
DTEND;TZID=America/Chicago:20230828T180000
DTSTAMP:20260425T065839
CREATED:20230814T131224Z
LAST-MODIFIED:20230814T131224Z
UID:10005839-1693242000-1693245600@www.springcreekoaks.org
SUMMARY:Kuehnle courts 3-4\, Orange ball class
DESCRIPTION:
URL:https://www.springcreekoaks.org/reservations/kuehnle-courts-3-4-orange-ball-class/2023-08-28/
CATEGORIES:Tennis
END:VEVENT
BEGIN:VEVENT
DTSTART;TZID=America/Chicago:20230828T180000
DTEND;TZID=America/Chicago:20230828T190000
DTSTAMP:20260425T065839
CREATED:20230814T131344Z
LAST-MODIFIED:20230814T131344Z
UID:10005858-1693245600-1693249200@www.springcreekoaks.org
SUMMARY:Kuehnle courts 3-4\, Yellow ball class
DESCRIPTION:
URL:https://www.springcreekoaks.org/reservations/kuehnle-courts-3-4-yellow-ball-class/2023-08-28/
CATEGORIES:Tennis
END:VEVENT
BEGIN:VEVENT
DTSTART;TZID=America/Chicago:20230828T190000
DTEND;TZID=America/Chicago:20230828T200000
DTSTAMP:20260425T065839
CREATED:20230814T131523Z
LAST-MODIFIED:20230814T131523Z
UID:10005877-1693249200-1693252800@www.springcreekoaks.org
SUMMARY:Kuehnle courts 3-4\, Adult drop-in drill\, all levels
DESCRIPTION:
URL:https://www.springcreekoaks.org/reservations/kuehnle-courts-3-4-adult-drop-in-drill-all-levels/2023-08-28/
CATEGORIES:Tennis
END:VEVENT
BEGIN:VEVENT
DTSTART;TZID=America/Chicago:20230829T090000
DTEND;TZID=America/Chicago:20230829T100000
DTSTAMP:20260425T065839
CREATED:20230814T131725Z
LAST-MODIFIED:20230814T131725Z
UID:10005896-1693299600-1693303200@www.springcreekoaks.org
SUMMARY:Kuehnle courts 3-4\, beginner Homeschool class
DESCRIPTION:
URL:https://www.springcreekoaks.org/reservations/kuehnle-courts-3-4-beginner-homeschool-class/2023-08-29/
CATEGORIES:Tennis
END:VEVENT
BEGIN:VEVENT
DTSTART;TZID=America/Chicago:20230829T090000
DTEND;TZID=America/Chicago:20230829T120000
DTSTAMP:20260425T065839
CREATED:20230613T170851Z
LAST-MODIFIED:20230613T170851Z
UID:10002463-1693299600-1693310400@www.springcreekoaks.org
SUMMARY:CH 1 courts 2-3\, Pickleball meet and greet
DESCRIPTION:
URL:https://www.springcreekoaks.org/reservations/ch-1-courts-2-3-pickleball-meet-and-greet-4/2023-08-29/
CATEGORIES:Tennis
END:VEVENT
BEGIN:VEVENT
DTSTART;TZID=America/Chicago:20230829T100000
DTEND;TZID=America/Chicago:20230829T110000
DTSTAMP:20260425T065839
CREATED:20230814T131902Z
LAST-MODIFIED:20230814T131902Z
UID:10005915-1693303200-1693306800@www.springcreekoaks.org
SUMMARY:Kuehnle courts 3-4\, intermediate homeschool class
DESCRIPTION:
URL:https://www.springcreekoaks.org/reservations/kuehnle-courts-3-4-intermediate-homeschool-class/2023-08-29/
CATEGORIES:Tennis
END:VEVENT
BEGIN:VEVENT
DTSTART;TZID=America/Chicago:20230829T160000
DTEND;TZID=America/Chicago:20230829T170000
DTSTAMP:20260425T065839
CREATED:20230814T132041Z
LAST-MODIFIED:20230814T132041Z
UID:10005934-1693324800-1693328400@www.springcreekoaks.org
SUMMARY:Kuehnle courts 3-4\, Red ball class
DESCRIPTION:
URL:https://www.springcreekoaks.org/reservations/kuehnle-courts-3-4-red-ball-class/2023-08-29/
CATEGORIES:Tennis
END:VEVENT
BEGIN:VEVENT
DTSTART;TZID=America/Chicago:20230829T170000
DTEND;TZID=America/Chicago:20230829T180000
DTSTAMP:20260425T065839
CREATED:20230814T132206Z
LAST-MODIFIED:20230814T132206Z
UID:10005953-1693328400-1693332000@www.springcreekoaks.org
SUMMARY:Kuehnle courts 3-4\, Green ball class
DESCRIPTION:
URL:https://www.springcreekoaks.org/reservations/kuehnle-courts-3-4-green-ball-class/2023-08-29/
CATEGORIES:Tennis
END:VEVENT
BEGIN:VEVENT
DTSTART;TZID=America/Chicago:20230829T180000
DTEND;TZID=America/Chicago:20230829T193000
DTSTAMP:20260425T065839
CREATED:20230814T132345Z
LAST-MODIFIED:20230814T132345Z
UID:10005972-1693332000-1693337400@www.springcreekoaks.org
SUMMARY:Kuehnle courts 3-4\, Yellow ball class
DESCRIPTION:
URL:https://www.springcreekoaks.org/reservations/kuehnle-courts-3-4-yellow-ball-class-2/2023-08-29/
CATEGORIES:Tennis
END:VEVENT
BEGIN:VEVENT
DTSTART;TZID=America/Chicago:20230829T180000
DTEND;TZID=America/Chicago:20230829T220000
DTSTAMP:20260425T065839
CREATED:20230705T165857Z
LAST-MODIFIED:20230705T165857Z
UID:10001214-1693332000-1693346400@www.springcreekoaks.org
SUMMARY:CH 1 courts 2-3 (pickleball)\, Junek
DESCRIPTION:
URL:https://www.springcreekoaks.org/reservations/ch-1-courts-2-3-pickleball-junek/
CATEGORIES:Tennis
END:VEVENT
BEGIN:VEVENT
DTSTART;TZID=America/Chicago:20230830T090000
DTEND;TZID=America/Chicago:20230830T100000
DTSTAMP:20260425T065839
CREATED:20230814T132524Z
LAST-MODIFIED:20230814T132524Z
UID:10005991-1693386000-1693389600@www.springcreekoaks.org
SUMMARY:Kuehnle courts 3-4\, intermediate homeschool class
DESCRIPTION:
URL:https://www.springcreekoaks.org/reservations/kuehnle-courts-3-4-intermediate-homeschool-class-2/2023-08-30/
CATEGORIES:Tennis
END:VEVENT
BEGIN:VEVENT
DTSTART;TZID=America/Chicago:20230830T090000
DTEND;TZID=America/Chicago:20230830T120000
DTSTAMP:20260425T065839
CREATED:20221227T222834Z
LAST-MODIFIED:20221227T222834Z
UID:10005242-1693386000-1693396800@www.springcreekoaks.org
SUMMARY:CH 1 courts 2-3\, Hudson
DESCRIPTION:
URL:https://www.springcreekoaks.org/reservations/ch-1-courts-2-3-hudson/2023-08-30/
CATEGORIES:Tennis
END:VEVENT
BEGIN:VEVENT
DTSTART;TZID=America/Chicago:20230830T170000
DTEND;TZID=America/Chicago:20230830T180000
DTSTAMP:20260425T065839
CREATED:20230814T132653Z
LAST-MODIFIED:20230814T132653Z
UID:10006010-1693414800-1693418400@www.springcreekoaks.org
SUMMARY:Kuehnle courts 3-4\, Orange ball class
DESCRIPTION:
URL:https://www.springcreekoaks.org/reservations/kuehnle-courts-3-4-orange-ball-class-2/2023-08-30/
CATEGORIES:Tennis
END:VEVENT
BEGIN:VEVENT
DTSTART;TZID=America/Chicago:20230830T180000
DTEND;TZID=America/Chicago:20230830T190000
DTSTAMP:20260425T065839
CREATED:20230814T132829Z
LAST-MODIFIED:20230814T132829Z
UID:10006029-1693418400-1693422000@www.springcreekoaks.org
SUMMARY:Kuehnle courts 3-4\, Yellow ball class
DESCRIPTION:
URL:https://www.springcreekoaks.org/reservations/kuehnle-courts-3-4-yellow-ball-class-3/2023-08-30/
CATEGORIES:Tennis
END:VEVENT
BEGIN:VEVENT
DTSTART;TZID=America/Chicago:20230831T090000
DTEND;TZID=America/Chicago:20230831T110000
DTSTAMP:20260425T065839
CREATED:20230821T190602Z
LAST-MODIFIED:20230821T190602Z
UID:10006143-1693472400-1693479600@www.springcreekoaks.org
SUMMARY:Kuehnle courts 3-4\, Homeschool classes
DESCRIPTION:
URL:https://www.springcreekoaks.org/reservations/kuehnle-courts-3-4-homeschool-classes/2023-08-31/
CATEGORIES:Tennis
END:VEVENT
BEGIN:VEVENT
DTSTART;TZID=America/Chicago:20230831T090000
DTEND;TZID=America/Chicago:20230831T120000
DTSTAMP:20260425T065839
CREATED:20240109T174945Z
LAST-MODIFIED:20240109T174945Z
UID:10002476-1693472400-1693483200@www.springcreekoaks.org
SUMMARY:CH 1 courts 2-3\, Pickleball meet and greet
DESCRIPTION:
URL:https://www.springcreekoaks.org/reservations/ch-1-courts-2-3-pickleball-meet-and-greet-4/2023-08-31/
CATEGORIES:Tennis
END:VEVENT
BEGIN:VEVENT
DTSTART;TZID=America/Chicago:20230831T170000
DTEND;TZID=America/Chicago:20230831T180000
DTSTAMP:20260425T065839
CREATED:20230814T132947Z
LAST-MODIFIED:20230814T132947Z
UID:10006048-1693501200-1693504800@www.springcreekoaks.org
SUMMARY:Kuehnle courts 3-4\, Orange ball class
DESCRIPTION:
URL:https://www.springcreekoaks.org/reservations/kuehnle-courts-3-4-orange-ball-class-3/2023-08-31/
CATEGORIES:Tennis
END:VEVENT
BEGIN:VEVENT
DTSTART;TZID=America/Chicago:20230831T180000
DTEND;TZID=America/Chicago:20230831T193000
DTSTAMP:20260425T065839
CREATED:20230814T133101Z
LAST-MODIFIED:20230814T133101Z
UID:10006067-1693504800-1693510200@www.springcreekoaks.org
SUMMARY:Kuehnle courts 3-4\, Yellow ball class
DESCRIPTION:
URL:https://www.springcreekoaks.org/reservations/kuehnle-courts-3-4-yellow-ball-class-4/2023-08-31/
CATEGORIES:Tennis
END:VEVENT
BEGIN:VEVENT
DTSTART;TZID=America/Chicago:20230901T083000
DTEND;TZID=America/Chicago:20230901T120000
DTSTAMP:20260425T065839
CREATED:20230502T065145Z
LAST-MODIFIED:20230502T065145Z
UID:10002889-1693557000-1693569600@www.springcreekoaks.org
SUMMARY:CH 2 courts 1 and 3\, Lopez
DESCRIPTION:
URL:https://www.springcreekoaks.org/reservations/ch-2-courts-1-and-3-lopez-2/2023-09-01/
CATEGORIES:Tennis
END:VEVENT
BEGIN:VEVENT
DTSTART;TZID=America/Chicago:20230901T180000
DTEND;TZID=America/Chicago:20230901T190000
DTSTAMP:20260425T065839
CREATED:20230814T133222Z
LAST-MODIFIED:20230814T133222Z
UID:10006086-1693591200-1693594800@www.springcreekoaks.org
SUMMARY:Kuehnle courts 3-4\, Yellow ball class
DESCRIPTION:
URL:https://www.springcreekoaks.org/reservations/kuehnle-courts-3-4-yellow-ball-class-5/2023-09-01/
CATEGORIES:Tennis
END:VEVENT
BEGIN:VEVENT
DTSTART;TZID=America/Chicago:20230902T090000
DTEND;TZID=America/Chicago:20230902T120000
DTSTAMP:20260425T065839
CREATED:20230819T184138Z
LAST-MODIFIED:20230907T224528Z
UID:10003405-1693645200-1693656000@www.springcreekoaks.org
SUMMARY:CH 1 courts 2-3\, Palmer
DESCRIPTION:
URL:https://www.springcreekoaks.org/reservations/ch-1-courts-2-3-pickleball-meet-and-greet-5/2023-09-02/
CATEGORIES:Tennis
END:VEVENT
END:VCALENDAR