BEGIN:VCALENDAR
VERSION:2.0
PRODID:-//Spring Creek Oaks - ECPv6.15.20//NONSGML v1.0//EN
CALSCALE:GREGORIAN
METHOD:PUBLISH
X-WR-CALNAME:Spring Creek Oaks
X-ORIGINAL-URL:https://www.springcreekoaks.org
X-WR-CALDESC:Events for Spring Creek Oaks
REFRESH-INTERVAL;VALUE=DURATION:PT1H
X-Robots-Tag:noindex
X-PUBLISHED-TTL:PT1H
BEGIN:VTIMEZONE
TZID:America/Chicago
BEGIN:DAYLIGHT
TZOFFSETFROM:-0600
TZOFFSETTO:-0500
TZNAME:CDT
DTSTART:20220313T080000
END:DAYLIGHT
BEGIN:STANDARD
TZOFFSETFROM:-0500
TZOFFSETTO:-0600
TZNAME:CST
DTSTART:20221106T070000
END:STANDARD
BEGIN:DAYLIGHT
TZOFFSETFROM:-0600
TZOFFSETTO:-0500
TZNAME:CDT
DTSTART:20230312T080000
END:DAYLIGHT
BEGIN:STANDARD
TZOFFSETFROM:-0500
TZOFFSETTO:-0600
TZNAME:CST
DTSTART:20231105T070000
END:STANDARD
BEGIN:DAYLIGHT
TZOFFSETFROM:-0600
TZOFFSETTO:-0500
TZNAME:CDT
DTSTART:20240310T080000
END:DAYLIGHT
BEGIN:STANDARD
TZOFFSETFROM:-0500
TZOFFSETTO:-0600
TZNAME:CST
DTSTART:20241103T070000
END:STANDARD
END:VTIMEZONE
BEGIN:VEVENT
DTSTART;TZID=America/Chicago:20230626T093000
DTEND;TZID=America/Chicago:20230626T113000
DTSTAMP:20260425T193517
CREATED:20230330T021800Z
LAST-MODIFIED:20230330T021800Z
UID:10002893-1687771800-1687779000@www.springcreekoaks.org
SUMMARY:CH 2 courts 1-3\, Coach Danny tennis camp
DESCRIPTION:
URL:https://www.springcreekoaks.org/reservations/ch-2-courts-1-3-coach-danny-tennis-camp-5/2023-06-26/
CATEGORIES:Tennis
END:VEVENT
BEGIN:VEVENT
DTSTART;TZID=America/Chicago:20230627T090000
DTEND;TZID=America/Chicago:20230627T120000
DTSTAMP:20260425T193517
CREATED:20230613T170851Z
LAST-MODIFIED:20230613T170851Z
UID:10002454-1687856400-1687867200@www.springcreekoaks.org
SUMMARY:CH 1 courts 2-3\, Pickleball meet and greet
DESCRIPTION:
URL:https://www.springcreekoaks.org/reservations/ch-1-courts-2-3-pickleball-meet-and-greet-4/2023-06-27/
CATEGORIES:Tennis
END:VEVENT
BEGIN:VEVENT
DTSTART;TZID=America/Chicago:20230627T093000
DTEND;TZID=America/Chicago:20230627T113000
DTSTAMP:20260425T193517
CREATED:20230330T021800Z
LAST-MODIFIED:20230330T021800Z
UID:10002894-1687858200-1687865400@www.springcreekoaks.org
SUMMARY:CH 2 courts 1-3\, Coach Danny tennis camp
DESCRIPTION:
URL:https://www.springcreekoaks.org/reservations/ch-2-courts-1-3-coach-danny-tennis-camp-5/2023-06-27/
CATEGORIES:Tennis
END:VEVENT
BEGIN:VEVENT
DTSTART;TZID=America/Chicago:20230628T073000
DTEND;TZID=America/Chicago:20230628T103000
DTSTAMP:20260425T193517
CREATED:20230612T174857Z
LAST-MODIFIED:20230612T174857Z
UID:10002390-1687937400-1687948200@www.springcreekoaks.org
SUMMARY:Ch 2 court 6\, Lopez
DESCRIPTION:
URL:https://www.springcreekoaks.org/reservations/ch-2-court-6-lopez-7/2023-06-28/
CATEGORIES:Tennis
END:VEVENT
BEGIN:VEVENT
DTSTART;TZID=America/Chicago:20230628T090000
DTEND;TZID=America/Chicago:20230628T120000
DTSTAMP:20260425T193517
CREATED:20221227T222834Z
LAST-MODIFIED:20221227T222834Z
UID:10005233-1687942800-1687953600@www.springcreekoaks.org
SUMMARY:CH 1 courts 2-3\, Hudson
DESCRIPTION:
URL:https://www.springcreekoaks.org/reservations/ch-1-courts-2-3-hudson/2023-06-28/
CATEGORIES:Tennis
END:VEVENT
BEGIN:VEVENT
DTSTART;TZID=America/Chicago:20230628T093000
DTEND;TZID=America/Chicago:20230628T113000
DTSTAMP:20260425T193518
CREATED:20230330T021800Z
LAST-MODIFIED:20230330T021800Z
UID:10002895-1687944600-1687951800@www.springcreekoaks.org
SUMMARY:CH 2 courts 1-3\, Coach Danny tennis camp
DESCRIPTION:
URL:https://www.springcreekoaks.org/reservations/ch-2-courts-1-3-coach-danny-tennis-camp-5/2023-06-28/
CATEGORIES:Tennis
END:VEVENT
BEGIN:VEVENT
DTSTART;TZID=America/Chicago:20230629T090000
DTEND;TZID=America/Chicago:20230629T120000
DTSTAMP:20260425T193518
CREATED:20240109T174945Z
LAST-MODIFIED:20240109T174945Z
UID:10002467-1688029200-1688040000@www.springcreekoaks.org
SUMMARY:CH 1 courts 2-3\, Pickleball meet and greet
DESCRIPTION:
URL:https://www.springcreekoaks.org/reservations/ch-1-courts-2-3-pickleball-meet-and-greet-4/2023-06-29/
CATEGORIES:Tennis
END:VEVENT
BEGIN:VEVENT
DTSTART;TZID=America/Chicago:20230629T093000
DTEND;TZID=America/Chicago:20230629T113000
DTSTAMP:20260425T193518
CREATED:20230330T021800Z
LAST-MODIFIED:20230330T021800Z
UID:10002896-1688031000-1688038200@www.springcreekoaks.org
SUMMARY:CH 2 courts 1-3\, Coach Danny tennis camp
DESCRIPTION:
URL:https://www.springcreekoaks.org/reservations/ch-2-courts-1-3-coach-danny-tennis-camp-5/2023-06-29/
CATEGORIES:Tennis
END:VEVENT
BEGIN:VEVENT
DTSTART;TZID=America/Chicago:20230630T083000
DTEND;TZID=America/Chicago:20230630T120000
DTSTAMP:20260425T193518
CREATED:20230502T144720Z
LAST-MODIFIED:20230510T180844Z
UID:10002939-1688113800-1688126400@www.springcreekoaks.org
SUMMARY:CH 2 courts 4 and 6\, Lopez
DESCRIPTION:
URL:https://www.springcreekoaks.org/reservations/ch-2-courts-4-and-6-lopez-2023-06-09/2023-06-30/
CATEGORIES:Tennis
END:VEVENT
BEGIN:VEVENT
DTSTART;TZID=America/Chicago:20230630T093000
DTEND;TZID=America/Chicago:20230630T113000
DTSTAMP:20260425T193518
CREATED:20230330T021800Z
LAST-MODIFIED:20230330T021800Z
UID:10002897-1688117400-1688124600@www.springcreekoaks.org
SUMMARY:CH 2 courts 1-3\, Coach Danny tennis camp
DESCRIPTION:
URL:https://www.springcreekoaks.org/reservations/ch-2-courts-1-3-coach-danny-tennis-camp-5/2023-06-30/
CATEGORIES:Tennis
END:VEVENT
BEGIN:VEVENT
DTSTART;TZID=America/Chicago:20230701T090000
DTEND;TZID=America/Chicago:20230701T120000
DTSTAMP:20260425T193518
CREATED:20240109T174947Z
LAST-MODIFIED:20240109T174947Z
UID:10002487-1688202000-1688212800@www.springcreekoaks.org
SUMMARY:CH 1 courts 2-3\, Pickleball meet and greet
DESCRIPTION:
URL:https://www.springcreekoaks.org/reservations/ch-1-courts-2-3-pickleball-meet-and-greet-4/2023-07-01/
CATEGORIES:Tennis
END:VEVENT
END:VCALENDAR