BEGIN:VCALENDAR
VERSION:2.0
PRODID:-//Spring Creek Oaks - ECPv6.15.20//NONSGML v1.0//EN
CALSCALE:GREGORIAN
METHOD:PUBLISH
X-ORIGINAL-URL:https://www.springcreekoaks.org
X-WR-CALDESC:Events for Spring Creek Oaks
REFRESH-INTERVAL;VALUE=DURATION:PT1H
X-Robots-Tag:noindex
X-PUBLISHED-TTL:PT1H
BEGIN:VTIMEZONE
TZID:America/Chicago
BEGIN:DAYLIGHT
TZOFFSETFROM:-0600
TZOFFSETTO:-0500
TZNAME:CDT
DTSTART:20230312T080000
END:DAYLIGHT
BEGIN:STANDARD
TZOFFSETFROM:-0500
TZOFFSETTO:-0600
TZNAME:CST
DTSTART:20231105T070000
END:STANDARD
BEGIN:DAYLIGHT
TZOFFSETFROM:-0600
TZOFFSETTO:-0500
TZNAME:CDT
DTSTART:20240310T080000
END:DAYLIGHT
BEGIN:STANDARD
TZOFFSETFROM:-0500
TZOFFSETTO:-0600
TZNAME:CST
DTSTART:20241103T070000
END:STANDARD
BEGIN:DAYLIGHT
TZOFFSETFROM:-0600
TZOFFSETTO:-0500
TZNAME:CDT
DTSTART:20250309T080000
END:DAYLIGHT
BEGIN:STANDARD
TZOFFSETFROM:-0500
TZOFFSETTO:-0600
TZNAME:CST
DTSTART:20251102T070000
END:STANDARD
END:VTIMEZONE
BEGIN:VEVENT
DTSTART;TZID=America/Chicago:20240724T083000
DTEND;TZID=America/Chicago:20240724T103000
DTSTAMP:20260421T154424
CREATED:20240603T214908Z
LAST-MODIFIED:20240603T214908Z
UID:10008658-1721809800-1721817000@www.springcreekoaks.org
SUMMARY:Kuehnle court 4\, Lopez
DESCRIPTION:
URL:https://www.springcreekoaks.org/reservations/kuehnle-court-4-lopez-2/2024-07-24/
CATEGORIES:Tennis
END:VEVENT
BEGIN:VEVENT
DTSTART;TZID=America/Chicago:20240724T090000
DTEND;TZID=America/Chicago:20240724T113000
DTSTAMP:20260421T154424
CREATED:20231205T012455Z
LAST-MODIFIED:20240107T024742Z
UID:10004085-1721811600-1721820600@www.springcreekoaks.org
SUMMARY:CH 1 courts 2-3\, Hudson
DESCRIPTION:
URL:https://www.springcreekoaks.org/reservations/ch-1-courts-2-3-hudson-2/2024-07-24/
CATEGORIES:Tennis
END:VEVENT
BEGIN:VEVENT
DTSTART;TZID=America/Chicago:20240724T093000
DTEND;TZID=America/Chicago:20240724T110000
DTSTAMP:20260421T154424
CREATED:20240416T020848Z
LAST-MODIFIED:20240416T020848Z
UID:10008261-1721813400-1721818800@www.springcreekoaks.org
SUMMARY:CH 2 courts 1-6\, Coach Danny summer camp
DESCRIPTION:
URL:https://www.springcreekoaks.org/reservations/ch-2-courts-1-6-coach-danny-summer-camp-8/2024-07-24/
CATEGORIES:Tennis
END:VEVENT
BEGIN:VEVENT
DTSTART;TZID=America/Chicago:20240724T190000
DTEND;TZID=America/Chicago:20240724T213000
DTSTAMP:20260421T154424
CREATED:20240604T192305Z
LAST-MODIFIED:20240604T192305Z
UID:10008686-1721847600-1721856600@www.springcreekoaks.org
SUMMARY:CH 1 courts 2 and 3 (PB); T. Williamson
DESCRIPTION:
URL:https://www.springcreekoaks.org/reservations/ch-1-courts-2-and-3-pb-t-williamson/2024-07-24/
CATEGORIES:Tennis
END:VEVENT
BEGIN:VEVENT
DTSTART;TZID=America/Chicago:20240725T080000
DTEND;TZID=America/Chicago:20240725T110000
DTSTAMP:20260421T154424
CREATED:20240624T115149Z
LAST-MODIFIED:20240624T115149Z
UID:10008767-1721894400-1721905200@www.springcreekoaks.org
SUMMARY:Kuehnle court 2\, Lopez
DESCRIPTION:
URL:https://www.springcreekoaks.org/reservations/kuehnle-court-2-lopez-27/2024-07-25/
CATEGORIES:Tennis
END:VEVENT
BEGIN:VEVENT
DTSTART;TZID=America/Chicago:20240725T080000
DTEND;TZID=America/Chicago:20240725T120000
DTSTAMP:20260421T154424
CREATED:20240603T005812Z
LAST-MODIFIED:20240603T075622Z
UID:10008567-1721894400-1721908800@www.springcreekoaks.org
SUMMARY:CH 2 PB courts 3-4\, J. Chan
DESCRIPTION:
URL:https://www.springcreekoaks.org/reservations/ch-2-pb-courts-3-4-j-chen/2024-07-25/
CATEGORIES:Tennis
END:VEVENT
BEGIN:VEVENT
DTSTART;TZID=America/Chicago:20240725T083000
DTEND;TZID=America/Chicago:20240725T120000
DTSTAMP:20260421T154424
CREATED:20240401T030944Z
LAST-MODIFIED:20240401T030944Z
UID:10008146-1721896200-1721908800@www.springcreekoaks.org
SUMMARY:CH 1 courts 2-3 (PB)\, Palmer
DESCRIPTION:
URL:https://www.springcreekoaks.org/reservations/ch-1-courts-2-3-pb-palmer-2/2024-07-25/
CATEGORIES:Tennis
END:VEVENT
BEGIN:VEVENT
DTSTART;TZID=America/Chicago:20240725T093000
DTEND;TZID=America/Chicago:20240725T110000
DTSTAMP:20260421T154424
CREATED:20240416T020848Z
LAST-MODIFIED:20240416T020848Z
UID:10008262-1721899800-1721905200@www.springcreekoaks.org
SUMMARY:CH 2 courts 1-6\, Coach Danny summer camp
DESCRIPTION:
URL:https://www.springcreekoaks.org/reservations/ch-2-courts-1-6-coach-danny-summer-camp-8/2024-07-25/
CATEGORIES:Tennis
END:VEVENT
BEGIN:VEVENT
DTSTART;TZID=America/Chicago:20240725T190000
DTEND;TZID=America/Chicago:20240725T220000
DTSTAMP:20260421T154424
CREATED:20240627T011327Z
LAST-MODIFIED:20240627T011327Z
UID:10008778-1721934000-1721944800@www.springcreekoaks.org
SUMMARY:Ch 2 PB courts 3-4\, P. Guzman
DESCRIPTION:
URL:https://www.springcreekoaks.org/reservations/ch-2-pb-courts-3-4-p-guzman/2024-07-25/
CATEGORIES:Tennis
END:VEVENT
BEGIN:VEVENT
DTSTART;TZID=America/Chicago:20240726T080000
DTEND;TZID=America/Chicago:20240726T110000
DTSTAMP:20260421T154424
CREATED:20240416T014345Z
LAST-MODIFIED:20240612T235700Z
UID:10009299-1721980800-1721991600@www.springcreekoaks.org
SUMMARY:CH 2 courts 1-3\, Lopez
DESCRIPTION:
URL:https://www.springcreekoaks.org/reservations/ch-2-courts-1-3-lopez-12/2024-07-26/
CATEGORIES:Tennis
END:VEVENT
BEGIN:VEVENT
DTSTART;TZID=America/Chicago:20240726T080000
DTEND;TZID=America/Chicago:20240726T110000
DTSTAMP:20260421T154424
CREATED:20240416T015111Z
LAST-MODIFIED:20240529T234105Z
UID:10008229-1721980800-1721991600@www.springcreekoaks.org
SUMMARY:Kuehnle courts 1-2\, Lopez
DESCRIPTION:
URL:https://www.springcreekoaks.org/reservations/ch-2-courts-4-6-lopez/2024-07-26/
CATEGORIES:Tennis
END:VEVENT
BEGIN:VEVENT
DTSTART;TZID=America/Chicago:20240726T083000
DTEND;TZID=America/Chicago:20240726T110000
DTSTAMP:20260421T154424
CREATED:20240416T021842Z
LAST-MODIFIED:20240529T233821Z
UID:10008273-1721982600-1721991600@www.springcreekoaks.org
SUMMARY:CH 2 courts 1-6\, Coach Danny summer camp
DESCRIPTION:
URL:https://www.springcreekoaks.org/reservations/ch-2-courts-1-3-coach-danny-summer-camp/2024-07-26/
CATEGORIES:Tennis
END:VEVENT
BEGIN:VEVENT
DTSTART;TZID=America/Chicago:20240726T190000
DTEND;TZID=America/Chicago:20240726T220000
DTSTAMP:20260421T154424
CREATED:20240603T005947Z
LAST-MODIFIED:20240603T075541Z
UID:10008604-1722020400-1722031200@www.springcreekoaks.org
SUMMARY:CH 1 courts 2-3 (PB)\, J. Chan
DESCRIPTION:
URL:https://www.springcreekoaks.org/reservations/ch-1-courts-2-3-pb-j-chen/2024-07-26/
CATEGORIES:Tennis
END:VEVENT
BEGIN:VEVENT
DTSTART;TZID=America/Chicago:20240727T083000
DTEND;TZID=America/Chicago:20240727T120000
DTSTAMP:20260421T154424
CREATED:20240401T031055Z
LAST-MODIFIED:20240401T031055Z
UID:10008172-1722069000-1722081600@www.springcreekoaks.org
SUMMARY:CH 1 courts 2-3 (PB)\, Palmer
DESCRIPTION:
URL:https://www.springcreekoaks.org/reservations/ch-1-courts-2-3-pb-palmer-3/2024-07-27/
CATEGORIES:Tennis
END:VEVENT
BEGIN:VEVENT
DTSTART;TZID=America/Chicago:20240728T190000
DTEND;TZID=America/Chicago:20240728T220000
DTSTAMP:20260421T154424
CREATED:20240603T005947Z
LAST-MODIFIED:20240603T075541Z
UID:10008605-1722193200-1722204000@www.springcreekoaks.org
SUMMARY:CH 1 courts 2-3 (PB)\, J. Chan
DESCRIPTION:
URL:https://www.springcreekoaks.org/reservations/ch-1-courts-2-3-pb-j-chen/2024-07-28/
CATEGORIES:Tennis
END:VEVENT
BEGIN:VEVENT
DTSTART;TZID=America/Chicago:20240729T080000
DTEND;TZID=America/Chicago:20240729T120000
DTSTAMP:20260421T154424
CREATED:20240603T005653Z
LAST-MODIFIED:20240603T075715Z
UID:10008537-1722240000-1722254400@www.springcreekoaks.org
SUMMARY:CH 1 court 3 (PB)\, J. Chan
DESCRIPTION:
URL:https://www.springcreekoaks.org/reservations/ch-1-court-3-pb-j-chen/2024-07-29/
CATEGORIES:Tennis
END:VEVENT
BEGIN:VEVENT
DTSTART;TZID=America/Chicago:20240729T093000
DTEND;TZID=America/Chicago:20240729T110000
DTSTAMP:20260421T154424
CREATED:20240416T021414Z
LAST-MODIFIED:20240416T021414Z
UID:10008263-1722245400-1722250800@www.springcreekoaks.org
SUMMARY:CH 2 courts 1-6\, Coach Danny summer camp
DESCRIPTION:
URL:https://www.springcreekoaks.org/reservations/ch-2-courts-1-6-coach-danny-summer-camp-9/2024-07-29/
CATEGORIES:Tennis
END:VEVENT
BEGIN:VEVENT
DTSTART;TZID=America/Chicago:20240729T190000
DTEND;TZID=America/Chicago:20240729T213000
DTSTAMP:20260421T154424
CREATED:20240604T191857Z
LAST-MODIFIED:20240604T191857Z
UID:10008674-1722279600-1722288600@www.springcreekoaks.org
SUMMARY:CH 1 courts 2-3 (PB)\, T. Williamson
DESCRIPTION:
URL:https://www.springcreekoaks.org/reservations/ch-1-courts-2-3-pb-t-williamson/2024-07-29/
CATEGORIES:Tennis
END:VEVENT
BEGIN:VEVENT
DTSTART;TZID=America/Chicago:20240729T190000
DTEND;TZID=America/Chicago:20240729T220000
DTSTAMP:20260421T154424
CREATED:20240605T093040Z
LAST-MODIFIED:20240605T093040Z
UID:10008705-1722279600-1722290400@www.springcreekoaks.org
SUMMARY:CH 2 courts 1-3\, Lopez
DESCRIPTION:
URL:https://www.springcreekoaks.org/reservations/ch-2-courts-1-3-lopez-13/2024-07-29/
CATEGORIES:Tennis
END:VEVENT
BEGIN:VEVENT
DTSTART;TZID=America/Chicago:20240730T083000
DTEND;TZID=America/Chicago:20240730T120000
DTSTAMP:20260421T154424
CREATED:20240401T030828Z
LAST-MODIFIED:20240401T030828Z
UID:10008120-1722328200-1722340800@www.springcreekoaks.org
SUMMARY:CH 1 courts 2-3 (PB)\, Palmer
DESCRIPTION:
URL:https://www.springcreekoaks.org/reservations/ch-1-courts-2-3-pb-palmer/2024-07-30/
CATEGORIES:Tennis
END:VEVENT
BEGIN:VEVENT
DTSTART;TZID=America/Chicago:20240730T093000
DTEND;TZID=America/Chicago:20240730T110000
DTSTAMP:20260421T154424
CREATED:20240416T021414Z
LAST-MODIFIED:20240416T021414Z
UID:10008264-1722331800-1722337200@www.springcreekoaks.org
SUMMARY:CH 2 courts 1-6\, Coach Danny summer camp
DESCRIPTION:
URL:https://www.springcreekoaks.org/reservations/ch-2-courts-1-6-coach-danny-summer-camp-9/2024-07-30/
CATEGORIES:Tennis
END:VEVENT
BEGIN:VEVENT
DTSTART;TZID=America/Chicago:20240730T183000
DTEND;TZID=America/Chicago:20240730T210000
DTSTAMP:20260421T154424
CREATED:20240725T214326Z
LAST-MODIFIED:20240725T214326Z
UID:10008902-1722364200-1722373200@www.springcreekoaks.org
SUMMARY:CH 2 PB courts 3-4\, D. Anderson
DESCRIPTION:
URL:https://www.springcreekoaks.org/reservations/ch-2-pb-courts-3-4-d-anderson/
CATEGORIES:Tennis
END:VEVENT
BEGIN:VEVENT
DTSTART;TZID=America/Chicago:20240731T080000
DTEND;TZID=America/Chicago:20240731T110000
DTSTAMP:20260421T154424
CREATED:20240520T205629Z
LAST-MODIFIED:20240520T205629Z
UID:10008375-1722412800-1722423600@www.springcreekoaks.org
SUMMARY:Kuehnle court 2\, Morse
DESCRIPTION:
URL:https://www.springcreekoaks.org/reservations/kuehnle-court-2-morse-2/2024-07-31/
CATEGORIES:Tennis
END:VEVENT
BEGIN:VEVENT
DTSTART;TZID=America/Chicago:20240731T083000
DTEND;TZID=America/Chicago:20240731T103000
DTSTAMP:20260421T154424
CREATED:20240603T214908Z
LAST-MODIFIED:20240603T214908Z
UID:10008659-1722414600-1722421800@www.springcreekoaks.org
SUMMARY:Kuehnle court 4\, Lopez
DESCRIPTION:
URL:https://www.springcreekoaks.org/reservations/kuehnle-court-4-lopez-2/2024-07-31/
CATEGORIES:Tennis
END:VEVENT
BEGIN:VEVENT
DTSTART;TZID=America/Chicago:20240731T090000
DTEND;TZID=America/Chicago:20240731T113000
DTSTAMP:20260421T154424
CREATED:20231205T012455Z
LAST-MODIFIED:20240107T024742Z
UID:10004086-1722416400-1722425400@www.springcreekoaks.org
SUMMARY:CH 1 courts 2-3\, Hudson
DESCRIPTION:
URL:https://www.springcreekoaks.org/reservations/ch-1-courts-2-3-hudson-2/2024-07-31/
CATEGORIES:Tennis
END:VEVENT
BEGIN:VEVENT
DTSTART;TZID=America/Chicago:20240731T093000
DTEND;TZID=America/Chicago:20240731T110000
DTSTAMP:20260421T154424
CREATED:20240416T021414Z
LAST-MODIFIED:20240416T021414Z
UID:10008265-1722418200-1722423600@www.springcreekoaks.org
SUMMARY:CH 2 courts 1-6\, Coach Danny summer camp
DESCRIPTION:
URL:https://www.springcreekoaks.org/reservations/ch-2-courts-1-6-coach-danny-summer-camp-9/2024-07-31/
CATEGORIES:Tennis
END:VEVENT
BEGIN:VEVENT
DTSTART;TZID=America/Chicago:20240731T190000
DTEND;TZID=America/Chicago:20240731T213000
DTSTAMP:20260421T154424
CREATED:20240604T192305Z
LAST-MODIFIED:20240604T192305Z
UID:10008687-1722452400-1722461400@www.springcreekoaks.org
SUMMARY:CH 1 courts 2 and 3 (PB); T. Williamson
DESCRIPTION:
URL:https://www.springcreekoaks.org/reservations/ch-1-courts-2-and-3-pb-t-williamson/2024-07-31/
CATEGORIES:Tennis
END:VEVENT
BEGIN:VEVENT
DTSTART;TZID=America/Chicago:20240801T080000
DTEND;TZID=America/Chicago:20240801T110000
DTSTAMP:20260421T154424
CREATED:20240624T115149Z
LAST-MODIFIED:20240624T115149Z
UID:10008768-1722499200-1722510000@www.springcreekoaks.org
SUMMARY:Kuehnle court 2\, Lopez
DESCRIPTION:
URL:https://www.springcreekoaks.org/reservations/kuehnle-court-2-lopez-27/2024-08-01/
CATEGORIES:Tennis
END:VEVENT
BEGIN:VEVENT
DTSTART;TZID=America/Chicago:20240801T080000
DTEND;TZID=America/Chicago:20240801T120000
DTSTAMP:20260421T154424
CREATED:20240603T005812Z
LAST-MODIFIED:20240603T075622Z
UID:10008568-1722499200-1722513600@www.springcreekoaks.org
SUMMARY:CH 2 PB courts 3-4\, J. Chan
DESCRIPTION:
URL:https://www.springcreekoaks.org/reservations/ch-2-pb-courts-3-4-j-chen/2024-08-01/
CATEGORIES:Tennis
END:VEVENT
BEGIN:VEVENT
DTSTART;TZID=America/Chicago:20240801T083000
DTEND;TZID=America/Chicago:20240801T120000
DTSTAMP:20260421T154424
CREATED:20240401T030944Z
LAST-MODIFIED:20240401T030944Z
UID:10008147-1722501000-1722513600@www.springcreekoaks.org
SUMMARY:CH 1 courts 2-3 (PB)\, Palmer
DESCRIPTION:
URL:https://www.springcreekoaks.org/reservations/ch-1-courts-2-3-pb-palmer-2/2024-08-01/
CATEGORIES:Tennis
END:VEVENT
END:VCALENDAR