BEGIN:VCALENDAR
VERSION:2.0
PRODID:-//Spring Creek Oaks - ECPv6.15.20//NONSGML v1.0//EN
CALSCALE:GREGORIAN
METHOD:PUBLISH
X-ORIGINAL-URL:https://www.springcreekoaks.org
X-WR-CALDESC:Events for Spring Creek Oaks
REFRESH-INTERVAL;VALUE=DURATION:PT1H
X-Robots-Tag:noindex
X-PUBLISHED-TTL:PT1H
BEGIN:VTIMEZONE
TZID:America/Chicago
BEGIN:DAYLIGHT
TZOFFSETFROM:-0600
TZOFFSETTO:-0500
TZNAME:CDT
DTSTART:20230312T080000
END:DAYLIGHT
BEGIN:STANDARD
TZOFFSETFROM:-0500
TZOFFSETTO:-0600
TZNAME:CST
DTSTART:20231105T070000
END:STANDARD
BEGIN:DAYLIGHT
TZOFFSETFROM:-0600
TZOFFSETTO:-0500
TZNAME:CDT
DTSTART:20240310T080000
END:DAYLIGHT
BEGIN:STANDARD
TZOFFSETFROM:-0500
TZOFFSETTO:-0600
TZNAME:CST
DTSTART:20241103T070000
END:STANDARD
BEGIN:DAYLIGHT
TZOFFSETFROM:-0600
TZOFFSETTO:-0500
TZNAME:CDT
DTSTART:20250309T080000
END:DAYLIGHT
BEGIN:STANDARD
TZOFFSETFROM:-0500
TZOFFSETTO:-0600
TZNAME:CST
DTSTART:20251102T070000
END:STANDARD
END:VTIMEZONE
BEGIN:VEVENT
DTSTART;TZID=America/Chicago:20240520T190000
DTEND;TZID=America/Chicago:20240520T220000
DTSTAMP:20260423T045342
CREATED:20240518T183919Z
LAST-MODIFIED:20240518T183919Z
UID:10008362-1716231600-1716242400@www.springcreekoaks.org
SUMMARY:Ch 2 courts 1-6\, NHTA A3 rain makeup
DESCRIPTION:
URL:https://www.springcreekoaks.org/reservations/ch-2-courts-1-6-nhta-a3-rain-makeup-2/
CATEGORIES:Tennis
END:VEVENT
BEGIN:VEVENT
DTSTART;TZID=America/Chicago:20240520T190000
DTEND;TZID=America/Chicago:20240520T220000
DTSTAMP:20260423T045342
CREATED:20240519T001141Z
LAST-MODIFIED:20240519T001141Z
UID:10008363-1716231600-1716242400@www.springcreekoaks.org
SUMMARY:Kuehnle courts 1-4\, Lopez (in case CH 2 lights don’t work)
DESCRIPTION:
URL:https://www.springcreekoaks.org/reservations/kuehnle-courts-1-4-lopez-in-case-ch-2-lights-dont-work/
CATEGORIES:Tennis
END:VEVENT
BEGIN:VEVENT
DTSTART;TZID=America/Chicago:20240521T083000
DTEND;TZID=America/Chicago:20240521T120000
DTSTAMP:20260423T045342
CREATED:20231126T144446Z
LAST-MODIFIED:20231126T144859Z
UID:10003360-1716280200-1716292800@www.springcreekoaks.org
SUMMARY:CH 1 courts 2-3\, Palmer
DESCRIPTION:
URL:https://www.springcreekoaks.org/reservations/ch-1-courts-2-3-palmer/2024-05-21/
CATEGORIES:Tennis
END:VEVENT
BEGIN:VEVENT
DTSTART;TZID=America/Chicago:20240521T090000
DTEND;TZID=America/Chicago:20240521T110000
DTSTAMP:20260423T045342
CREATED:20240115T175133Z
LAST-MODIFIED:20240416T023409Z
UID:10006743-1716282000-1716289200@www.springcreekoaks.org
SUMMARY:Kuehnle courts 3-4\, Coach Danny
DESCRIPTION:
URL:https://www.springcreekoaks.org/reservations/kuehnle-courts-3-4-coach-danny-3/2024-05-21/
CATEGORIES:Tennis
END:VEVENT
BEGIN:VEVENT
DTSTART;TZID=America/Chicago:20240521T170000
DTEND;TZID=America/Chicago:20240521T193000
DTSTAMP:20260423T045342
CREATED:20240115T175240Z
LAST-MODIFIED:20240115T180452Z
UID:10006815-1716310800-1716319800@www.springcreekoaks.org
SUMMARY:Kuehnle courts 3-4\, Coach Danny
DESCRIPTION:
URL:https://www.springcreekoaks.org/reservations/kuehnle-courts-3-4-coach-danny-4/2024-05-21/
CATEGORIES:Tennis
END:VEVENT
BEGIN:VEVENT
DTSTART;TZID=America/Chicago:20240521T180000
DTEND;TZID=America/Chicago:20240521T210000
DTSTAMP:20260423T045342
CREATED:20240130T071535Z
LAST-MODIFIED:20240131T153044Z
UID:10007514-1716314400-1716325200@www.springcreekoaks.org
SUMMARY:CH 2 PB courts 1-2\, A. Cortez
DESCRIPTION:
URL:https://www.springcreekoaks.org/reservations/ch-2-pb-courts-1-2-a-cortez/2024-05-21/
CATEGORIES:Tennis
END:VEVENT
BEGIN:VEVENT
DTSTART;TZID=America/Chicago:20240522T080000
DTEND;TZID=America/Chicago:20240522T110000
DTSTAMP:20260423T045342
CREATED:20240520T205424Z
LAST-MODIFIED:20240520T205424Z
UID:10008365-1716364800-1716375600@www.springcreekoaks.org
SUMMARY:CH 2 court 3\, Morse
DESCRIPTION:
URL:https://www.springcreekoaks.org/reservations/ch-2-court-3-morse-2/
CATEGORIES:Tennis
END:VEVENT
BEGIN:VEVENT
DTSTART;TZID=America/Chicago:20240522T080000
DTEND;TZID=America/Chicago:20240522T110000
DTSTAMP:20260423T045342
CREATED:20240521T170822Z
LAST-MODIFIED:20240521T170822Z
UID:10008376-1716364800-1716375600@www.springcreekoaks.org
SUMMARY:Kuehnle court 2\, Lopez
DESCRIPTION:
URL:https://www.springcreekoaks.org/reservations/kuehnle-court-2-lopez-23/
CATEGORIES:Tennis
END:VEVENT
BEGIN:VEVENT
DTSTART;TZID=America/Chicago:20240522T090000
DTEND;TZID=America/Chicago:20240522T113000
DTSTAMP:20260423T045342
CREATED:20231205T012455Z
LAST-MODIFIED:20240107T024742Z
UID:10004076-1716368400-1716377400@www.springcreekoaks.org
SUMMARY:CH 1 courts 2-3\, Hudson
DESCRIPTION:
URL:https://www.springcreekoaks.org/reservations/ch-1-courts-2-3-hudson-2/2024-05-22/
CATEGORIES:Tennis
END:VEVENT
BEGIN:VEVENT
DTSTART;TZID=America/Chicago:20240522T100000
DTEND;TZID=America/Chicago:20240522T110000
DTSTAMP:20260423T045342
CREATED:20240115T175343Z
LAST-MODIFIED:20240416T023303Z
UID:10006887-1716372000-1716375600@www.springcreekoaks.org
SUMMARY:Kuehnle courts 3-4\, Coach Danny
DESCRIPTION:
URL:https://www.springcreekoaks.org/reservations/kuehnle-courts-3-4-coach-danny-5/2024-05-22/
CATEGORIES:Tennis
END:VEVENT
BEGIN:VEVENT
DTSTART;TZID=America/Chicago:20240522T170000
DTEND;TZID=America/Chicago:20240522T190000
DTSTAMP:20260423T045342
CREATED:20240115T175440Z
LAST-MODIFIED:20240115T180134Z
UID:10006959-1716397200-1716404400@www.springcreekoaks.org
SUMMARY:Kuehnle courts 3-4\, Coach Danny
DESCRIPTION:
URL:https://www.springcreekoaks.org/reservations/kuehnle-courts-3-4-coach-danny-6/2024-05-22/
CATEGORIES:Tennis
END:VEVENT
BEGIN:VEVENT
DTSTART;TZID=America/Chicago:20240523T083000
DTEND;TZID=America/Chicago:20240523T120000
DTSTAMP:20260423T045342
CREATED:20231126T144446Z
LAST-MODIFIED:20231126T144859Z
UID:10003361-1716453000-1716465600@www.springcreekoaks.org
SUMMARY:CH 1 courts 2-3\, Palmer
DESCRIPTION:
URL:https://www.springcreekoaks.org/reservations/ch-1-courts-2-3-palmer/2024-05-23/
CATEGORIES:Tennis
END:VEVENT
BEGIN:VEVENT
DTSTART;TZID=America/Chicago:20240523T090000
DTEND;TZID=America/Chicago:20240523T110000
DTSTAMP:20260423T045342
CREATED:20240115T175542Z
LAST-MODIFIED:20240416T023143Z
UID:10007031-1716454800-1716462000@www.springcreekoaks.org
SUMMARY:Kuehnle courts 3-4\, Coach Danny
DESCRIPTION:
URL:https://www.springcreekoaks.org/reservations/kuehnle-courts-3-4-coach-danny-7/2024-05-23/
CATEGORIES:Tennis
END:VEVENT
BEGIN:VEVENT
DTSTART;TZID=America/Chicago:20240523T170000
DTEND;TZID=America/Chicago:20240523T193000
DTSTAMP:20260423T045342
CREATED:20240115T175721Z
LAST-MODIFIED:20240416T023026Z
UID:10007103-1716483600-1716492600@www.springcreekoaks.org
SUMMARY:Kuehnle courts 3-4\, Coach Danny
DESCRIPTION:
URL:https://www.springcreekoaks.org/reservations/kuehnle-courts-3-4-coach-danny-8/2024-05-23/
CATEGORIES:Tennis
END:VEVENT
BEGIN:VEVENT
DTSTART;TZID=America/Chicago:20240523T190000
DTEND;TZID=America/Chicago:20240523T220000
DTSTAMP:20260423T045342
CREATED:20240113T021559Z
LAST-MODIFIED:20240131T152936Z
UID:10006541-1716490800-1716501600@www.springcreekoaks.org
SUMMARY:CH 2 PB courts 3-4\, P. Guzman
DESCRIPTION:
URL:https://www.springcreekoaks.org/reservations/ch-1-courts-2-3-p-guzman/2024-05-23/
CATEGORIES:Tennis
END:VEVENT
BEGIN:VEVENT
DTSTART;TZID=America/Chicago:20240523T190000
DTEND;TZID=America/Chicago:20240523T220000
DTSTAMP:20260423T045342
CREATED:20240519T001316Z
LAST-MODIFIED:20240519T001641Z
UID:10008364-1716490800-1716501600@www.springcreekoaks.org
SUMMARY:CH 2 courts 1-6\, Bautsch rain makeup
DESCRIPTION:
URL:https://www.springcreekoaks.org/reservations/ch-2-courts-1-6-bausch-rain-makeup/
CATEGORIES:Tennis
END:VEVENT
BEGIN:VEVENT
DTSTART;TZID=America/Chicago:20240524T080000
DTEND;TZID=America/Chicago:20240524T110000
DTSTAMP:20260423T045342
CREATED:20240416T014345Z
LAST-MODIFIED:20240612T235700Z
UID:10008215-1716537600-1716548400@www.springcreekoaks.org
SUMMARY:CH 2 courts 1-3\, Lopez
DESCRIPTION:
URL:https://www.springcreekoaks.org/reservations/ch-2-courts-1-3-lopez-12/2024-05-24/
CATEGORIES:Tennis
END:VEVENT
BEGIN:VEVENT
DTSTART;TZID=America/Chicago:20240524T180000
DTEND;TZID=America/Chicago:20240524T190000
DTSTAMP:20260423T045342
CREATED:20240115T175843Z
LAST-MODIFIED:20240118T192404Z
UID:10007123-1716573600-1716577200@www.springcreekoaks.org
SUMMARY:Kuehnle courts 3-4\, Coach Danny
DESCRIPTION:
URL:https://www.springcreekoaks.org/reservations/kuehnle-courts-3-4-coach-danny-9/2024-05-24/
CATEGORIES:Tennis
END:VEVENT
BEGIN:VEVENT
DTSTART;TZID=America/Chicago:20240525T083000
DTEND;TZID=America/Chicago:20240525T120000
DTSTAMP:20260423T045342
CREATED:20231126T144446Z
LAST-MODIFIED:20231126T144859Z
UID:10003362-1716625800-1716638400@www.springcreekoaks.org
SUMMARY:CH 1 courts 2-3\, Palmer
DESCRIPTION:
URL:https://www.springcreekoaks.org/reservations/ch-1-courts-2-3-palmer/2024-05-25/
CATEGORIES:Tennis
END:VEVENT
BEGIN:VEVENT
DTSTART;TZID=America/Chicago:20240527T083000
DTEND;TZID=America/Chicago:20240527T110000
DTSTAMP:20260423T045342
CREATED:20240115T174755Z
LAST-MODIFIED:20240115T180718Z
UID:10006601-1716798600-1716807600@www.springcreekoaks.org
SUMMARY:Kuehnle courts 3-4\, Coach Danny
DESCRIPTION:
URL:https://www.springcreekoaks.org/reservations/kuehnle-courts-3-4-coach-danny/2024-05-27/
CATEGORIES:Tennis
END:VEVENT
BEGIN:VEVENT
DTSTART;TZID=America/Chicago:20240527T083000
DTEND;TZID=America/Chicago:20240527T120000
DTSTAMP:20260423T045342
CREATED:20240429T193414Z
LAST-MODIFIED:20240429T193414Z
UID:10008290-1716798600-1716811200@www.springcreekoaks.org
SUMMARY:CH 1 court 3 (PB)\, J. Chan
DESCRIPTION:
URL:https://www.springcreekoaks.org/reservations/ch-1-court-3-pb-j-chan-2/2024-05-27/
CATEGORIES:Tennis
END:VEVENT
BEGIN:VEVENT
DTSTART;TZID=America/Chicago:20240527T170000
DTEND;TZID=America/Chicago:20240527T190000
DTSTAMP:20260423T045342
CREATED:20240115T174912Z
LAST-MODIFIED:20240115T180603Z
UID:10006672-1716829200-1716836400@www.springcreekoaks.org
SUMMARY:Kuehnle courts 3-4\, Coach Danny
DESCRIPTION:
URL:https://www.springcreekoaks.org/reservations/kuehnle-courts-3-4-coach-danny-2/2024-05-27/
CATEGORIES:Tennis
END:VEVENT
BEGIN:VEVENT
DTSTART;TZID=America/Chicago:20240528T083000
DTEND;TZID=America/Chicago:20240528T120000
DTSTAMP:20260423T045342
CREATED:20231126T144446Z
LAST-MODIFIED:20231126T144859Z
UID:10003363-1716885000-1716897600@www.springcreekoaks.org
SUMMARY:CH 1 courts 2-3\, Palmer
DESCRIPTION:
URL:https://www.springcreekoaks.org/reservations/ch-1-courts-2-3-palmer/2024-05-28/
CATEGORIES:Tennis
END:VEVENT
BEGIN:VEVENT
DTSTART;TZID=America/Chicago:20240528T093000
DTEND;TZID=America/Chicago:20240528T110000
DTSTAMP:20260423T045342
CREATED:20240416T015419Z
LAST-MODIFIED:20240416T015419Z
UID:10008231-1716888600-1716894000@www.springcreekoaks.org
SUMMARY:CH 2 courts 1-6\, Coach Danny summer camp
DESCRIPTION:
URL:https://www.springcreekoaks.org/reservations/ch-2-courts-1-6-coach-danny-summer-camp/2024-05-28/
CATEGORIES:Tennis
END:VEVENT
BEGIN:VEVENT
DTSTART;TZID=America/Chicago:20240528T170000
DTEND;TZID=America/Chicago:20240528T193000
DTSTAMP:20260423T045342
CREATED:20240115T175240Z
LAST-MODIFIED:20240115T180452Z
UID:10006816-1716915600-1716924600@www.springcreekoaks.org
SUMMARY:Kuehnle courts 3-4\, Coach Danny
DESCRIPTION:
URL:https://www.springcreekoaks.org/reservations/kuehnle-courts-3-4-coach-danny-4/2024-05-28/
CATEGORIES:Tennis
END:VEVENT
BEGIN:VEVENT
DTSTART;TZID=America/Chicago:20240528T180000
DTEND;TZID=America/Chicago:20240528T210000
DTSTAMP:20260423T045342
CREATED:20240130T071535Z
LAST-MODIFIED:20240131T153044Z
UID:10007515-1716919200-1716930000@www.springcreekoaks.org
SUMMARY:CH 2 PB courts 1-2\, A. Cortez
DESCRIPTION:
URL:https://www.springcreekoaks.org/reservations/ch-2-pb-courts-1-2-a-cortez/2024-05-28/
CATEGORIES:Tennis
END:VEVENT
BEGIN:VEVENT
DTSTART;TZID=America/Chicago:20240528T180000
DTEND;TZID=America/Chicago:20240528T210000
DTSTAMP:20260423T045342
CREATED:20240522T225323Z
LAST-MODIFIED:20240522T225610Z
UID:10008517-1716919200-1716930000@www.springcreekoaks.org
SUMMARY:CH 2 PB court 4\, L. Cook
DESCRIPTION:
URL:https://www.springcreekoaks.org/reservations/ch-2-pb-court-4-l-cook/2024-05-28/
CATEGORIES:Tennis
END:VEVENT
BEGIN:VEVENT
DTSTART;TZID=America/Chicago:20240529T080000
DTEND;TZID=America/Chicago:20240529T110000
DTSTAMP:20260423T045342
CREATED:20240520T205629Z
LAST-MODIFIED:20240520T205629Z
UID:10008366-1716969600-1716980400@www.springcreekoaks.org
SUMMARY:Kuehnle court 2\, Morse
DESCRIPTION:
URL:https://www.springcreekoaks.org/reservations/kuehnle-court-2-morse-2/2024-05-29/
CATEGORIES:Tennis
END:VEVENT
BEGIN:VEVENT
DTSTART;TZID=America/Chicago:20240529T090000
DTEND;TZID=America/Chicago:20240529T113000
DTSTAMP:20260423T045342
CREATED:20231205T012455Z
LAST-MODIFIED:20240107T024742Z
UID:10004077-1716973200-1716982200@www.springcreekoaks.org
SUMMARY:CH 1 courts 2-3\, Hudson
DESCRIPTION:
URL:https://www.springcreekoaks.org/reservations/ch-1-courts-2-3-hudson-2/2024-05-29/
CATEGORIES:Tennis
END:VEVENT
BEGIN:VEVENT
DTSTART;TZID=America/Chicago:20240529T093000
DTEND;TZID=America/Chicago:20240529T110000
DTSTAMP:20260423T045342
CREATED:20240416T015419Z
LAST-MODIFIED:20240416T015419Z
UID:10008232-1716975000-1716980400@www.springcreekoaks.org
SUMMARY:CH 2 courts 1-6\, Coach Danny summer camp
DESCRIPTION:
URL:https://www.springcreekoaks.org/reservations/ch-2-courts-1-6-coach-danny-summer-camp/2024-05-29/
CATEGORIES:Tennis
END:VEVENT
END:VCALENDAR