BEGIN:VCALENDAR
VERSION:2.0
PRODID:-//Spring Creek Oaks - ECPv6.15.20//NONSGML v1.0//EN
CALSCALE:GREGORIAN
METHOD:PUBLISH
X-ORIGINAL-URL:https://www.springcreekoaks.org
X-WR-CALDESC:Events for Spring Creek Oaks
REFRESH-INTERVAL;VALUE=DURATION:PT1H
X-Robots-Tag:noindex
X-PUBLISHED-TTL:PT1H
BEGIN:VTIMEZONE
TZID:America/Chicago
BEGIN:DAYLIGHT
TZOFFSETFROM:-0600
TZOFFSETTO:-0500
TZNAME:CDT
DTSTART:20220313T080000
END:DAYLIGHT
BEGIN:STANDARD
TZOFFSETFROM:-0500
TZOFFSETTO:-0600
TZNAME:CST
DTSTART:20221106T070000
END:STANDARD
BEGIN:DAYLIGHT
TZOFFSETFROM:-0600
TZOFFSETTO:-0500
TZNAME:CDT
DTSTART:20230312T080000
END:DAYLIGHT
BEGIN:STANDARD
TZOFFSETFROM:-0500
TZOFFSETTO:-0600
TZNAME:CST
DTSTART:20231105T070000
END:STANDARD
BEGIN:DAYLIGHT
TZOFFSETFROM:-0600
TZOFFSETTO:-0500
TZNAME:CDT
DTSTART:20240310T080000
END:DAYLIGHT
BEGIN:STANDARD
TZOFFSETFROM:-0500
TZOFFSETTO:-0600
TZNAME:CST
DTSTART:20241103T070000
END:STANDARD
BEGIN:DAYLIGHT
TZOFFSETFROM:-0600
TZOFFSETTO:-0500
TZNAME:CDT
DTSTART:20250309T080000
END:DAYLIGHT
BEGIN:STANDARD
TZOFFSETFROM:-0500
TZOFFSETTO:-0600
TZNAME:CST
DTSTART:20251102T070000
END:STANDARD
END:VTIMEZONE
BEGIN:VEVENT
DTSTART;TZID=America/Chicago:20231219T180000
DTEND;TZID=America/Chicago:20231219T220000
DTSTAMP:20260423T114026
CREATED:20230830T121940Z
LAST-MODIFIED:20230915T171226Z
UID:10006222-1703008800-1703023200@www.springcreekoaks.org
SUMMARY:CH 1\, courts 2-3\, Junek
DESCRIPTION:
URL:https://www.springcreekoaks.org/reservations/ch-1-courts-2-3-junek/2023-12-19/
CATEGORIES:Tennis
END:VEVENT
BEGIN:VEVENT
DTSTART;TZID=America/Chicago:20231220T083000
DTEND;TZID=America/Chicago:20231220T110000
DTSTAMP:20260423T114026
CREATED:20231207T195402Z
LAST-MODIFIED:20231218T162504Z
UID:10004054-1703061000-1703070000@www.springcreekoaks.org
SUMMARY:CH 2 courts 1-6\, Coach Danny Winter Camp
DESCRIPTION:
URL:https://www.springcreekoaks.org/reservations/ch-2-courts-1-3-coach-danny-winter-camp/2023-12-20/
CATEGORIES:Tennis
END:VEVENT
BEGIN:VEVENT
DTSTART;TZID=America/Chicago:20231220T090000
DTEND;TZID=America/Chicago:20231220T100000
DTSTAMP:20260423T114026
CREATED:20230814T132524Z
LAST-MODIFIED:20230814T132524Z
UID:10006007-1703062800-1703066400@www.springcreekoaks.org
SUMMARY:Kuehnle courts 3-4\, intermediate homeschool class
DESCRIPTION:
URL:https://www.springcreekoaks.org/reservations/kuehnle-courts-3-4-intermediate-homeschool-class-2/2023-12-20/
CATEGORIES:Tennis
END:VEVENT
BEGIN:VEVENT
DTSTART;TZID=America/Chicago:20231220T090000
DTEND;TZID=America/Chicago:20231220T113000
DTSTAMP:20260423T114026
CREATED:20231218T204119Z
LAST-MODIFIED:20231218T204119Z
UID:10003656-1703062800-1703071800@www.springcreekoaks.org
SUMMARY:Kuehnle court 2\, Hudson
DESCRIPTION:
URL:https://www.springcreekoaks.org/reservations/kuehnle-court-2-hudson-7/
CATEGORIES:Tennis
END:VEVENT
BEGIN:VEVENT
DTSTART;TZID=America/Chicago:20231220T170000
DTEND;TZID=America/Chicago:20231220T180000
DTSTAMP:20260423T114026
CREATED:20230814T132653Z
LAST-MODIFIED:20230814T132653Z
UID:10006026-1703091600-1703095200@www.springcreekoaks.org
SUMMARY:Kuehnle courts 3-4\, Orange ball class
DESCRIPTION:
URL:https://www.springcreekoaks.org/reservations/kuehnle-courts-3-4-orange-ball-class-2/2023-12-20/
CATEGORIES:Tennis
END:VEVENT
BEGIN:VEVENT
DTSTART;TZID=America/Chicago:20231220T180000
DTEND;TZID=America/Chicago:20231220T190000
DTSTAMP:20260423T114026
CREATED:20230814T132829Z
LAST-MODIFIED:20230814T132829Z
UID:10006045-1703095200-1703098800@www.springcreekoaks.org
SUMMARY:Kuehnle courts 3-4\, Yellow ball class
DESCRIPTION:
URL:https://www.springcreekoaks.org/reservations/kuehnle-courts-3-4-yellow-ball-class-3/2023-12-20/
CATEGORIES:Tennis
END:VEVENT
BEGIN:VEVENT
DTSTART;TZID=America/Chicago:20231221T083000
DTEND;TZID=America/Chicago:20231221T110000
DTSTAMP:20260423T114026
CREATED:20231207T195402Z
LAST-MODIFIED:20231218T162504Z
UID:10004055-1703147400-1703156400@www.springcreekoaks.org
SUMMARY:CH 2 courts 1-6\, Coach Danny Winter Camp
DESCRIPTION:
URL:https://www.springcreekoaks.org/reservations/ch-2-courts-1-3-coach-danny-winter-camp/2023-12-21/
CATEGORIES:Tennis
END:VEVENT
BEGIN:VEVENT
DTSTART;TZID=America/Chicago:20231221T090000
DTEND;TZID=America/Chicago:20231221T110000
DTSTAMP:20260423T114026
CREATED:20230821T190739Z
LAST-MODIFIED:20230821T190739Z
UID:10006155-1703149200-1703156400@www.springcreekoaks.org
SUMMARY:Kuehnle courts 3-4\, Homeschool classes
DESCRIPTION:
URL:https://www.springcreekoaks.org/reservations/kuehnle-courts-3-4-homeschool-classes-2/2023-12-21/
CATEGORIES:Tennis
END:VEVENT
BEGIN:VEVENT
DTSTART;TZID=America/Chicago:20231221T090000
DTEND;TZID=America/Chicago:20231221T120000
DTSTAMP:20260423T114026
CREATED:20230819T184409Z
LAST-MODIFIED:20230907T224257Z
UID:10006139-1703149200-1703160000@www.springcreekoaks.org
SUMMARY:CH 1 courts 2-3\, Palmer
DESCRIPTION:
URL:https://www.springcreekoaks.org/reservations/ch-1-courts-2-3-pickleball-meet-and-greet-7/2023-12-21/
CATEGORIES:Tennis
END:VEVENT
BEGIN:VEVENT
DTSTART;TZID=America/Chicago:20231221T090000
DTEND;TZID=America/Chicago:20231221T120000
DTSTAMP:20260423T114026
CREATED:20230907T225043Z
LAST-MODIFIED:20230907T225043Z
UID:10006289-1703149200-1703160000@www.springcreekoaks.org
SUMMARY:CH 1 court 1\, Pickleball meet and greet
DESCRIPTION:
URL:https://www.springcreekoaks.org/reservations/ch-1-court-1-pickleball-meet-and-greet-3/2023-12-21/
CATEGORIES:Tennis
END:VEVENT
BEGIN:VEVENT
DTSTART;TZID=America/Chicago:20231221T170000
DTEND;TZID=America/Chicago:20231221T180000
DTSTAMP:20260423T114026
CREATED:20230814T132947Z
LAST-MODIFIED:20230814T132947Z
UID:10006064-1703178000-1703181600@www.springcreekoaks.org
SUMMARY:Kuehnle courts 3-4\, Orange ball class
DESCRIPTION:
URL:https://www.springcreekoaks.org/reservations/kuehnle-courts-3-4-orange-ball-class-3/2023-12-21/
CATEGORIES:Tennis
END:VEVENT
BEGIN:VEVENT
DTSTART;TZID=America/Chicago:20231221T180000
DTEND;TZID=America/Chicago:20231221T193000
DTSTAMP:20260423T114026
CREATED:20230814T133101Z
LAST-MODIFIED:20230814T133101Z
UID:10006083-1703181600-1703187000@www.springcreekoaks.org
SUMMARY:Kuehnle courts 3-4\, Yellow ball class
DESCRIPTION:
URL:https://www.springcreekoaks.org/reservations/kuehnle-courts-3-4-yellow-ball-class-4/2023-12-21/
CATEGORIES:Tennis
END:VEVENT
BEGIN:VEVENT
DTSTART;TZID=America/Chicago:20231221T193000
DTEND;TZID=America/Chicago:20231221T220000
DTSTAMP:20260423T114026
CREATED:20230911T200317Z
LAST-MODIFIED:20230911T200317Z
UID:10003651-1703187000-1703196000@www.springcreekoaks.org
SUMMARY:CH 1 courts 2-3 (Pickleball)\, Guzman
DESCRIPTION:
URL:https://www.springcreekoaks.org/reservations/ch-1-courts-2-3-pickleball-guzman/2023-12-21/
CATEGORIES:Tennis
END:VEVENT
BEGIN:VEVENT
DTSTART;TZID=America/Chicago:20231222T120000
DTEND;TZID=America/Chicago:20231222T150000
DTSTAMP:20260423T114026
CREATED:20231222T160810Z
LAST-MODIFIED:20231222T160810Z
UID:10001044-1703246400-1703257200@www.springcreekoaks.org
SUMMARY:CH 1 courts 2-3\, Callahan
DESCRIPTION:
URL:https://www.springcreekoaks.org/reservations/ch-1-courts-2-3-callahan/
CATEGORIES:Tennis
END:VEVENT
BEGIN:VEVENT
DTSTART;TZID=America/Chicago:20231222T180000
DTEND;TZID=America/Chicago:20231222T190000
DTSTAMP:20260423T114026
CREATED:20230814T133222Z
LAST-MODIFIED:20230814T133222Z
UID:10006102-1703268000-1703271600@www.springcreekoaks.org
SUMMARY:Kuehnle courts 3-4\, Yellow ball class
DESCRIPTION:
URL:https://www.springcreekoaks.org/reservations/kuehnle-courts-3-4-yellow-ball-class-5/2023-12-22/
CATEGORIES:Tennis
END:VEVENT
BEGIN:VEVENT
DTSTART;TZID=America/Chicago:20231223T090000
DTEND;TZID=America/Chicago:20231223T120000
DTSTAMP:20260423T114026
CREATED:20230819T184138Z
LAST-MODIFIED:20230907T224528Z
UID:10003421-1703322000-1703332800@www.springcreekoaks.org
SUMMARY:CH 1 courts 2-3\, Palmer
DESCRIPTION:
URL:https://www.springcreekoaks.org/reservations/ch-1-courts-2-3-pickleball-meet-and-greet-5/2023-12-23/
CATEGORIES:Tennis
END:VEVENT
BEGIN:VEVENT
DTSTART;TZID=America/Chicago:20231223T090000
DTEND;TZID=America/Chicago:20231223T120000
DTSTAMP:20260423T114026
CREATED:20230907T224820Z
LAST-MODIFIED:20230907T224820Z
UID:10006257-1703322000-1703332800@www.springcreekoaks.org
SUMMARY:CH 1 court 1\, Pickleball meet and greet
DESCRIPTION:
URL:https://www.springcreekoaks.org/reservations/ch-1-court-1-pickleball-meet-and-greet/2023-12-23/
CATEGORIES:Tennis
END:VEVENT
BEGIN:VEVENT
DTSTART;TZID=America/Chicago:20231226T090000
DTEND;TZID=America/Chicago:20231226T120000
DTSTAMP:20260423T114026
CREATED:20230819T184258Z
LAST-MODIFIED:20230907T224414Z
UID:10006123-1703581200-1703592000@www.springcreekoaks.org
SUMMARY:CH 1 courts 2-3\, Palmer
DESCRIPTION:
URL:https://www.springcreekoaks.org/reservations/ch-1-courts-2-3-pickleball-meet-and-greet-6/2023-12-26/
CATEGORIES:Tennis
END:VEVENT
BEGIN:VEVENT
DTSTART;TZID=America/Chicago:20231226T090000
DTEND;TZID=America/Chicago:20231226T120000
DTSTAMP:20260423T114026
CREATED:20230907T224932Z
LAST-MODIFIED:20230907T224932Z
UID:10006274-1703581200-1703592000@www.springcreekoaks.org
SUMMARY:CH 1 court 1\, Pickleball meet and greet
DESCRIPTION:
URL:https://www.springcreekoaks.org/reservations/ch-1-court-1-pickleball-meet-and-greet-2/2023-12-26/
CATEGORIES:Tennis
END:VEVENT
BEGIN:VEVENT
DTSTART;TZID=America/Chicago:20231226T120000
DTEND;TZID=America/Chicago:20231226T150000
DTSTAMP:20260423T114026
CREATED:20231226T015904Z
LAST-MODIFIED:20231226T015904Z
UID:10004135-1703592000-1703602800@www.springcreekoaks.org
SUMMARY:CH 1 courts 2-3\, L. Cook
DESCRIPTION:
URL:https://www.springcreekoaks.org/reservations/ch-1-courts-2-3-l-cook-2/
CATEGORIES:Tennis
END:VEVENT
BEGIN:VEVENT
DTSTART;TZID=America/Chicago:20231226T180000
DTEND;TZID=America/Chicago:20231226T220000
DTSTAMP:20260423T114026
CREATED:20230830T121940Z
LAST-MODIFIED:20230915T171226Z
UID:10006223-1703613600-1703628000@www.springcreekoaks.org
SUMMARY:CH 1\, courts 2-3\, Junek
DESCRIPTION:
URL:https://www.springcreekoaks.org/reservations/ch-1-courts-2-3-junek/2023-12-26/
CATEGORIES:Tennis
END:VEVENT
BEGIN:VEVENT
DTSTART;TZID=America/Chicago:20231227T090000
DTEND;TZID=America/Chicago:20231227T120000
DTSTAMP:20260423T114026
CREATED:20221227T222834Z
LAST-MODIFIED:20221227T222834Z
UID:10005259-1703667600-1703678400@www.springcreekoaks.org
SUMMARY:CH 1 courts 2-3\, Hudson
DESCRIPTION:
URL:https://www.springcreekoaks.org/reservations/ch-1-courts-2-3-hudson/2023-12-27/
CATEGORIES:Tennis
END:VEVENT
BEGIN:VEVENT
DTSTART;TZID=America/Chicago:20231228T090000
DTEND;TZID=America/Chicago:20231228T120000
DTSTAMP:20260423T114026
CREATED:20230819T184409Z
LAST-MODIFIED:20230907T224257Z
UID:10006140-1703754000-1703764800@www.springcreekoaks.org
SUMMARY:CH 1 courts 2-3\, Palmer
DESCRIPTION:
URL:https://www.springcreekoaks.org/reservations/ch-1-courts-2-3-pickleball-meet-and-greet-7/2023-12-28/
CATEGORIES:Tennis
END:VEVENT
BEGIN:VEVENT
DTSTART;TZID=America/Chicago:20231228T090000
DTEND;TZID=America/Chicago:20231228T120000
DTSTAMP:20260423T114026
CREATED:20230907T225043Z
LAST-MODIFIED:20230907T225043Z
UID:10006290-1703754000-1703764800@www.springcreekoaks.org
SUMMARY:CH 1 court 1\, Pickleball meet and greet
DESCRIPTION:
URL:https://www.springcreekoaks.org/reservations/ch-1-court-1-pickleball-meet-and-greet-3/2023-12-28/
CATEGORIES:Tennis
END:VEVENT
BEGIN:VEVENT
DTSTART;TZID=America/Chicago:20231228T193000
DTEND;TZID=America/Chicago:20231228T220000
DTSTAMP:20260423T114026
CREATED:20230911T200317Z
LAST-MODIFIED:20230911T200317Z
UID:10003652-1703791800-1703800800@www.springcreekoaks.org
SUMMARY:CH 1 courts 2-3 (Pickleball)\, Guzman
DESCRIPTION:
URL:https://www.springcreekoaks.org/reservations/ch-1-courts-2-3-pickleball-guzman/2023-12-28/
CATEGORIES:Tennis
END:VEVENT
BEGIN:VEVENT
DTSTART;TZID=America/Chicago:20231230T090000
DTEND;TZID=America/Chicago:20231230T120000
DTSTAMP:20260423T114026
CREATED:20230819T184138Z
LAST-MODIFIED:20230907T224528Z
UID:10003422-1703926800-1703937600@www.springcreekoaks.org
SUMMARY:CH 1 courts 2-3\, Palmer
DESCRIPTION:
URL:https://www.springcreekoaks.org/reservations/ch-1-courts-2-3-pickleball-meet-and-greet-5/2023-12-30/
CATEGORIES:Tennis
END:VEVENT
BEGIN:VEVENT
DTSTART;TZID=America/Chicago:20231230T090000
DTEND;TZID=America/Chicago:20231230T120000
DTSTAMP:20260423T114026
CREATED:20230907T224820Z
LAST-MODIFIED:20230907T224820Z
UID:10006258-1703926800-1703937600@www.springcreekoaks.org
SUMMARY:CH 1 court 1\, Pickleball meet and greet
DESCRIPTION:
URL:https://www.springcreekoaks.org/reservations/ch-1-court-1-pickleball-meet-and-greet/2023-12-30/
CATEGORIES:Tennis
END:VEVENT
BEGIN:VEVENT
DTSTART;TZID=America/Chicago:20240102T083000
DTEND;TZID=America/Chicago:20240102T120000
DTSTAMP:20260423T114026
CREATED:20231126T144446Z
LAST-MODIFIED:20231126T144859Z
UID:10003300-1704184200-1704196800@www.springcreekoaks.org
SUMMARY:CH 1 courts 2-3\, Palmer
DESCRIPTION:
URL:https://www.springcreekoaks.org/reservations/ch-1-courts-2-3-palmer/2024-01-02/
CATEGORIES:Tennis
END:VEVENT
BEGIN:VEVENT
DTSTART;TZID=America/Chicago:20240102T180000
DTEND;TZID=America/Chicago:20240102T210000
DTSTAMP:20260423T114026
CREATED:20240102T164637Z
LAST-MODIFIED:20240102T164908Z
UID:10003014-1704218400-1704229200@www.springcreekoaks.org
SUMMARY:CH 1 courts 2-3 (pickleball)\, A. Cortez
DESCRIPTION:
URL:https://www.springcreekoaks.org/reservations/ch-1-courts-2-3-pickleball-a-cortez/2024-01-02/
CATEGORIES:Tennis
END:VEVENT
BEGIN:VEVENT
DTSTART;TZID=America/Chicago:20240103T090000
DTEND;TZID=America/Chicago:20240103T113000
DTSTAMP:20260423T114026
CREATED:20231205T012455Z
LAST-MODIFIED:20240107T024742Z
UID:10004056-1704272400-1704281400@www.springcreekoaks.org
SUMMARY:CH 1 courts 2-3\, Hudson
DESCRIPTION:
URL:https://www.springcreekoaks.org/reservations/ch-1-courts-2-3-hudson-2/2024-01-03/
CATEGORIES:Tennis
END:VEVENT
END:VCALENDAR