BEGIN:VCALENDAR
VERSION:2.0
PRODID:-//Spring Creek Oaks - ECPv6.15.20//NONSGML v1.0//EN
CALSCALE:GREGORIAN
METHOD:PUBLISH
X-ORIGINAL-URL:https://www.springcreekoaks.org
X-WR-CALDESC:Events for Spring Creek Oaks
REFRESH-INTERVAL;VALUE=DURATION:PT1H
X-Robots-Tag:noindex
X-PUBLISHED-TTL:PT1H
BEGIN:VTIMEZONE
TZID:America/Chicago
BEGIN:DAYLIGHT
TZOFFSETFROM:-0600
TZOFFSETTO:-0500
TZNAME:CDT
DTSTART:20230312T080000
END:DAYLIGHT
BEGIN:STANDARD
TZOFFSETFROM:-0500
TZOFFSETTO:-0600
TZNAME:CST
DTSTART:20231105T070000
END:STANDARD
BEGIN:DAYLIGHT
TZOFFSETFROM:-0600
TZOFFSETTO:-0500
TZNAME:CDT
DTSTART:20240310T080000
END:DAYLIGHT
BEGIN:STANDARD
TZOFFSETFROM:-0500
TZOFFSETTO:-0600
TZNAME:CST
DTSTART:20241103T070000
END:STANDARD
BEGIN:DAYLIGHT
TZOFFSETFROM:-0600
TZOFFSETTO:-0500
TZNAME:CDT
DTSTART:20250309T080000
END:DAYLIGHT
BEGIN:STANDARD
TZOFFSETFROM:-0500
TZOFFSETTO:-0600
TZNAME:CST
DTSTART:20251102T070000
END:STANDARD
END:VTIMEZONE
BEGIN:VEVENT
DTSTART;TZID=America/Chicago:20240605T093000
DTEND;TZID=America/Chicago:20240605T110000
DTSTAMP:20260422T170649
CREATED:20240416T015550Z
LAST-MODIFIED:20240416T015945Z
UID:10008241-1717579800-1717585200@www.springcreekoaks.org
SUMMARY:CH 2 courts 1-6\, Coach Danny summer camp
DESCRIPTION:
URL:https://www.springcreekoaks.org/reservations/ch-2-courts-1-6-coach-danny-summer-camp-2/2024-06-05/
CATEGORIES:Tennis
END:VEVENT
BEGIN:VEVENT
DTSTART;TZID=America/Chicago:20240605T190000
DTEND;TZID=America/Chicago:20240605T213000
DTSTAMP:20260422T170649
CREATED:20240604T192305Z
LAST-MODIFIED:20240604T192305Z
UID:10008679-1717614000-1717623000@www.springcreekoaks.org
SUMMARY:CH 1 courts 2 and 3 (PB); T. Williamson
DESCRIPTION:
URL:https://www.springcreekoaks.org/reservations/ch-1-courts-2-and-3-pb-t-williamson/2024-06-05/
CATEGORIES:Tennis
END:VEVENT
BEGIN:VEVENT
DTSTART;TZID=America/Chicago:20240606T080000
DTEND;TZID=America/Chicago:20240606T120000
DTSTAMP:20260422T170649
CREATED:20240603T005812Z
LAST-MODIFIED:20240603T075622Z
UID:10008560-1717660800-1717675200@www.springcreekoaks.org
SUMMARY:CH 2 PB courts 3-4\, J. Chan
DESCRIPTION:
URL:https://www.springcreekoaks.org/reservations/ch-2-pb-courts-3-4-j-chen/2024-06-06/
CATEGORIES:Tennis
END:VEVENT
BEGIN:VEVENT
DTSTART;TZID=America/Chicago:20240606T083000
DTEND;TZID=America/Chicago:20240606T120000
DTSTAMP:20260422T170649
CREATED:20231126T144446Z
LAST-MODIFIED:20231126T144859Z
UID:10003367-1717662600-1717675200@www.springcreekoaks.org
SUMMARY:CH 1 courts 2-3\, Palmer
DESCRIPTION:
URL:https://www.springcreekoaks.org/reservations/ch-1-courts-2-3-palmer/2024-06-06/
CATEGORIES:Tennis
END:VEVENT
BEGIN:VEVENT
DTSTART;TZID=America/Chicago:20240606T093000
DTEND;TZID=America/Chicago:20240606T110000
DTSTAMP:20260422T170649
CREATED:20240416T015550Z
LAST-MODIFIED:20240416T015945Z
UID:10008242-1717666200-1717671600@www.springcreekoaks.org
SUMMARY:CH 2 courts 1-6\, Coach Danny summer camp
DESCRIPTION:
URL:https://www.springcreekoaks.org/reservations/ch-2-courts-1-6-coach-danny-summer-camp-2/2024-06-06/
CATEGORIES:Tennis
END:VEVENT
BEGIN:VEVENT
DTSTART;TZID=America/Chicago:20240607T080000
DTEND;TZID=America/Chicago:20240607T110000
DTSTAMP:20260422T170649
CREATED:20240416T014345Z
LAST-MODIFIED:20240612T235700Z
UID:10009293-1717747200-1717758000@www.springcreekoaks.org
SUMMARY:CH 2 courts 1-3\, Lopez
DESCRIPTION:
URL:https://www.springcreekoaks.org/reservations/ch-2-courts-1-3-lopez-12/2024-06-07/
CATEGORIES:Tennis
END:VEVENT
BEGIN:VEVENT
DTSTART;TZID=America/Chicago:20240607T080000
DTEND;TZID=America/Chicago:20240607T110000
DTSTAMP:20260422T170649
CREATED:20240416T015111Z
LAST-MODIFIED:20240529T234105Z
UID:10008224-1717747200-1717758000@www.springcreekoaks.org
SUMMARY:Kuehnle courts 1-2\, Lopez
DESCRIPTION:
URL:https://www.springcreekoaks.org/reservations/ch-2-courts-4-6-lopez/2024-06-07/
CATEGORIES:Tennis
END:VEVENT
BEGIN:VEVENT
DTSTART;TZID=America/Chicago:20240607T080000
DTEND;TZID=America/Chicago:20240607T170000
DTSTAMP:20260422T170649
CREATED:20240605T230733Z
LAST-MODIFIED:20240605T230733Z
UID:10008710-1717747200-1717779600@www.springcreekoaks.org
SUMMARY:CH 2 courts 1-6\, USTA tournament
DESCRIPTION:
URL:https://www.springcreekoaks.org/reservations/ch-2-courts-1-6-usta-tournament-4/
CATEGORIES:Tennis
END:VEVENT
BEGIN:VEVENT
DTSTART;TZID=America/Chicago:20240607T093000
DTEND;TZID=America/Chicago:20240607T110000
DTSTAMP:20260422T170649
CREATED:20240416T021842Z
LAST-MODIFIED:20240529T233821Z
UID:10008268-1717752600-1717758000@www.springcreekoaks.org
SUMMARY:CH 2 courts 1-6\, Coach Danny summer camp
DESCRIPTION:
URL:https://www.springcreekoaks.org/reservations/ch-2-courts-1-3-coach-danny-summer-camp/2024-06-07/
CATEGORIES:Tennis
END:VEVENT
BEGIN:VEVENT
DTSTART;TZID=America/Chicago:20240607T190000
DTEND;TZID=America/Chicago:20240607T220000
DTSTAMP:20260422T170649
CREATED:20240603T005947Z
LAST-MODIFIED:20240603T075541Z
UID:10008590-1717786800-1717797600@www.springcreekoaks.org
SUMMARY:CH 1 courts 2-3 (PB)\, J. Chan
DESCRIPTION:
URL:https://www.springcreekoaks.org/reservations/ch-1-courts-2-3-pb-j-chen/2024-06-07/
CATEGORIES:Tennis
END:VEVENT
BEGIN:VEVENT
DTSTART;TZID=America/Chicago:20240608T080000
DTEND;TZID=America/Chicago:20240608T170000
DTSTAMP:20260422T170649
CREATED:20240605T230847Z
LAST-MODIFIED:20240605T230847Z
UID:10008711-1717833600-1717866000@www.springcreekoaks.org
SUMMARY:Kuehnle courts 1-4\, USTA tournament
DESCRIPTION:
URL:https://www.springcreekoaks.org/reservations/kuehnle-courts-1-4-usta-tournament/
CATEGORIES:Tennis
END:VEVENT
BEGIN:VEVENT
DTSTART;TZID=America/Chicago:20240608T083000
DTEND;TZID=America/Chicago:20240608T120000
DTSTAMP:20260422T170649
CREATED:20231126T144446Z
LAST-MODIFIED:20231126T144859Z
UID:10003368-1717835400-1717848000@www.springcreekoaks.org
SUMMARY:CH 1 courts 2-3\, Palmer
DESCRIPTION:
URL:https://www.springcreekoaks.org/reservations/ch-1-courts-2-3-palmer/2024-06-08/
CATEGORIES:Tennis
END:VEVENT
BEGIN:VEVENT
DTSTART;TZID=America/Chicago:20240608T190000
DTEND;TZID=America/Chicago:20240608T220000
DTSTAMP:20260422T170649
CREATED:20240608T091825Z
LAST-MODIFIED:20240608T091825Z
UID:10008712-1717873200-1717884000@www.springcreekoaks.org
SUMMARY:CH 1 courts 2-3 (PB)\, J. Chan
DESCRIPTION:
URL:https://www.springcreekoaks.org/reservations/ch-1-courts-2-3-pb-j-chan/
CATEGORIES:Tennis
END:VEVENT
BEGIN:VEVENT
DTSTART;TZID=America/Chicago:20240609T190000
DTEND;TZID=America/Chicago:20240609T220000
DTSTAMP:20260422T170649
CREATED:20240603T005947Z
LAST-MODIFIED:20240603T075541Z
UID:10008591-1717959600-1717970400@www.springcreekoaks.org
SUMMARY:CH 1 courts 2-3 (PB)\, J. Chan
DESCRIPTION:
URL:https://www.springcreekoaks.org/reservations/ch-1-courts-2-3-pb-j-chen/2024-06-09/
CATEGORIES:Tennis
END:VEVENT
BEGIN:VEVENT
DTSTART;TZID=America/Chicago:20240610T080000
DTEND;TZID=America/Chicago:20240610T120000
DTSTAMP:20260422T170649
CREATED:20240603T005653Z
LAST-MODIFIED:20240603T075715Z
UID:10008530-1718006400-1718020800@www.springcreekoaks.org
SUMMARY:CH 1 court 3 (PB)\, J. Chan
DESCRIPTION:
URL:https://www.springcreekoaks.org/reservations/ch-1-court-3-pb-j-chen/2024-06-10/
CATEGORIES:Tennis
END:VEVENT
BEGIN:VEVENT
DTSTART;TZID=America/Chicago:20240610T180000
DTEND;TZID=America/Chicago:20240610T210000
DTSTAMP:20260422T170649
CREATED:20240604T192641Z
LAST-MODIFIED:20240604T192641Z
UID:10008692-1718042400-1718053200@www.springcreekoaks.org
SUMMARY:CH 2 PB courts 3-4; M. Cortez
DESCRIPTION:
URL:https://www.springcreekoaks.org/reservations/ch-2-pb-courts-3-4-m-cortez/2024-06-10/
CATEGORIES:Tennis
END:VEVENT
BEGIN:VEVENT
DTSTART;TZID=America/Chicago:20240610T190000
DTEND;TZID=America/Chicago:20240610T213000
DTSTAMP:20260422T170649
CREATED:20240604T191857Z
LAST-MODIFIED:20240604T191857Z
UID:10008667-1718046000-1718055000@www.springcreekoaks.org
SUMMARY:CH 1 courts 2-3 (PB)\, T. Williamson
DESCRIPTION:
URL:https://www.springcreekoaks.org/reservations/ch-1-courts-2-3-pb-t-williamson/2024-06-10/
CATEGORIES:Tennis
END:VEVENT
BEGIN:VEVENT
DTSTART;TZID=America/Chicago:20240610T190000
DTEND;TZID=America/Chicago:20240610T220000
DTSTAMP:20260422T170649
CREATED:20240605T093040Z
LAST-MODIFIED:20240605T093040Z
UID:10008698-1718046000-1718056800@www.springcreekoaks.org
SUMMARY:CH 2 courts 1-3\, Lopez
DESCRIPTION:
URL:https://www.springcreekoaks.org/reservations/ch-2-courts-1-3-lopez-13/2024-06-10/
CATEGORIES:Tennis
END:VEVENT
BEGIN:VEVENT
DTSTART;TZID=America/Chicago:20240611T083000
DTEND;TZID=America/Chicago:20240611T120000
DTSTAMP:20260422T170649
CREATED:20231126T144446Z
LAST-MODIFIED:20231126T144859Z
UID:10003369-1718094600-1718107200@www.springcreekoaks.org
SUMMARY:CH 1 courts 2-3\, Palmer
DESCRIPTION:
URL:https://www.springcreekoaks.org/reservations/ch-1-courts-2-3-palmer/2024-06-11/
CATEGORIES:Tennis
END:VEVENT
BEGIN:VEVENT
DTSTART;TZID=America/Chicago:20240611T180000
DTEND;TZID=America/Chicago:20240611T210000
DTSTAMP:20260422T170649
CREATED:20240522T225323Z
LAST-MODIFIED:20240522T225610Z
UID:10008519-1718128800-1718139600@www.springcreekoaks.org
SUMMARY:CH 2 PB court 4\, L. Cook
DESCRIPTION:
URL:https://www.springcreekoaks.org/reservations/ch-2-pb-court-4-l-cook/2024-06-11/
CATEGORIES:Tennis
END:VEVENT
BEGIN:VEVENT
DTSTART;TZID=America/Chicago:20240611T183000
DTEND;TZID=America/Chicago:20240611T213000
DTSTAMP:20260422T170649
CREATED:20240522T021339Z
LAST-MODIFIED:20240522T021339Z
UID:10008504-1718130600-1718141400@www.springcreekoaks.org
SUMMARY:CH 2 PB courts 1-3\, A. Cortez
DESCRIPTION:
URL:https://www.springcreekoaks.org/reservations/ch-2-pb-courts-1-3-a-cortez/2024-06-11/
CATEGORIES:Tennis
END:VEVENT
BEGIN:VEVENT
DTSTART;TZID=America/Chicago:20240612T080000
DTEND;TZID=America/Chicago:20240612T110000
DTSTAMP:20260422T170649
CREATED:20240520T205629Z
LAST-MODIFIED:20240520T205629Z
UID:10008368-1718179200-1718190000@www.springcreekoaks.org
SUMMARY:Kuehnle court 2\, Morse
DESCRIPTION:
URL:https://www.springcreekoaks.org/reservations/kuehnle-court-2-morse-2/2024-06-12/
CATEGORIES:Tennis
END:VEVENT
BEGIN:VEVENT
DTSTART;TZID=America/Chicago:20240612T083000
DTEND;TZID=America/Chicago:20240612T103000
DTSTAMP:20260422T170649
CREATED:20240603T214705Z
LAST-MODIFIED:20240603T214705Z
UID:10008652-1718181000-1718188200@www.springcreekoaks.org
SUMMARY:Kuehnle court 4\, Lopez
DESCRIPTION:
URL:https://www.springcreekoaks.org/reservations/kuehnle-court-4-lopez/2024-06-12/
CATEGORIES:Tennis
END:VEVENT
BEGIN:VEVENT
DTSTART;TZID=America/Chicago:20240612T090000
DTEND;TZID=America/Chicago:20240612T113000
DTSTAMP:20260422T170649
CREATED:20231205T012455Z
LAST-MODIFIED:20240107T024742Z
UID:10004079-1718182800-1718191800@www.springcreekoaks.org
SUMMARY:CH 1 courts 2-3\, Hudson
DESCRIPTION:
URL:https://www.springcreekoaks.org/reservations/ch-1-courts-2-3-hudson-2/2024-06-12/
CATEGORIES:Tennis
END:VEVENT
BEGIN:VEVENT
DTSTART;TZID=America/Chicago:20240612T190000
DTEND;TZID=America/Chicago:20240612T210000
DTSTAMP:20260422T170649
CREATED:20240612T234837Z
LAST-MODIFIED:20240612T234837Z
UID:10008753-1718218800-1718226000@www.springcreekoaks.org
SUMMARY:Kuehnle court 2\, Lopez
DESCRIPTION:
URL:https://www.springcreekoaks.org/reservations/kuehnle-court-2-lopez-24/
CATEGORIES:Tennis
END:VEVENT
BEGIN:VEVENT
DTSTART;TZID=America/Chicago:20240612T190000
DTEND;TZID=America/Chicago:20240612T213000
DTSTAMP:20260422T170649
CREATED:20240604T192305Z
LAST-MODIFIED:20240604T192305Z
UID:10008680-1718218800-1718227800@www.springcreekoaks.org
SUMMARY:CH 1 courts 2 and 3 (PB); T. Williamson
DESCRIPTION:
URL:https://www.springcreekoaks.org/reservations/ch-1-courts-2-and-3-pb-t-williamson/2024-06-12/
CATEGORIES:Tennis
END:VEVENT
BEGIN:VEVENT
DTSTART;TZID=America/Chicago:20240613T080000
DTEND;TZID=America/Chicago:20240613T120000
DTSTAMP:20260422T170649
CREATED:20240603T005812Z
LAST-MODIFIED:20240603T075622Z
UID:10008561-1718265600-1718280000@www.springcreekoaks.org
SUMMARY:CH 2 PB courts 3-4\, J. Chan
DESCRIPTION:
URL:https://www.springcreekoaks.org/reservations/ch-2-pb-courts-3-4-j-chen/2024-06-13/
CATEGORIES:Tennis
END:VEVENT
BEGIN:VEVENT
DTSTART;TZID=America/Chicago:20240613T083000
DTEND;TZID=America/Chicago:20240613T103000
DTSTAMP:20260422T170649
CREATED:20240612T234922Z
LAST-MODIFIED:20240612T234922Z
UID:10008754-1718267400-1718274600@www.springcreekoaks.org
SUMMARY:Kuehnle court 2\, Lopez
DESCRIPTION:
URL:https://www.springcreekoaks.org/reservations/kuehnle-court-2-lopez-25/
CATEGORIES:Tennis
END:VEVENT
BEGIN:VEVENT
DTSTART;TZID=America/Chicago:20240613T083000
DTEND;TZID=America/Chicago:20240613T120000
DTSTAMP:20260422T170649
CREATED:20231126T144446Z
LAST-MODIFIED:20231126T144859Z
UID:10003370-1718267400-1718280000@www.springcreekoaks.org
SUMMARY:CH 1 courts 2-3\, Palmer
DESCRIPTION:
URL:https://www.springcreekoaks.org/reservations/ch-1-courts-2-3-palmer/2024-06-13/
CATEGORIES:Tennis
END:VEVENT
BEGIN:VEVENT
DTSTART;TZID=America/Chicago:20240614T080000
DTEND;TZID=America/Chicago:20240614T110000
DTSTAMP:20260422T170649
CREATED:20240416T014345Z
LAST-MODIFIED:20240612T235700Z
UID:10009294-1718352000-1718362800@www.springcreekoaks.org
SUMMARY:CH 2 courts 1-3\, Lopez
DESCRIPTION:
URL:https://www.springcreekoaks.org/reservations/ch-2-courts-1-3-lopez-12/2024-06-14/
CATEGORIES:Tennis
END:VEVENT
END:VCALENDAR