BEGIN:VCALENDAR
VERSION:2.0
PRODID:-//Spring Creek Oaks - ECPv6.15.20//NONSGML v1.0//EN
CALSCALE:GREGORIAN
METHOD:PUBLISH
X-ORIGINAL-URL:https://www.springcreekoaks.org
X-WR-CALDESC:Events for Spring Creek Oaks
REFRESH-INTERVAL;VALUE=DURATION:PT1H
X-Robots-Tag:noindex
X-PUBLISHED-TTL:PT1H
BEGIN:VTIMEZONE
TZID:America/Chicago
BEGIN:DAYLIGHT
TZOFFSETFROM:-0600
TZOFFSETTO:-0500
TZNAME:CDT
DTSTART:20220313T080000
END:DAYLIGHT
BEGIN:STANDARD
TZOFFSETFROM:-0500
TZOFFSETTO:-0600
TZNAME:CST
DTSTART:20221106T070000
END:STANDARD
BEGIN:DAYLIGHT
TZOFFSETFROM:-0600
TZOFFSETTO:-0500
TZNAME:CDT
DTSTART:20230312T080000
END:DAYLIGHT
BEGIN:STANDARD
TZOFFSETFROM:-0500
TZOFFSETTO:-0600
TZNAME:CST
DTSTART:20231105T070000
END:STANDARD
BEGIN:DAYLIGHT
TZOFFSETFROM:-0600
TZOFFSETTO:-0500
TZNAME:CDT
DTSTART:20240310T080000
END:DAYLIGHT
BEGIN:STANDARD
TZOFFSETFROM:-0500
TZOFFSETTO:-0600
TZNAME:CST
DTSTART:20241103T070000
END:STANDARD
END:VTIMEZONE
BEGIN:VEVENT
DTSTART;TZID=America/Chicago:20231017T100000
DTEND;TZID=America/Chicago:20231017T110000
DTSTAMP:20260425T101819
CREATED:20230814T131902Z
LAST-MODIFIED:20230814T131902Z
UID:10005922-1697536800-1697540400@www.springcreekoaks.org
SUMMARY:Kuehnle courts 3-4\, intermediate homeschool class
DESCRIPTION:
URL:https://www.springcreekoaks.org/reservations/kuehnle-courts-3-4-intermediate-homeschool-class/2023-10-17/
CATEGORIES:Tennis
END:VEVENT
BEGIN:VEVENT
DTSTART;TZID=America/Chicago:20231017T160000
DTEND;TZID=America/Chicago:20231017T170000
DTSTAMP:20260425T101819
CREATED:20230814T132041Z
LAST-MODIFIED:20230814T132041Z
UID:10005941-1697558400-1697562000@www.springcreekoaks.org
SUMMARY:Kuehnle courts 3-4\, Red ball class
DESCRIPTION:
URL:https://www.springcreekoaks.org/reservations/kuehnle-courts-3-4-red-ball-class/2023-10-17/
CATEGORIES:Tennis
END:VEVENT
BEGIN:VEVENT
DTSTART;TZID=America/Chicago:20231017T170000
DTEND;TZID=America/Chicago:20231017T180000
DTSTAMP:20260425T101819
CREATED:20230814T132206Z
LAST-MODIFIED:20230814T132206Z
UID:10005960-1697562000-1697565600@www.springcreekoaks.org
SUMMARY:Kuehnle courts 3-4\, Green ball class
DESCRIPTION:
URL:https://www.springcreekoaks.org/reservations/kuehnle-courts-3-4-green-ball-class/2023-10-17/
CATEGORIES:Tennis
END:VEVENT
BEGIN:VEVENT
DTSTART;TZID=America/Chicago:20231017T180000
DTEND;TZID=America/Chicago:20231017T193000
DTSTAMP:20260425T101819
CREATED:20230814T132345Z
LAST-MODIFIED:20230814T132345Z
UID:10005979-1697565600-1697571000@www.springcreekoaks.org
SUMMARY:Kuehnle courts 3-4\, Yellow ball class
DESCRIPTION:
URL:https://www.springcreekoaks.org/reservations/kuehnle-courts-3-4-yellow-ball-class-2/2023-10-17/
CATEGORIES:Tennis
END:VEVENT
BEGIN:VEVENT
DTSTART;TZID=America/Chicago:20231017T180000
DTEND;TZID=America/Chicago:20231017T220000
DTSTAMP:20260425T101819
CREATED:20230830T121940Z
LAST-MODIFIED:20230915T171226Z
UID:10006213-1697565600-1697580000@www.springcreekoaks.org
SUMMARY:CH 1\, courts 2-3\, Junek
DESCRIPTION:
URL:https://www.springcreekoaks.org/reservations/ch-1-courts-2-3-junek/2023-10-17/
CATEGORIES:Tennis
END:VEVENT
BEGIN:VEVENT
DTSTART;TZID=America/Chicago:20231017T190000
DTEND;TZID=America/Chicago:20231017T220000
DTSTAMP:20260425T101819
CREATED:20230906T230110Z
LAST-MODIFIED:20231031T181323Z
UID:10006239-1697569200-1697580000@www.springcreekoaks.org
SUMMARY:CH 2 courts 1-6\, men’s league Vross
DESCRIPTION:
URL:https://www.springcreekoaks.org/reservations/ch-2-courts-1-6-mens-league-vross-3/2023-10-17/
CATEGORIES:Tennis
END:VEVENT
BEGIN:VEVENT
DTSTART;TZID=America/Chicago:20231018T083000
DTEND;TZID=America/Chicago:20231018T110000
DTSTAMP:20260425T101819
CREATED:20231018T003531Z
LAST-MODIFIED:20231018T003531Z
UID:10006315-1697617800-1697626800@www.springcreekoaks.org
SUMMARY:CH 2 court 3\, Lopez
DESCRIPTION:
URL:https://www.springcreekoaks.org/reservations/ch-2-court-3-lopez-39/
CATEGORIES:Tennis
END:VEVENT
BEGIN:VEVENT
DTSTART;TZID=America/Chicago:20231018T090000
DTEND;TZID=America/Chicago:20231018T100000
DTSTAMP:20260425T101819
CREATED:20230814T132524Z
LAST-MODIFIED:20230814T132524Z
UID:10005998-1697619600-1697623200@www.springcreekoaks.org
SUMMARY:Kuehnle courts 3-4\, intermediate homeschool class
DESCRIPTION:
URL:https://www.springcreekoaks.org/reservations/kuehnle-courts-3-4-intermediate-homeschool-class-2/2023-10-18/
CATEGORIES:Tennis
END:VEVENT
BEGIN:VEVENT
DTSTART;TZID=America/Chicago:20231018T090000
DTEND;TZID=America/Chicago:20231018T120000
DTSTAMP:20260425T101819
CREATED:20221227T222834Z
LAST-MODIFIED:20221227T222834Z
UID:10005249-1697619600-1697630400@www.springcreekoaks.org
SUMMARY:CH 1 courts 2-3\, Hudson
DESCRIPTION:
URL:https://www.springcreekoaks.org/reservations/ch-1-courts-2-3-hudson/2023-10-18/
CATEGORIES:Tennis
END:VEVENT
BEGIN:VEVENT
DTSTART;TZID=America/Chicago:20231018T170000
DTEND;TZID=America/Chicago:20231018T180000
DTSTAMP:20260425T101819
CREATED:20230814T132653Z
LAST-MODIFIED:20230814T132653Z
UID:10006017-1697648400-1697652000@www.springcreekoaks.org
SUMMARY:Kuehnle courts 3-4\, Orange ball class
DESCRIPTION:
URL:https://www.springcreekoaks.org/reservations/kuehnle-courts-3-4-orange-ball-class-2/2023-10-18/
CATEGORIES:Tennis
END:VEVENT
BEGIN:VEVENT
DTSTART;TZID=America/Chicago:20231018T180000
DTEND;TZID=America/Chicago:20231018T190000
DTSTAMP:20260425T101819
CREATED:20230814T132829Z
LAST-MODIFIED:20230814T132829Z
UID:10006036-1697652000-1697655600@www.springcreekoaks.org
SUMMARY:Kuehnle courts 3-4\, Yellow ball class
DESCRIPTION:
URL:https://www.springcreekoaks.org/reservations/kuehnle-courts-3-4-yellow-ball-class-3/2023-10-18/
CATEGORIES:Tennis
END:VEVENT
BEGIN:VEVENT
DTSTART;TZID=America/Chicago:20231019T083000
DTEND;TZID=America/Chicago:20231019T120000
DTSTAMP:20260425T101819
CREATED:20230823T105904Z
LAST-MODIFIED:20230823T105904Z
UID:10006165-1697704200-1697716800@www.springcreekoaks.org
SUMMARY:CH 2 courts 1-4\, NW champ
DESCRIPTION:
URL:https://www.springcreekoaks.org/reservations/ch-2-courts-1-4-nw-champ-8/2023-10-19/
CATEGORIES:Tennis
END:VEVENT
BEGIN:VEVENT
DTSTART;TZID=America/Chicago:20231019T090000
DTEND;TZID=America/Chicago:20231019T110000
DTSTAMP:20260425T101819
CREATED:20230821T190602Z
LAST-MODIFIED:20230821T190602Z
UID:10006147-1697706000-1697713200@www.springcreekoaks.org
SUMMARY:Kuehnle courts 3-4\, Homeschool classes
DESCRIPTION:
URL:https://www.springcreekoaks.org/reservations/kuehnle-courts-3-4-homeschool-classes/2023-10-19/
CATEGORIES:Tennis
END:VEVENT
BEGIN:VEVENT
DTSTART;TZID=America/Chicago:20231019T090000
DTEND;TZID=America/Chicago:20231019T120000
DTSTAMP:20260425T101819
CREATED:20230819T184409Z
LAST-MODIFIED:20230907T224257Z
UID:10006130-1697706000-1697716800@www.springcreekoaks.org
SUMMARY:CH 1 courts 2-3\, Palmer
DESCRIPTION:
URL:https://www.springcreekoaks.org/reservations/ch-1-courts-2-3-pickleball-meet-and-greet-7/2023-10-19/
CATEGORIES:Tennis
END:VEVENT
BEGIN:VEVENT
DTSTART;TZID=America/Chicago:20231019T090000
DTEND;TZID=America/Chicago:20231019T120000
DTSTAMP:20260425T101819
CREATED:20230907T225043Z
LAST-MODIFIED:20230907T225043Z
UID:10006280-1697706000-1697716800@www.springcreekoaks.org
SUMMARY:CH 1 court 1\, Pickleball meet and greet
DESCRIPTION:
URL:https://www.springcreekoaks.org/reservations/ch-1-court-1-pickleball-meet-and-greet-3/2023-10-19/
CATEGORIES:Tennis
END:VEVENT
BEGIN:VEVENT
DTSTART;TZID=America/Chicago:20231019T170000
DTEND;TZID=America/Chicago:20231019T180000
DTSTAMP:20260425T101819
CREATED:20230814T132947Z
LAST-MODIFIED:20230814T132947Z
UID:10006055-1697734800-1697738400@www.springcreekoaks.org
SUMMARY:Kuehnle courts 3-4\, Orange ball class
DESCRIPTION:
URL:https://www.springcreekoaks.org/reservations/kuehnle-courts-3-4-orange-ball-class-3/2023-10-19/
CATEGORIES:Tennis
END:VEVENT
BEGIN:VEVENT
DTSTART;TZID=America/Chicago:20231019T180000
DTEND;TZID=America/Chicago:20231019T193000
DTSTAMP:20260425T101819
CREATED:20230814T133101Z
LAST-MODIFIED:20230814T133101Z
UID:10006074-1697738400-1697743800@www.springcreekoaks.org
SUMMARY:Kuehnle courts 3-4\, Yellow ball class
DESCRIPTION:
URL:https://www.springcreekoaks.org/reservations/kuehnle-courts-3-4-yellow-ball-class-4/2023-10-19/
CATEGORIES:Tennis
END:VEVENT
BEGIN:VEVENT
DTSTART;TZID=America/Chicago:20231019T190000
DTEND;TZID=America/Chicago:20231019T223000
DTSTAMP:20260425T101819
CREATED:20230909T134422Z
LAST-MODIFIED:20230909T134422Z
UID:10003679-1697742000-1697754600@www.springcreekoaks.org
SUMMARY:CH 2 courts 1-6\, Men’s league C team
DESCRIPTION:
URL:https://www.springcreekoaks.org/reservations/ch-2-courts-1-6-mens-league-c-team-5/2023-10-19/
CATEGORIES:Tennis
END:VEVENT
BEGIN:VEVENT
DTSTART;TZID=America/Chicago:20231019T193000
DTEND;TZID=America/Chicago:20231019T220000
DTSTAMP:20260425T101819
CREATED:20230911T200317Z
LAST-MODIFIED:20230911T200317Z
UID:10003642-1697743800-1697752800@www.springcreekoaks.org
SUMMARY:CH 1 courts 2-3 (Pickleball)\, Guzman
DESCRIPTION:
URL:https://www.springcreekoaks.org/reservations/ch-1-courts-2-3-pickleball-guzman/2023-10-19/
CATEGORIES:Tennis
END:VEVENT
BEGIN:VEVENT
DTSTART;TZID=America/Chicago:20231020T083000
DTEND;TZID=America/Chicago:20231020T120000
DTSTAMP:20260425T101819
CREATED:20230823T110257Z
LAST-MODIFIED:20230823T110257Z
UID:10006171-1697790600-1697803200@www.springcreekoaks.org
SUMMARY:Kuehnle courts 1-4\, JR B3
DESCRIPTION:
URL:https://www.springcreekoaks.org/reservations/kuehnle-courts-1-4-jr-b3-2/
CATEGORIES:Tennis
END:VEVENT
BEGIN:VEVENT
DTSTART;TZID=America/Chicago:20231020T083000
DTEND;TZID=America/Chicago:20231020T120000
DTSTAMP:20260425T101819
CREATED:20230831T172429Z
LAST-MODIFIED:20230831T172429Z
UID:10006228-1697790600-1697803200@www.springcreekoaks.org
SUMMARY:CH 2 courts 1-4\, JR Open champ 2
DESCRIPTION:
URL:https://www.springcreekoaks.org/reservations/ch-2-courts-1-4-jr-open-champ-2-2/2023-10-20/
CATEGORIES:Tennis
END:VEVENT
BEGIN:VEVENT
DTSTART;TZID=America/Chicago:20231020T180000
DTEND;TZID=America/Chicago:20231020T190000
DTSTAMP:20260425T101819
CREATED:20230814T133222Z
LAST-MODIFIED:20230814T133222Z
UID:10006093-1697824800-1697828400@www.springcreekoaks.org
SUMMARY:Kuehnle courts 3-4\, Yellow ball class
DESCRIPTION:
URL:https://www.springcreekoaks.org/reservations/kuehnle-courts-3-4-yellow-ball-class-5/2023-10-20/
CATEGORIES:Tennis
END:VEVENT
BEGIN:VEVENT
DTSTART;TZID=America/Chicago:20231021T090000
DTEND;TZID=America/Chicago:20231021T120000
DTSTAMP:20260425T101819
CREATED:20230819T184138Z
LAST-MODIFIED:20230907T224528Z
UID:10003412-1697878800-1697889600@www.springcreekoaks.org
SUMMARY:CH 1 courts 2-3\, Palmer
DESCRIPTION:
URL:https://www.springcreekoaks.org/reservations/ch-1-courts-2-3-pickleball-meet-and-greet-5/2023-10-21/
CATEGORIES:Tennis
END:VEVENT
BEGIN:VEVENT
DTSTART;TZID=America/Chicago:20231021T090000
DTEND;TZID=America/Chicago:20231021T120000
DTSTAMP:20260425T101819
CREATED:20230907T224820Z
LAST-MODIFIED:20230907T224820Z
UID:10006248-1697878800-1697889600@www.springcreekoaks.org
SUMMARY:CH 1 court 1\, Pickleball meet and greet
DESCRIPTION:
URL:https://www.springcreekoaks.org/reservations/ch-1-court-1-pickleball-meet-and-greet/2023-10-21/
CATEGORIES:Tennis
END:VEVENT
BEGIN:VEVENT
DTSTART;TZID=America/Chicago:20231023T083000
DTEND;TZID=America/Chicago:20231023T100000
DTSTAMP:20260425T101819
CREATED:20230814T130951Z
LAST-MODIFIED:20230814T130951Z
UID:10003575-1698049800-1698055200@www.springcreekoaks.org
SUMMARY:Kuehnle courts 3-4\, Ladies open drill\, tennis pro Danny
DESCRIPTION:
URL:https://www.springcreekoaks.org/reservations/kuehnle-courts-3-4-ladies-open-drill-tennis-pro-danny/2023-10-23/
CATEGORIES:Tennis
END:VEVENT
BEGIN:VEVENT
DTSTART;TZID=America/Chicago:20231023T100000
DTEND;TZID=America/Chicago:20231023T110000
DTSTAMP:20260425T101819
CREATED:20230814T131112Z
LAST-MODIFIED:20230814T131112Z
UID:10005828-1698055200-1698058800@www.springcreekoaks.org
SUMMARY:Kuehnle courts 3-4\, Intermediate Home School class
DESCRIPTION:
URL:https://www.springcreekoaks.org/reservations/kuehnle-courts-3-4-intermediate-home-school-class/2023-10-23/
CATEGORIES:Tennis
END:VEVENT
BEGIN:VEVENT
DTSTART;TZID=America/Chicago:20231023T170000
DTEND;TZID=America/Chicago:20231023T180000
DTSTAMP:20260425T101819
CREATED:20230814T131224Z
LAST-MODIFIED:20230814T131224Z
UID:10005847-1698080400-1698084000@www.springcreekoaks.org
SUMMARY:Kuehnle courts 3-4\, Orange ball class
DESCRIPTION:
URL:https://www.springcreekoaks.org/reservations/kuehnle-courts-3-4-orange-ball-class/2023-10-23/
CATEGORIES:Tennis
END:VEVENT
BEGIN:VEVENT
DTSTART;TZID=America/Chicago:20231023T180000
DTEND;TZID=America/Chicago:20231023T190000
DTSTAMP:20260425T101819
CREATED:20230814T131344Z
LAST-MODIFIED:20230814T131344Z
UID:10005866-1698084000-1698087600@www.springcreekoaks.org
SUMMARY:Kuehnle courts 3-4\, Yellow ball class
DESCRIPTION:
URL:https://www.springcreekoaks.org/reservations/kuehnle-courts-3-4-yellow-ball-class/2023-10-23/
CATEGORIES:Tennis
END:VEVENT
BEGIN:VEVENT
DTSTART;TZID=America/Chicago:20231023T190000
DTEND;TZID=America/Chicago:20231023T200000
DTSTAMP:20260425T101819
CREATED:20230814T131523Z
LAST-MODIFIED:20230814T131523Z
UID:10005885-1698087600-1698091200@www.springcreekoaks.org
SUMMARY:Kuehnle courts 3-4\, Adult drop-in drill\, all levels
DESCRIPTION:
URL:https://www.springcreekoaks.org/reservations/kuehnle-courts-3-4-adult-drop-in-drill-all-levels/2023-10-23/
CATEGORIES:Tennis
END:VEVENT
BEGIN:VEVENT
DTSTART;TZID=America/Chicago:20231023T190000
DTEND;TZID=America/Chicago:20231023T220000
DTSTAMP:20260425T101820
CREATED:20230909T134836Z
LAST-MODIFIED:20230909T134836Z
UID:10006294-1698087600-1698098400@www.springcreekoaks.org
SUMMARY:CH 2 courts 1-6\, NHTA A2
DESCRIPTION:
URL:https://www.springcreekoaks.org/reservations/ch-2-courts-1-6-nhta-a2-3/2023-10-23/
CATEGORIES:Tennis
END:VEVENT
END:VCALENDAR