BEGIN:VCALENDAR
VERSION:2.0
PRODID:-//Spring Creek Oaks - ECPv6.15.20//NONSGML v1.0//EN
CALSCALE:GREGORIAN
METHOD:PUBLISH
X-ORIGINAL-URL:https://www.springcreekoaks.org
X-WR-CALDESC:Events for Spring Creek Oaks
REFRESH-INTERVAL;VALUE=DURATION:PT1H
X-Robots-Tag:noindex
X-PUBLISHED-TTL:PT1H
BEGIN:VTIMEZONE
TZID:America/Chicago
BEGIN:DAYLIGHT
TZOFFSETFROM:-0600
TZOFFSETTO:-0500
TZNAME:CDT
DTSTART:20220313T080000
END:DAYLIGHT
BEGIN:STANDARD
TZOFFSETFROM:-0500
TZOFFSETTO:-0600
TZNAME:CST
DTSTART:20221106T070000
END:STANDARD
BEGIN:DAYLIGHT
TZOFFSETFROM:-0600
TZOFFSETTO:-0500
TZNAME:CDT
DTSTART:20230312T080000
END:DAYLIGHT
BEGIN:STANDARD
TZOFFSETFROM:-0500
TZOFFSETTO:-0600
TZNAME:CST
DTSTART:20231105T070000
END:STANDARD
BEGIN:DAYLIGHT
TZOFFSETFROM:-0600
TZOFFSETTO:-0500
TZNAME:CDT
DTSTART:20240310T080000
END:DAYLIGHT
BEGIN:STANDARD
TZOFFSETFROM:-0500
TZOFFSETTO:-0600
TZNAME:CST
DTSTART:20241103T070000
END:STANDARD
END:VTIMEZONE
BEGIN:VEVENT
DTSTART;TZID=America/Chicago:20230928T193000
DTEND;TZID=America/Chicago:20230928T220000
DTSTAMP:20260425T074147
CREATED:20230911T200317Z
LAST-MODIFIED:20230911T200317Z
UID:10003639-1695929400-1695938400@www.springcreekoaks.org
SUMMARY:CH 1 courts 2-3 (Pickleball)\, Guzman
DESCRIPTION:
URL:https://www.springcreekoaks.org/reservations/ch-1-courts-2-3-pickleball-guzman/2023-09-28/
CATEGORIES:Tennis
END:VEVENT
BEGIN:VEVENT
DTSTART;TZID=America/Chicago:20230929T083000
DTEND;TZID=America/Chicago:20230929T120000
DTSTAMP:20260425T074147
CREATED:20230823T110731Z
LAST-MODIFIED:20230824T003257Z
UID:10006178-1695976200-1695988800@www.springcreekoaks.org
SUMMARY:Kuehnle courts 1-4\, JR Open 1
DESCRIPTION:
URL:https://www.springcreekoaks.org/reservations/kuehnle-courts-1-4-jr-open-1/2023-09-29/
CATEGORIES:Tennis
END:VEVENT
BEGIN:VEVENT
DTSTART;TZID=America/Chicago:20230929T083000
DTEND;TZID=America/Chicago:20230929T120000
DTSTAMP:20260425T074147
CREATED:20230831T172429Z
LAST-MODIFIED:20230831T172429Z
UID:10006227-1695976200-1695988800@www.springcreekoaks.org
SUMMARY:CH 2 courts 1-4\, JR Open champ 2
DESCRIPTION:
URL:https://www.springcreekoaks.org/reservations/ch-2-courts-1-4-jr-open-champ-2-2/2023-09-29/
CATEGORIES:Tennis
END:VEVENT
BEGIN:VEVENT
DTSTART;TZID=America/Chicago:20230929T180000
DTEND;TZID=America/Chicago:20230929T190000
DTSTAMP:20260425T074147
CREATED:20230814T133222Z
LAST-MODIFIED:20230814T133222Z
UID:10006090-1696010400-1696014000@www.springcreekoaks.org
SUMMARY:Kuehnle courts 3-4\, Yellow ball class
DESCRIPTION:
URL:https://www.springcreekoaks.org/reservations/kuehnle-courts-3-4-yellow-ball-class-5/2023-09-29/
CATEGORIES:Tennis
END:VEVENT
BEGIN:VEVENT
DTSTART;TZID=America/Chicago:20230930T090000
DTEND;TZID=America/Chicago:20230930T120000
DTSTAMP:20260425T074147
CREATED:20230819T184138Z
LAST-MODIFIED:20230907T224528Z
UID:10003409-1696064400-1696075200@www.springcreekoaks.org
SUMMARY:CH 1 courts 2-3\, Palmer
DESCRIPTION:
URL:https://www.springcreekoaks.org/reservations/ch-1-courts-2-3-pickleball-meet-and-greet-5/2023-09-30/
CATEGORIES:Tennis
END:VEVENT
BEGIN:VEVENT
DTSTART;TZID=America/Chicago:20230930T090000
DTEND;TZID=America/Chicago:20230930T120000
DTSTAMP:20260425T074147
CREATED:20230907T224820Z
LAST-MODIFIED:20230907T224820Z
UID:10006245-1696064400-1696075200@www.springcreekoaks.org
SUMMARY:CH 1 court 1\, Pickleball meet and greet
DESCRIPTION:
URL:https://www.springcreekoaks.org/reservations/ch-1-court-1-pickleball-meet-and-greet/2023-09-30/
CATEGORIES:Tennis
END:VEVENT
BEGIN:VEVENT
DTSTART;TZID=America/Chicago:20231001T180000
DTEND;TZID=America/Chicago:20231001T220000
DTSTAMP:20260425T074147
CREATED:20231001T214446Z
LAST-MODIFIED:20231001T233701Z
UID:10003969-1696183200-1696197600@www.springcreekoaks.org
SUMMARY:Ch 1 courts 2 and 3\, Johnston
DESCRIPTION:
URL:https://www.springcreekoaks.org/reservations/ch-1-court-3-johnston/
CATEGORIES:Tennis
END:VEVENT
BEGIN:VEVENT
DTSTART;TZID=America/Chicago:20231002T080000
DTEND;TZID=America/Chicago:20231002T120000
DTSTAMP:20260425T074147
CREATED:20230916T184045Z
LAST-MODIFIED:20230916T184045Z
UID:10006230-1696233600-1696248000@www.springcreekoaks.org
SUMMARY:CH 2 court 3\, Lopez
DESCRIPTION:
URL:https://www.springcreekoaks.org/reservations/ch-2-court-3-lopez-38/
CATEGORIES:Tennis
END:VEVENT
BEGIN:VEVENT
DTSTART;TZID=America/Chicago:20231002T083000
DTEND;TZID=America/Chicago:20231002T100000
DTSTAMP:20260425T074147
CREATED:20230814T130951Z
LAST-MODIFIED:20230814T130951Z
UID:10003572-1696235400-1696240800@www.springcreekoaks.org
SUMMARY:Kuehnle courts 3-4\, Ladies open drill\, tennis pro Danny
DESCRIPTION:
URL:https://www.springcreekoaks.org/reservations/kuehnle-courts-3-4-ladies-open-drill-tennis-pro-danny/2023-10-02/
CATEGORIES:Tennis
END:VEVENT
BEGIN:VEVENT
DTSTART;TZID=America/Chicago:20231002T100000
DTEND;TZID=America/Chicago:20231002T110000
DTSTAMP:20260425T074147
CREATED:20230814T131112Z
LAST-MODIFIED:20230814T131112Z
UID:10005825-1696240800-1696244400@www.springcreekoaks.org
SUMMARY:Kuehnle courts 3-4\, Intermediate Home School class
DESCRIPTION:
URL:https://www.springcreekoaks.org/reservations/kuehnle-courts-3-4-intermediate-home-school-class/2023-10-02/
CATEGORIES:Tennis
END:VEVENT
BEGIN:VEVENT
DTSTART;TZID=America/Chicago:20231002T170000
DTEND;TZID=America/Chicago:20231002T180000
DTSTAMP:20260425T074147
CREATED:20230814T131224Z
LAST-MODIFIED:20230814T131224Z
UID:10005844-1696266000-1696269600@www.springcreekoaks.org
SUMMARY:Kuehnle courts 3-4\, Orange ball class
DESCRIPTION:
URL:https://www.springcreekoaks.org/reservations/kuehnle-courts-3-4-orange-ball-class/2023-10-02/
CATEGORIES:Tennis
END:VEVENT
BEGIN:VEVENT
DTSTART;TZID=America/Chicago:20231002T180000
DTEND;TZID=America/Chicago:20231002T190000
DTSTAMP:20260425T074147
CREATED:20230814T131344Z
LAST-MODIFIED:20230814T131344Z
UID:10005863-1696269600-1696273200@www.springcreekoaks.org
SUMMARY:Kuehnle courts 3-4\, Yellow ball class
DESCRIPTION:
URL:https://www.springcreekoaks.org/reservations/kuehnle-courts-3-4-yellow-ball-class/2023-10-02/
CATEGORIES:Tennis
END:VEVENT
BEGIN:VEVENT
DTSTART;TZID=America/Chicago:20231002T190000
DTEND;TZID=America/Chicago:20231002T200000
DTSTAMP:20260425T074147
CREATED:20230814T131523Z
LAST-MODIFIED:20230814T131523Z
UID:10005882-1696273200-1696276800@www.springcreekoaks.org
SUMMARY:Kuehnle courts 3-4\, Adult drop-in drill\, all levels
DESCRIPTION:
URL:https://www.springcreekoaks.org/reservations/kuehnle-courts-3-4-adult-drop-in-drill-all-levels/2023-10-02/
CATEGORIES:Tennis
END:VEVENT
BEGIN:VEVENT
DTSTART;TZID=America/Chicago:20231003T090000
DTEND;TZID=America/Chicago:20231003T100000
DTSTAMP:20260425T074147
CREATED:20230814T131725Z
LAST-MODIFIED:20230814T131725Z
UID:10005901-1696323600-1696327200@www.springcreekoaks.org
SUMMARY:Kuehnle courts 3-4\, beginner Homeschool class
DESCRIPTION:
URL:https://www.springcreekoaks.org/reservations/kuehnle-courts-3-4-beginner-homeschool-class/2023-10-03/
CATEGORIES:Tennis
END:VEVENT
BEGIN:VEVENT
DTSTART;TZID=America/Chicago:20231003T090000
DTEND;TZID=America/Chicago:20231003T120000
DTSTAMP:20260425T074147
CREATED:20230819T184258Z
LAST-MODIFIED:20230907T224414Z
UID:10006111-1696323600-1696334400@www.springcreekoaks.org
SUMMARY:CH 1 courts 2-3\, Palmer
DESCRIPTION:
URL:https://www.springcreekoaks.org/reservations/ch-1-courts-2-3-pickleball-meet-and-greet-6/2023-10-03/
CATEGORIES:Tennis
END:VEVENT
BEGIN:VEVENT
DTSTART;TZID=America/Chicago:20231003T090000
DTEND;TZID=America/Chicago:20231003T120000
DTSTAMP:20260425T074147
CREATED:20230907T224932Z
LAST-MODIFIED:20230907T224932Z
UID:10006262-1696323600-1696334400@www.springcreekoaks.org
SUMMARY:CH 1 court 1\, Pickleball meet and greet
DESCRIPTION:
URL:https://www.springcreekoaks.org/reservations/ch-1-court-1-pickleball-meet-and-greet-2/2023-10-03/
CATEGORIES:Tennis
END:VEVENT
BEGIN:VEVENT
DTSTART;TZID=America/Chicago:20231003T100000
DTEND;TZID=America/Chicago:20231003T110000
DTSTAMP:20260425T074147
CREATED:20230814T131902Z
LAST-MODIFIED:20230814T131902Z
UID:10005920-1696327200-1696330800@www.springcreekoaks.org
SUMMARY:Kuehnle courts 3-4\, intermediate homeschool class
DESCRIPTION:
URL:https://www.springcreekoaks.org/reservations/kuehnle-courts-3-4-intermediate-homeschool-class/2023-10-03/
CATEGORIES:Tennis
END:VEVENT
BEGIN:VEVENT
DTSTART;TZID=America/Chicago:20231003T160000
DTEND;TZID=America/Chicago:20231003T170000
DTSTAMP:20260425T074147
CREATED:20230814T132041Z
LAST-MODIFIED:20230814T132041Z
UID:10005939-1696348800-1696352400@www.springcreekoaks.org
SUMMARY:Kuehnle courts 3-4\, Red ball class
DESCRIPTION:
URL:https://www.springcreekoaks.org/reservations/kuehnle-courts-3-4-red-ball-class/2023-10-03/
CATEGORIES:Tennis
END:VEVENT
BEGIN:VEVENT
DTSTART;TZID=America/Chicago:20231003T170000
DTEND;TZID=America/Chicago:20231003T180000
DTSTAMP:20260425T074147
CREATED:20230814T132206Z
LAST-MODIFIED:20230814T132206Z
UID:10005958-1696352400-1696356000@www.springcreekoaks.org
SUMMARY:Kuehnle courts 3-4\, Green ball class
DESCRIPTION:
URL:https://www.springcreekoaks.org/reservations/kuehnle-courts-3-4-green-ball-class/2023-10-03/
CATEGORIES:Tennis
END:VEVENT
BEGIN:VEVENT
DTSTART;TZID=America/Chicago:20231003T180000
DTEND;TZID=America/Chicago:20231003T193000
DTSTAMP:20260425T074147
CREATED:20230814T132345Z
LAST-MODIFIED:20230814T132345Z
UID:10005977-1696356000-1696361400@www.springcreekoaks.org
SUMMARY:Kuehnle courts 3-4\, Yellow ball class
DESCRIPTION:
URL:https://www.springcreekoaks.org/reservations/kuehnle-courts-3-4-yellow-ball-class-2/2023-10-03/
CATEGORIES:Tennis
END:VEVENT
BEGIN:VEVENT
DTSTART;TZID=America/Chicago:20231003T180000
DTEND;TZID=America/Chicago:20231003T220000
DTSTAMP:20260425T074147
CREATED:20230830T121940Z
LAST-MODIFIED:20230915T171226Z
UID:10006211-1696356000-1696370400@www.springcreekoaks.org
SUMMARY:CH 1\, courts 2-3\, Junek
DESCRIPTION:
URL:https://www.springcreekoaks.org/reservations/ch-1-courts-2-3-junek/2023-10-03/
CATEGORIES:Tennis
END:VEVENT
BEGIN:VEVENT
DTSTART;TZID=America/Chicago:20231004T083000
DTEND;TZID=America/Chicago:20231004T120000
DTSTAMP:20260425T074147
CREATED:20230823T110443Z
LAST-MODIFIED:20230823T110443Z
UID:10006173-1696408200-1696420800@www.springcreekoaks.org
SUMMARY:CH 2 courts 1-4\, NW A2
DESCRIPTION:
URL:https://www.springcreekoaks.org/reservations/ch-2-courts-1-4-nw-a2-2/2023-10-04/
CATEGORIES:Tennis
END:VEVENT
BEGIN:VEVENT
DTSTART;TZID=America/Chicago:20231004T090000
DTEND;TZID=America/Chicago:20231004T100000
DTSTAMP:20260425T074147
CREATED:20230814T132524Z
LAST-MODIFIED:20230814T132524Z
UID:10005996-1696410000-1696413600@www.springcreekoaks.org
SUMMARY:Kuehnle courts 3-4\, intermediate homeschool class
DESCRIPTION:
URL:https://www.springcreekoaks.org/reservations/kuehnle-courts-3-4-intermediate-homeschool-class-2/2023-10-04/
CATEGORIES:Tennis
END:VEVENT
BEGIN:VEVENT
DTSTART;TZID=America/Chicago:20231004T090000
DTEND;TZID=America/Chicago:20231004T120000
DTSTAMP:20260425T074147
CREATED:20221227T222834Z
LAST-MODIFIED:20221227T222834Z
UID:10005247-1696410000-1696420800@www.springcreekoaks.org
SUMMARY:CH 1 courts 2-3\, Hudson
DESCRIPTION:
URL:https://www.springcreekoaks.org/reservations/ch-1-courts-2-3-hudson/2023-10-04/
CATEGORIES:Tennis
END:VEVENT
BEGIN:VEVENT
DTSTART;TZID=America/Chicago:20231004T170000
DTEND;TZID=America/Chicago:20231004T180000
DTSTAMP:20260425T074147
CREATED:20230814T132653Z
LAST-MODIFIED:20230814T132653Z
UID:10006015-1696438800-1696442400@www.springcreekoaks.org
SUMMARY:Kuehnle courts 3-4\, Orange ball class
DESCRIPTION:
URL:https://www.springcreekoaks.org/reservations/kuehnle-courts-3-4-orange-ball-class-2/2023-10-04/
CATEGORIES:Tennis
END:VEVENT
BEGIN:VEVENT
DTSTART;TZID=America/Chicago:20231004T180000
DTEND;TZID=America/Chicago:20231004T190000
DTSTAMP:20260425T074147
CREATED:20230814T132829Z
LAST-MODIFIED:20230814T132829Z
UID:10006034-1696442400-1696446000@www.springcreekoaks.org
SUMMARY:Kuehnle courts 3-4\, Yellow ball class
DESCRIPTION:
URL:https://www.springcreekoaks.org/reservations/kuehnle-courts-3-4-yellow-ball-class-3/2023-10-04/
CATEGORIES:Tennis
END:VEVENT
BEGIN:VEVENT
DTSTART;TZID=America/Chicago:20231005T083000
DTEND;TZID=America/Chicago:20231005T120000
DTSTAMP:20260425T074147
CREATED:20230823T105540Z
LAST-MODIFIED:20230823T105615Z
UID:10006162-1696494600-1696507200@www.springcreekoaks.org
SUMMARY:Kuehnle courts 1-4\, NW A1
DESCRIPTION:
URL:https://www.springcreekoaks.org/reservations/kuehnle-courts-1-4-nw-a1-2/2023-10-05/
CATEGORIES:Tennis
END:VEVENT
BEGIN:VEVENT
DTSTART;TZID=America/Chicago:20231005T090000
DTEND;TZID=America/Chicago:20231005T110000
DTSTAMP:20260425T074147
CREATED:20230821T190909Z
LAST-MODIFIED:20230821T190909Z
UID:10006158-1696496400-1696503600@www.springcreekoaks.org
SUMMARY:CH 2 courts 1-3\, Honeschool classes
DESCRIPTION:
URL:https://www.springcreekoaks.org/reservations/ch-2-courts-1-3-honeschool-classes/2023-10-05/
CATEGORIES:Tennis
END:VEVENT
BEGIN:VEVENT
DTSTART;TZID=America/Chicago:20231005T090000
DTEND;TZID=America/Chicago:20231005T120000
DTSTAMP:20260425T074147
CREATED:20230819T184409Z
LAST-MODIFIED:20230907T224257Z
UID:10006128-1696496400-1696507200@www.springcreekoaks.org
SUMMARY:CH 1 courts 2-3\, Palmer
DESCRIPTION:
URL:https://www.springcreekoaks.org/reservations/ch-1-courts-2-3-pickleball-meet-and-greet-7/2023-10-05/
CATEGORIES:Tennis
END:VEVENT
BEGIN:VEVENT
DTSTART;TZID=America/Chicago:20231005T090000
DTEND;TZID=America/Chicago:20231005T120000
DTSTAMP:20260425T074147
CREATED:20230907T225043Z
LAST-MODIFIED:20230907T225043Z
UID:10006278-1696496400-1696507200@www.springcreekoaks.org
SUMMARY:CH 1 court 1\, Pickleball meet and greet
DESCRIPTION:
URL:https://www.springcreekoaks.org/reservations/ch-1-court-1-pickleball-meet-and-greet-3/2023-10-05/
CATEGORIES:Tennis
END:VEVENT
END:VCALENDAR