BEGIN:VCALENDAR
VERSION:2.0
PRODID:-//Spring Creek Oaks - ECPv6.15.20//NONSGML v1.0//EN
CALSCALE:GREGORIAN
METHOD:PUBLISH
X-ORIGINAL-URL:https://www.springcreekoaks.org
X-WR-CALDESC:Events for Spring Creek Oaks
REFRESH-INTERVAL;VALUE=DURATION:PT1H
X-Robots-Tag:noindex
X-PUBLISHED-TTL:PT1H
BEGIN:VTIMEZONE
TZID:America/Chicago
BEGIN:DAYLIGHT
TZOFFSETFROM:-0600
TZOFFSETTO:-0500
TZNAME:CDT
DTSTART:20220313T080000
END:DAYLIGHT
BEGIN:STANDARD
TZOFFSETFROM:-0500
TZOFFSETTO:-0600
TZNAME:CST
DTSTART:20221106T070000
END:STANDARD
BEGIN:DAYLIGHT
TZOFFSETFROM:-0600
TZOFFSETTO:-0500
TZNAME:CDT
DTSTART:20230312T080000
END:DAYLIGHT
BEGIN:STANDARD
TZOFFSETFROM:-0500
TZOFFSETTO:-0600
TZNAME:CST
DTSTART:20231105T070000
END:STANDARD
BEGIN:DAYLIGHT
TZOFFSETFROM:-0600
TZOFFSETTO:-0500
TZNAME:CDT
DTSTART:20240310T080000
END:DAYLIGHT
BEGIN:STANDARD
TZOFFSETFROM:-0500
TZOFFSETTO:-0600
TZNAME:CST
DTSTART:20241103T070000
END:STANDARD
END:VTIMEZONE
BEGIN:VEVENT
DTSTART;TZID=America/Chicago:20230905T180000
DTEND;TZID=America/Chicago:20230905T193000
DTSTAMP:20260425T073658
CREATED:20230814T132345Z
LAST-MODIFIED:20230814T132345Z
UID:10005973-1693936800-1693942200@www.springcreekoaks.org
SUMMARY:Kuehnle courts 3-4\, Yellow ball class
DESCRIPTION:
URL:https://www.springcreekoaks.org/reservations/kuehnle-courts-3-4-yellow-ball-class-2/2023-09-05/
CATEGORIES:Tennis
END:VEVENT
BEGIN:VEVENT
DTSTART;TZID=America/Chicago:20230905T180000
DTEND;TZID=America/Chicago:20230905T220000
DTSTAMP:20260425T073658
CREATED:20230830T121940Z
LAST-MODIFIED:20230915T171226Z
UID:10006207-1693936800-1693951200@www.springcreekoaks.org
SUMMARY:CH 1\, courts 2-3\, Junek
DESCRIPTION:
URL:https://www.springcreekoaks.org/reservations/ch-1-courts-2-3-junek/2023-09-05/
CATEGORIES:Tennis
END:VEVENT
BEGIN:VEVENT
DTSTART;TZID=America/Chicago:20230906T090000
DTEND;TZID=America/Chicago:20230906T100000
DTSTAMP:20260425T073658
CREATED:20230814T132524Z
LAST-MODIFIED:20230814T132524Z
UID:10005992-1693990800-1693994400@www.springcreekoaks.org
SUMMARY:Kuehnle courts 3-4\, intermediate homeschool class
DESCRIPTION:
URL:https://www.springcreekoaks.org/reservations/kuehnle-courts-3-4-intermediate-homeschool-class-2/2023-09-06/
CATEGORIES:Tennis
END:VEVENT
BEGIN:VEVENT
DTSTART;TZID=America/Chicago:20230906T090000
DTEND;TZID=America/Chicago:20230906T120000
DTSTAMP:20260425T073658
CREATED:20221227T222834Z
LAST-MODIFIED:20221227T222834Z
UID:10005243-1693990800-1694001600@www.springcreekoaks.org
SUMMARY:CH 1 courts 2-3\, Hudson
DESCRIPTION:
URL:https://www.springcreekoaks.org/reservations/ch-1-courts-2-3-hudson/2023-09-06/
CATEGORIES:Tennis
END:VEVENT
BEGIN:VEVENT
DTSTART;TZID=America/Chicago:20230906T170000
DTEND;TZID=America/Chicago:20230906T180000
DTSTAMP:20260425T073658
CREATED:20230814T132653Z
LAST-MODIFIED:20230814T132653Z
UID:10006011-1694019600-1694023200@www.springcreekoaks.org
SUMMARY:Kuehnle courts 3-4\, Orange ball class
DESCRIPTION:
URL:https://www.springcreekoaks.org/reservations/kuehnle-courts-3-4-orange-ball-class-2/2023-09-06/
CATEGORIES:Tennis
END:VEVENT
BEGIN:VEVENT
DTSTART;TZID=America/Chicago:20230906T180000
DTEND;TZID=America/Chicago:20230906T190000
DTSTAMP:20260425T073658
CREATED:20230814T132829Z
LAST-MODIFIED:20230814T132829Z
UID:10006030-1694023200-1694026800@www.springcreekoaks.org
SUMMARY:Kuehnle courts 3-4\, Yellow ball class
DESCRIPTION:
URL:https://www.springcreekoaks.org/reservations/kuehnle-courts-3-4-yellow-ball-class-3/2023-09-06/
CATEGORIES:Tennis
END:VEVENT
BEGIN:VEVENT
DTSTART;TZID=America/Chicago:20230907T073000
DTEND;TZID=America/Chicago:20230907T103000
DTSTAMP:20260425T073658
CREATED:20230906T204936Z
LAST-MODIFIED:20230906T204936Z
UID:10006236-1694071800-1694082600@www.springcreekoaks.org
SUMMARY:CH 2 court 3\, Lopez
DESCRIPTION:
URL:https://www.springcreekoaks.org/reservations/ch-2-court-3-lopez-35/
CATEGORIES:Tennis
END:VEVENT
BEGIN:VEVENT
DTSTART;TZID=America/Chicago:20230907T090000
DTEND;TZID=America/Chicago:20230907T110000
DTSTAMP:20260425T073658
CREATED:20230821T190602Z
LAST-MODIFIED:20230821T190602Z
UID:10006144-1694077200-1694084400@www.springcreekoaks.org
SUMMARY:Kuehnle courts 3-4\, Homeschool classes
DESCRIPTION:
URL:https://www.springcreekoaks.org/reservations/kuehnle-courts-3-4-homeschool-classes/2023-09-07/
CATEGORIES:Tennis
END:VEVENT
BEGIN:VEVENT
DTSTART;TZID=America/Chicago:20230907T090000
DTEND;TZID=America/Chicago:20230907T120000
DTSTAMP:20260425T073658
CREATED:20230819T184409Z
LAST-MODIFIED:20230907T224257Z
UID:10006124-1694077200-1694088000@www.springcreekoaks.org
SUMMARY:CH 1 courts 2-3\, Palmer
DESCRIPTION:
URL:https://www.springcreekoaks.org/reservations/ch-1-courts-2-3-pickleball-meet-and-greet-7/2023-09-07/
CATEGORIES:Tennis
END:VEVENT
BEGIN:VEVENT
DTSTART;TZID=America/Chicago:20230907T170000
DTEND;TZID=America/Chicago:20230907T180000
DTSTAMP:20260425T073658
CREATED:20230814T132947Z
LAST-MODIFIED:20230814T132947Z
UID:10006049-1694106000-1694109600@www.springcreekoaks.org
SUMMARY:Kuehnle courts 3-4\, Orange ball class
DESCRIPTION:
URL:https://www.springcreekoaks.org/reservations/kuehnle-courts-3-4-orange-ball-class-3/2023-09-07/
CATEGORIES:Tennis
END:VEVENT
BEGIN:VEVENT
DTSTART;TZID=America/Chicago:20230907T180000
DTEND;TZID=America/Chicago:20230907T193000
DTSTAMP:20260425T073658
CREATED:20230814T133101Z
LAST-MODIFIED:20230814T133101Z
UID:10006068-1694109600-1694115000@www.springcreekoaks.org
SUMMARY:Kuehnle courts 3-4\, Yellow ball class
DESCRIPTION:
URL:https://www.springcreekoaks.org/reservations/kuehnle-courts-3-4-yellow-ball-class-4/2023-09-07/
CATEGORIES:Tennis
END:VEVENT
BEGIN:VEVENT
DTSTART;TZID=America/Chicago:20230907T180000
DTEND;TZID=America/Chicago:20230907T220000
DTSTAMP:20260425T073658
CREATED:20230906T013717Z
LAST-MODIFIED:20230906T013717Z
UID:10003627-1694109600-1694124000@www.springcreekoaks.org
SUMMARY:Bowman CH1 courts
DESCRIPTION:
URL:https://www.springcreekoaks.org/reservations/bowman-ch1-courts/
LOCATION:CH 1 Tennis Courts\, 17111 Misty Creek Dr\, Spring\, TX\, 77379\, United States
CATEGORIES:Tennis
GEO:30.0346602;-95.5117522
X-APPLE-STRUCTURED-LOCATION;VALUE=URI;X-ADDRESS=CH 1 Tennis Courts 17111 Misty Creek Dr Spring TX 77379 United States;X-APPLE-RADIUS=500;X-TITLE=17111 Misty Creek Dr:geo:-95.5117522,30.0346602
END:VEVENT
BEGIN:VEVENT
DTSTART;TZID=America/Chicago:20230908T083000
DTEND;TZID=America/Chicago:20230908T113000
DTSTAMP:20260425T073658
CREATED:20230907T213410Z
LAST-MODIFIED:20230907T213410Z
UID:10006241-1694161800-1694172600@www.springcreekoaks.org
SUMMARY:CH 2 courts 3 and 6\, Hudson
DESCRIPTION:
URL:https://www.springcreekoaks.org/reservations/ch-2-courts-3-and-6-hudson/
CATEGORIES:Tennis
END:VEVENT
BEGIN:VEVENT
DTSTART;TZID=America/Chicago:20230908T180000
DTEND;TZID=America/Chicago:20230908T190000
DTSTAMP:20260425T073658
CREATED:20230814T133222Z
LAST-MODIFIED:20230814T133222Z
UID:10006087-1694196000-1694199600@www.springcreekoaks.org
SUMMARY:Kuehnle courts 3-4\, Yellow ball class
DESCRIPTION:
URL:https://www.springcreekoaks.org/reservations/kuehnle-courts-3-4-yellow-ball-class-5/2023-09-08/
CATEGORIES:Tennis
END:VEVENT
BEGIN:VEVENT
DTSTART;TZID=America/Chicago:20230909T090000
DTEND;TZID=America/Chicago:20230909T120000
DTSTAMP:20260425T073658
CREATED:20230819T184138Z
LAST-MODIFIED:20230907T224528Z
UID:10003406-1694250000-1694260800@www.springcreekoaks.org
SUMMARY:CH 1 courts 2-3\, Palmer
DESCRIPTION:
URL:https://www.springcreekoaks.org/reservations/ch-1-courts-2-3-pickleball-meet-and-greet-5/2023-09-09/
CATEGORIES:Tennis
END:VEVENT
BEGIN:VEVENT
DTSTART;TZID=America/Chicago:20230909T090000
DTEND;TZID=America/Chicago:20230909T120000
DTSTAMP:20260425T073658
CREATED:20230907T224820Z
LAST-MODIFIED:20230907T224820Z
UID:10006242-1694250000-1694260800@www.springcreekoaks.org
SUMMARY:CH 1 court 1\, Pickleball meet and greet
DESCRIPTION:
URL:https://www.springcreekoaks.org/reservations/ch-1-court-1-pickleball-meet-and-greet/2023-09-09/
CATEGORIES:Tennis
END:VEVENT
BEGIN:VEVENT
DTSTART;TZID=America/Chicago:20230911T083000
DTEND;TZID=America/Chicago:20230911T100000
DTSTAMP:20260425T073658
CREATED:20230814T130951Z
LAST-MODIFIED:20230814T130951Z
UID:10003569-1694421000-1694426400@www.springcreekoaks.org
SUMMARY:Kuehnle courts 3-4\, Ladies open drill\, tennis pro Danny
DESCRIPTION:
URL:https://www.springcreekoaks.org/reservations/kuehnle-courts-3-4-ladies-open-drill-tennis-pro-danny/2023-09-11/
CATEGORIES:Tennis
END:VEVENT
BEGIN:VEVENT
DTSTART;TZID=America/Chicago:20230911T083000
DTEND;TZID=America/Chicago:20230911T120000
DTSTAMP:20260425T073658
CREATED:20230823T105349Z
LAST-MODIFIED:20230823T105349Z
UID:10006104-1694421000-1694433600@www.springcreekoaks.org
SUMMARY:CH 2 courts 1-4\, HLTA Champ 2 North
DESCRIPTION:
URL:https://www.springcreekoaks.org/reservations/ch-2-courts-1-4-hlta-champ-2-north-4/2023-09-11/
CATEGORIES:Tennis
END:VEVENT
BEGIN:VEVENT
DTSTART;TZID=America/Chicago:20230911T100000
DTEND;TZID=America/Chicago:20230911T110000
DTSTAMP:20260425T073658
CREATED:20230814T131112Z
LAST-MODIFIED:20230814T131112Z
UID:10005822-1694426400-1694430000@www.springcreekoaks.org
SUMMARY:Kuehnle courts 3-4\, Intermediate Home School class
DESCRIPTION:
URL:https://www.springcreekoaks.org/reservations/kuehnle-courts-3-4-intermediate-home-school-class/2023-09-11/
CATEGORIES:Tennis
END:VEVENT
BEGIN:VEVENT
DTSTART;TZID=America/Chicago:20230911T170000
DTEND;TZID=America/Chicago:20230911T180000
DTSTAMP:20260425T073658
CREATED:20230814T131224Z
LAST-MODIFIED:20230814T131224Z
UID:10005841-1694451600-1694455200@www.springcreekoaks.org
SUMMARY:Kuehnle courts 3-4\, Orange ball class
DESCRIPTION:
URL:https://www.springcreekoaks.org/reservations/kuehnle-courts-3-4-orange-ball-class/2023-09-11/
CATEGORIES:Tennis
END:VEVENT
BEGIN:VEVENT
DTSTART;TZID=America/Chicago:20230911T180000
DTEND;TZID=America/Chicago:20230911T190000
DTSTAMP:20260425T073658
CREATED:20230814T131344Z
LAST-MODIFIED:20230814T131344Z
UID:10005860-1694455200-1694458800@www.springcreekoaks.org
SUMMARY:Kuehnle courts 3-4\, Yellow ball class
DESCRIPTION:
URL:https://www.springcreekoaks.org/reservations/kuehnle-courts-3-4-yellow-ball-class/2023-09-11/
CATEGORIES:Tennis
END:VEVENT
BEGIN:VEVENT
DTSTART;TZID=America/Chicago:20230911T190000
DTEND;TZID=America/Chicago:20230911T200000
DTSTAMP:20260425T073658
CREATED:20230814T131523Z
LAST-MODIFIED:20230814T131523Z
UID:10005879-1694458800-1694462400@www.springcreekoaks.org
SUMMARY:Kuehnle courts 3-4\, Adult drop-in drill\, all levels
DESCRIPTION:
URL:https://www.springcreekoaks.org/reservations/kuehnle-courts-3-4-adult-drop-in-drill-all-levels/2023-09-11/
CATEGORIES:Tennis
END:VEVENT
BEGIN:VEVENT
DTSTART;TZID=America/Chicago:20230911T190000
DTEND;TZID=America/Chicago:20230911T220000
DTSTAMP:20260425T073658
CREATED:20230909T134836Z
LAST-MODIFIED:20230909T134836Z
UID:10006291-1694458800-1694469600@www.springcreekoaks.org
SUMMARY:CH 2 courts 1-6\, NHTA A2
DESCRIPTION:
URL:https://www.springcreekoaks.org/reservations/ch-2-courts-1-6-nhta-a2-3/2023-09-11/
CATEGORIES:Tennis
END:VEVENT
BEGIN:VEVENT
DTSTART;TZID=America/Chicago:20230912T080000
DTEND;TZID=America/Chicago:20230912T100000
DTSTAMP:20260425T073658
CREATED:20230910T221229Z
LAST-MODIFIED:20230910T221229Z
UID:10006304-1694505600-1694512800@www.springcreekoaks.org
SUMMARY:CH 2 court 3\, Lopez
DESCRIPTION:
URL:https://www.springcreekoaks.org/reservations/ch-2-court-3-lopez-36/
CATEGORIES:Tennis
END:VEVENT
BEGIN:VEVENT
DTSTART;TZID=America/Chicago:20230912T090000
DTEND;TZID=America/Chicago:20230912T100000
DTSTAMP:20260425T073658
CREATED:20230814T131725Z
LAST-MODIFIED:20230814T131725Z
UID:10005898-1694509200-1694512800@www.springcreekoaks.org
SUMMARY:Kuehnle courts 3-4\, beginner Homeschool class
DESCRIPTION:
URL:https://www.springcreekoaks.org/reservations/kuehnle-courts-3-4-beginner-homeschool-class/2023-09-12/
CATEGORIES:Tennis
END:VEVENT
BEGIN:VEVENT
DTSTART;TZID=America/Chicago:20230912T090000
DTEND;TZID=America/Chicago:20230912T120000
DTSTAMP:20260425T073658
CREATED:20230819T184258Z
LAST-MODIFIED:20230907T224414Z
UID:10006108-1694509200-1694520000@www.springcreekoaks.org
SUMMARY:CH 1 courts 2-3\, Palmer
DESCRIPTION:
URL:https://www.springcreekoaks.org/reservations/ch-1-courts-2-3-pickleball-meet-and-greet-6/2023-09-12/
CATEGORIES:Tennis
END:VEVENT
BEGIN:VEVENT
DTSTART;TZID=America/Chicago:20230912T090000
DTEND;TZID=America/Chicago:20230912T120000
DTSTAMP:20260425T073658
CREATED:20230907T224932Z
LAST-MODIFIED:20230907T224932Z
UID:10006259-1694509200-1694520000@www.springcreekoaks.org
SUMMARY:CH 1 court 1\, Pickleball meet and greet
DESCRIPTION:
URL:https://www.springcreekoaks.org/reservations/ch-1-court-1-pickleball-meet-and-greet-2/2023-09-12/
CATEGORIES:Tennis
END:VEVENT
BEGIN:VEVENT
DTSTART;TZID=America/Chicago:20230912T100000
DTEND;TZID=America/Chicago:20230912T110000
DTSTAMP:20260425T073658
CREATED:20230814T131902Z
LAST-MODIFIED:20230814T131902Z
UID:10005917-1694512800-1694516400@www.springcreekoaks.org
SUMMARY:Kuehnle courts 3-4\, intermediate homeschool class
DESCRIPTION:
URL:https://www.springcreekoaks.org/reservations/kuehnle-courts-3-4-intermediate-homeschool-class/2023-09-12/
CATEGORIES:Tennis
END:VEVENT
BEGIN:VEVENT
DTSTART;TZID=America/Chicago:20230912T160000
DTEND;TZID=America/Chicago:20230912T170000
DTSTAMP:20260425T073658
CREATED:20230814T132041Z
LAST-MODIFIED:20230814T132041Z
UID:10005936-1694534400-1694538000@www.springcreekoaks.org
SUMMARY:Kuehnle courts 3-4\, Red ball class
DESCRIPTION:
URL:https://www.springcreekoaks.org/reservations/kuehnle-courts-3-4-red-ball-class/2023-09-12/
CATEGORIES:Tennis
END:VEVENT
BEGIN:VEVENT
DTSTART;TZID=America/Chicago:20230912T170000
DTEND;TZID=America/Chicago:20230912T180000
DTSTAMP:20260425T073658
CREATED:20230814T132206Z
LAST-MODIFIED:20230814T132206Z
UID:10005955-1694538000-1694541600@www.springcreekoaks.org
SUMMARY:Kuehnle courts 3-4\, Green ball class
DESCRIPTION:
URL:https://www.springcreekoaks.org/reservations/kuehnle-courts-3-4-green-ball-class/2023-09-12/
CATEGORIES:Tennis
END:VEVENT
END:VCALENDAR