BEGIN:VCALENDAR
VERSION:2.0
PRODID:-//Spring Creek Oaks - ECPv6.15.20//NONSGML v1.0//EN
CALSCALE:GREGORIAN
METHOD:PUBLISH
X-WR-CALNAME:Spring Creek Oaks
X-ORIGINAL-URL:https://www.springcreekoaks.org
X-WR-CALDESC:Events for Spring Creek Oaks
REFRESH-INTERVAL;VALUE=DURATION:PT1H
X-Robots-Tag:noindex
X-PUBLISHED-TTL:PT1H
BEGIN:VTIMEZONE
TZID:America/Chicago
BEGIN:DAYLIGHT
TZOFFSETFROM:-0600
TZOFFSETTO:-0500
TZNAME:CDT
DTSTART:20220313T080000
END:DAYLIGHT
BEGIN:STANDARD
TZOFFSETFROM:-0500
TZOFFSETTO:-0600
TZNAME:CST
DTSTART:20221106T070000
END:STANDARD
BEGIN:DAYLIGHT
TZOFFSETFROM:-0600
TZOFFSETTO:-0500
TZNAME:CDT
DTSTART:20230312T080000
END:DAYLIGHT
BEGIN:STANDARD
TZOFFSETFROM:-0500
TZOFFSETTO:-0600
TZNAME:CST
DTSTART:20231105T070000
END:STANDARD
BEGIN:DAYLIGHT
TZOFFSETFROM:-0600
TZOFFSETTO:-0500
TZNAME:CDT
DTSTART:20240310T080000
END:DAYLIGHT
BEGIN:STANDARD
TZOFFSETFROM:-0500
TZOFFSETTO:-0600
TZNAME:CST
DTSTART:20241103T070000
END:STANDARD
END:VTIMEZONE
BEGIN:VEVENT
DTSTART;TZID=America/Chicago:20230815T100000
DTEND;TZID=America/Chicago:20230815T110000
DTSTAMP:20260425T193640
CREATED:20230814T131902Z
LAST-MODIFIED:20230814T131902Z
UID:10005913-1692093600-1692097200@www.springcreekoaks.org
SUMMARY:Kuehnle courts 3-4\, intermediate homeschool class
DESCRIPTION:
URL:https://www.springcreekoaks.org/reservations/kuehnle-courts-3-4-intermediate-homeschool-class/2023-08-15/
CATEGORIES:Tennis
END:VEVENT
BEGIN:VEVENT
DTSTART;TZID=America/Chicago:20230815T160000
DTEND;TZID=America/Chicago:20230815T170000
DTSTAMP:20260425T193640
CREATED:20230814T132041Z
LAST-MODIFIED:20230814T132041Z
UID:10005932-1692115200-1692118800@www.springcreekoaks.org
SUMMARY:Kuehnle courts 3-4\, Red ball class
DESCRIPTION:
URL:https://www.springcreekoaks.org/reservations/kuehnle-courts-3-4-red-ball-class/2023-08-15/
CATEGORIES:Tennis
END:VEVENT
BEGIN:VEVENT
DTSTART;TZID=America/Chicago:20230815T170000
DTEND;TZID=America/Chicago:20230815T180000
DTSTAMP:20260425T193640
CREATED:20230814T132206Z
LAST-MODIFIED:20230814T132206Z
UID:10005951-1692118800-1692122400@www.springcreekoaks.org
SUMMARY:Kuehnle courts 3-4\, Green ball class
DESCRIPTION:
URL:https://www.springcreekoaks.org/reservations/kuehnle-courts-3-4-green-ball-class/2023-08-15/
CATEGORIES:Tennis
END:VEVENT
BEGIN:VEVENT
DTSTART;TZID=America/Chicago:20230815T180000
DTEND;TZID=America/Chicago:20230815T193000
DTSTAMP:20260425T193640
CREATED:20230814T132345Z
LAST-MODIFIED:20230814T132345Z
UID:10005970-1692122400-1692127800@www.springcreekoaks.org
SUMMARY:Kuehnle courts 3-4\, Yellow ball class
DESCRIPTION:
URL:https://www.springcreekoaks.org/reservations/kuehnle-courts-3-4-yellow-ball-class-2/2023-08-15/
CATEGORIES:Tennis
END:VEVENT
BEGIN:VEVENT
DTSTART;TZID=America/Chicago:20230816T090000
DTEND;TZID=America/Chicago:20230816T100000
DTSTAMP:20260425T193640
CREATED:20230814T132524Z
LAST-MODIFIED:20230814T132524Z
UID:10005989-1692176400-1692180000@www.springcreekoaks.org
SUMMARY:Kuehnle courts 3-4\, intermediate homeschool class
DESCRIPTION:
URL:https://www.springcreekoaks.org/reservations/kuehnle-courts-3-4-intermediate-homeschool-class-2/2023-08-16/
CATEGORIES:Tennis
END:VEVENT
BEGIN:VEVENT
DTSTART;TZID=America/Chicago:20230816T090000
DTEND;TZID=America/Chicago:20230816T120000
DTSTAMP:20260425T193640
CREATED:20221227T222834Z
LAST-MODIFIED:20221227T222834Z
UID:10005240-1692176400-1692187200@www.springcreekoaks.org
SUMMARY:CH 1 courts 2-3\, Hudson
DESCRIPTION:
URL:https://www.springcreekoaks.org/reservations/ch-1-courts-2-3-hudson/2023-08-16/
CATEGORIES:Tennis
END:VEVENT
BEGIN:VEVENT
DTSTART;TZID=America/Chicago:20230816T170000
DTEND;TZID=America/Chicago:20230816T180000
DTSTAMP:20260425T193640
CREATED:20230814T132653Z
LAST-MODIFIED:20230814T132653Z
UID:10006008-1692205200-1692208800@www.springcreekoaks.org
SUMMARY:Kuehnle courts 3-4\, Orange ball class
DESCRIPTION:
URL:https://www.springcreekoaks.org/reservations/kuehnle-courts-3-4-orange-ball-class-2/2023-08-16/
CATEGORIES:Tennis
END:VEVENT
BEGIN:VEVENT
DTSTART;TZID=America/Chicago:20230816T180000
DTEND;TZID=America/Chicago:20230816T190000
DTSTAMP:20260425T193640
CREATED:20230814T132829Z
LAST-MODIFIED:20230814T132829Z
UID:10006027-1692208800-1692212400@www.springcreekoaks.org
SUMMARY:Kuehnle courts 3-4\, Yellow ball class
DESCRIPTION:
URL:https://www.springcreekoaks.org/reservations/kuehnle-courts-3-4-yellow-ball-class-3/2023-08-16/
CATEGORIES:Tennis
END:VEVENT
BEGIN:VEVENT
DTSTART;TZID=America/Chicago:20230817T090000
DTEND;TZID=America/Chicago:20230817T110000
DTSTAMP:20260425T193640
CREATED:20230821T190602Z
LAST-MODIFIED:20230821T190602Z
UID:10006141-1692262800-1692270000@www.springcreekoaks.org
SUMMARY:Kuehnle courts 3-4\, Homeschool classes
DESCRIPTION:
URL:https://www.springcreekoaks.org/reservations/kuehnle-courts-3-4-homeschool-classes/2023-08-17/
CATEGORIES:Tennis
END:VEVENT
BEGIN:VEVENT
DTSTART;TZID=America/Chicago:20230817T090000
DTEND;TZID=America/Chicago:20230817T120000
DTSTAMP:20260425T193640
CREATED:20240109T174945Z
LAST-MODIFIED:20240109T174945Z
UID:10002474-1692262800-1692273600@www.springcreekoaks.org
SUMMARY:CH 1 courts 2-3\, Pickleball meet and greet
DESCRIPTION:
URL:https://www.springcreekoaks.org/reservations/ch-1-courts-2-3-pickleball-meet-and-greet-4/2023-08-17/
CATEGORIES:Tennis
END:VEVENT
BEGIN:VEVENT
DTSTART;TZID=America/Chicago:20230817T170000
DTEND;TZID=America/Chicago:20230817T180000
DTSTAMP:20260425T193640
CREATED:20230814T132947Z
LAST-MODIFIED:20230814T132947Z
UID:10006046-1692291600-1692295200@www.springcreekoaks.org
SUMMARY:Kuehnle courts 3-4\, Orange ball class
DESCRIPTION:
URL:https://www.springcreekoaks.org/reservations/kuehnle-courts-3-4-orange-ball-class-3/2023-08-17/
CATEGORIES:Tennis
END:VEVENT
BEGIN:VEVENT
DTSTART;TZID=America/Chicago:20230817T180000
DTEND;TZID=America/Chicago:20230817T193000
DTSTAMP:20260425T193640
CREATED:20230814T133101Z
LAST-MODIFIED:20230814T133101Z
UID:10006065-1692295200-1692300600@www.springcreekoaks.org
SUMMARY:Kuehnle courts 3-4\, Yellow ball class
DESCRIPTION:
URL:https://www.springcreekoaks.org/reservations/kuehnle-courts-3-4-yellow-ball-class-4/2023-08-17/
CATEGORIES:Tennis
END:VEVENT
BEGIN:VEVENT
DTSTART;TZID=America/Chicago:20230818T083000
DTEND;TZID=America/Chicago:20230818T113000
DTSTAMP:20260425T193640
CREATED:20230812T195641Z
LAST-MODIFIED:20230812T195641Z
UID:10003498-1692347400-1692358200@www.springcreekoaks.org
SUMMARY:Kuehnle courts 1-2\, Hancock
DESCRIPTION:
URL:https://www.springcreekoaks.org/reservations/kuehnle-courts-1-2-hancock-2/
CATEGORIES:Tennis
END:VEVENT
BEGIN:VEVENT
DTSTART;TZID=America/Chicago:20230818T083000
DTEND;TZID=America/Chicago:20230818T120000
DTSTAMP:20260425T193640
CREATED:20230502T065145Z
LAST-MODIFIED:20230502T065145Z
UID:10002887-1692347400-1692360000@www.springcreekoaks.org
SUMMARY:CH 2 courts 1 and 3\, Lopez
DESCRIPTION:
URL:https://www.springcreekoaks.org/reservations/ch-2-courts-1-and-3-lopez-2/2023-08-18/
CATEGORIES:Tennis
END:VEVENT
BEGIN:VEVENT
DTSTART;TZID=America/Chicago:20230818T180000
DTEND;TZID=America/Chicago:20230818T190000
DTSTAMP:20260425T193640
CREATED:20230814T133222Z
LAST-MODIFIED:20230814T133222Z
UID:10006084-1692381600-1692385200@www.springcreekoaks.org
SUMMARY:Kuehnle courts 3-4\, Yellow ball class
DESCRIPTION:
URL:https://www.springcreekoaks.org/reservations/kuehnle-courts-3-4-yellow-ball-class-5/2023-08-18/
CATEGORIES:Tennis
END:VEVENT
BEGIN:VEVENT
DTSTART;TZID=America/Chicago:20230819T090000
DTEND;TZID=America/Chicago:20230819T120000
DTSTAMP:20260425T193640
CREATED:20240109T174947Z
LAST-MODIFIED:20240109T174947Z
UID:10002494-1692435600-1692446400@www.springcreekoaks.org
SUMMARY:CH 1 courts 2-3\, Pickleball meet and greet
DESCRIPTION:
URL:https://www.springcreekoaks.org/reservations/ch-1-courts-2-3-pickleball-meet-and-greet-4/2023-08-19/
CATEGORIES:Tennis
END:VEVENT
BEGIN:VEVENT
DTSTART;TZID=America/Chicago:20230821T073000
DTEND;TZID=America/Chicago:20230821T110000
DTSTAMP:20260425T193640
CREATED:20230820T223955Z
LAST-MODIFIED:20230820T223955Z
UID:10003588-1692603000-1692615600@www.springcreekoaks.org
SUMMARY:CH 2 court 3\, Lopez
DESCRIPTION:
URL:https://www.springcreekoaks.org/reservations/ch-2-court-3-lopez-34/
CATEGORIES:Tennis
END:VEVENT
BEGIN:VEVENT
DTSTART;TZID=America/Chicago:20230821T083000
DTEND;TZID=America/Chicago:20230821T100000
DTSTAMP:20260425T193640
CREATED:20230814T130951Z
LAST-MODIFIED:20230814T130951Z
UID:10003566-1692606600-1692612000@www.springcreekoaks.org
SUMMARY:Kuehnle courts 3-4\, Ladies open drill\, tennis pro Danny
DESCRIPTION:
URL:https://www.springcreekoaks.org/reservations/kuehnle-courts-3-4-ladies-open-drill-tennis-pro-danny/2023-08-21/
CATEGORIES:Tennis
END:VEVENT
BEGIN:VEVENT
DTSTART;TZID=America/Chicago:20230821T083000
DTEND;TZID=America/Chicago:20230821T113000
DTSTAMP:20260425T193640
CREATED:20230817T141415Z
LAST-MODIFIED:20230817T141415Z
UID:10000786-1692606600-1692617400@www.springcreekoaks.org
SUMMARY:Kuehnle court 2\, Hudson
DESCRIPTION:
URL:https://www.springcreekoaks.org/reservations/kuehnle-court-2-hudson-5/
CATEGORIES:Tennis
END:VEVENT
BEGIN:VEVENT
DTSTART;TZID=America/Chicago:20230821T100000
DTEND;TZID=America/Chicago:20230821T110000
DTSTAMP:20260425T193640
CREATED:20230814T131112Z
LAST-MODIFIED:20230814T131112Z
UID:10005819-1692612000-1692615600@www.springcreekoaks.org
SUMMARY:Kuehnle courts 3-4\, Intermediate Home School class
DESCRIPTION:
URL:https://www.springcreekoaks.org/reservations/kuehnle-courts-3-4-intermediate-home-school-class/2023-08-21/
CATEGORIES:Tennis
END:VEVENT
BEGIN:VEVENT
DTSTART;TZID=America/Chicago:20230821T170000
DTEND;TZID=America/Chicago:20230821T180000
DTSTAMP:20260425T193640
CREATED:20230814T131224Z
LAST-MODIFIED:20230814T131224Z
UID:10005838-1692637200-1692640800@www.springcreekoaks.org
SUMMARY:Kuehnle courts 3-4\, Orange ball class
DESCRIPTION:
URL:https://www.springcreekoaks.org/reservations/kuehnle-courts-3-4-orange-ball-class/2023-08-21/
CATEGORIES:Tennis
END:VEVENT
BEGIN:VEVENT
DTSTART;TZID=America/Chicago:20230821T180000
DTEND;TZID=America/Chicago:20230821T190000
DTSTAMP:20260425T193640
CREATED:20230814T131344Z
LAST-MODIFIED:20230814T131344Z
UID:10005857-1692640800-1692644400@www.springcreekoaks.org
SUMMARY:Kuehnle courts 3-4\, Yellow ball class
DESCRIPTION:
URL:https://www.springcreekoaks.org/reservations/kuehnle-courts-3-4-yellow-ball-class/2023-08-21/
CATEGORIES:Tennis
END:VEVENT
BEGIN:VEVENT
DTSTART;TZID=America/Chicago:20230821T190000
DTEND;TZID=America/Chicago:20230821T200000
DTSTAMP:20260425T193640
CREATED:20230814T131523Z
LAST-MODIFIED:20230814T131523Z
UID:10005876-1692644400-1692648000@www.springcreekoaks.org
SUMMARY:Kuehnle courts 3-4\, Adult drop-in drill\, all levels
DESCRIPTION:
URL:https://www.springcreekoaks.org/reservations/kuehnle-courts-3-4-adult-drop-in-drill-all-levels/2023-08-21/
CATEGORIES:Tennis
END:VEVENT
BEGIN:VEVENT
DTSTART;TZID=America/Chicago:20230822T090000
DTEND;TZID=America/Chicago:20230822T100000
DTSTAMP:20260425T193640
CREATED:20230814T131725Z
LAST-MODIFIED:20230814T131725Z
UID:10005895-1692694800-1692698400@www.springcreekoaks.org
SUMMARY:Kuehnle courts 3-4\, beginner Homeschool class
DESCRIPTION:
URL:https://www.springcreekoaks.org/reservations/kuehnle-courts-3-4-beginner-homeschool-class/2023-08-22/
CATEGORIES:Tennis
END:VEVENT
BEGIN:VEVENT
DTSTART;TZID=America/Chicago:20230822T090000
DTEND;TZID=America/Chicago:20230822T120000
DTSTAMP:20260425T193640
CREATED:20230613T170851Z
LAST-MODIFIED:20230613T170851Z
UID:10002462-1692694800-1692705600@www.springcreekoaks.org
SUMMARY:CH 1 courts 2-3\, Pickleball meet and greet
DESCRIPTION:
URL:https://www.springcreekoaks.org/reservations/ch-1-courts-2-3-pickleball-meet-and-greet-4/2023-08-22/
CATEGORIES:Tennis
END:VEVENT
BEGIN:VEVENT
DTSTART;TZID=America/Chicago:20230822T100000
DTEND;TZID=America/Chicago:20230822T110000
DTSTAMP:20260425T193640
CREATED:20230814T131902Z
LAST-MODIFIED:20230814T131902Z
UID:10005914-1692698400-1692702000@www.springcreekoaks.org
SUMMARY:Kuehnle courts 3-4\, intermediate homeschool class
DESCRIPTION:
URL:https://www.springcreekoaks.org/reservations/kuehnle-courts-3-4-intermediate-homeschool-class/2023-08-22/
CATEGORIES:Tennis
END:VEVENT
BEGIN:VEVENT
DTSTART;TZID=America/Chicago:20230822T160000
DTEND;TZID=America/Chicago:20230822T170000
DTSTAMP:20260425T193640
CREATED:20230814T132041Z
LAST-MODIFIED:20230814T132041Z
UID:10005933-1692720000-1692723600@www.springcreekoaks.org
SUMMARY:Kuehnle courts 3-4\, Red ball class
DESCRIPTION:
URL:https://www.springcreekoaks.org/reservations/kuehnle-courts-3-4-red-ball-class/2023-08-22/
CATEGORIES:Tennis
END:VEVENT
BEGIN:VEVENT
DTSTART;TZID=America/Chicago:20230822T170000
DTEND;TZID=America/Chicago:20230822T180000
DTSTAMP:20260425T193640
CREATED:20230814T132206Z
LAST-MODIFIED:20230814T132206Z
UID:10005952-1692723600-1692727200@www.springcreekoaks.org
SUMMARY:Kuehnle courts 3-4\, Green ball class
DESCRIPTION:
URL:https://www.springcreekoaks.org/reservations/kuehnle-courts-3-4-green-ball-class/2023-08-22/
CATEGORIES:Tennis
END:VEVENT
BEGIN:VEVENT
DTSTART;TZID=America/Chicago:20230822T180000
DTEND;TZID=America/Chicago:20230822T193000
DTSTAMP:20260425T193640
CREATED:20230814T132345Z
LAST-MODIFIED:20230814T132345Z
UID:10005971-1692727200-1692732600@www.springcreekoaks.org
SUMMARY:Kuehnle courts 3-4\, Yellow ball class
DESCRIPTION:
URL:https://www.springcreekoaks.org/reservations/kuehnle-courts-3-4-yellow-ball-class-2/2023-08-22/
CATEGORIES:Tennis
END:VEVENT
BEGIN:VEVENT
DTSTART;TZID=America/Chicago:20230823T090000
DTEND;TZID=America/Chicago:20230823T100000
DTSTAMP:20260425T193640
CREATED:20230814T132524Z
LAST-MODIFIED:20230814T132524Z
UID:10005990-1692781200-1692784800@www.springcreekoaks.org
SUMMARY:Kuehnle courts 3-4\, intermediate homeschool class
DESCRIPTION:
URL:https://www.springcreekoaks.org/reservations/kuehnle-courts-3-4-intermediate-homeschool-class-2/2023-08-23/
CATEGORIES:Tennis
END:VEVENT
END:VCALENDAR