BEGIN:VCALENDAR
VERSION:2.0
PRODID:-//Spring Creek Oaks - ECPv6.15.20//NONSGML v1.0//EN
CALSCALE:GREGORIAN
METHOD:PUBLISH
X-ORIGINAL-URL:https://www.springcreekoaks.org
X-WR-CALDESC:Events for Spring Creek Oaks
REFRESH-INTERVAL;VALUE=DURATION:PT1H
X-Robots-Tag:noindex
X-PUBLISHED-TTL:PT1H
BEGIN:VTIMEZONE
TZID:America/Chicago
BEGIN:DAYLIGHT
TZOFFSETFROM:-0600
TZOFFSETTO:-0500
TZNAME:CDT
DTSTART:20230312T080000
END:DAYLIGHT
BEGIN:STANDARD
TZOFFSETFROM:-0500
TZOFFSETTO:-0600
TZNAME:CST
DTSTART:20231105T070000
END:STANDARD
BEGIN:DAYLIGHT
TZOFFSETFROM:-0600
TZOFFSETTO:-0500
TZNAME:CDT
DTSTART:20240310T080000
END:DAYLIGHT
BEGIN:STANDARD
TZOFFSETFROM:-0500
TZOFFSETTO:-0600
TZNAME:CST
DTSTART:20241103T070000
END:STANDARD
BEGIN:DAYLIGHT
TZOFFSETFROM:-0600
TZOFFSETTO:-0500
TZNAME:CDT
DTSTART:20250309T080000
END:DAYLIGHT
BEGIN:STANDARD
TZOFFSETFROM:-0500
TZOFFSETTO:-0600
TZNAME:CST
DTSTART:20251102T070000
END:STANDARD
END:VTIMEZONE
BEGIN:VEVENT
DTSTART;TZID=America/Chicago:20240625T083000
DTEND;TZID=America/Chicago:20240625T120000
DTSTAMP:20260421T161012
CREATED:20231126T144446Z
LAST-MODIFIED:20231126T144859Z
UID:10003375-1719304200-1719316800@www.springcreekoaks.org
SUMMARY:CH 1 courts 2-3\, Palmer
DESCRIPTION:
URL:https://www.springcreekoaks.org/reservations/ch-1-courts-2-3-palmer/2024-06-25/
CATEGORIES:Tennis
END:VEVENT
BEGIN:VEVENT
DTSTART;TZID=America/Chicago:20240625T093000
DTEND;TZID=America/Chicago:20240625T110000
DTSTAMP:20260421T161012
CREATED:20240416T015901Z
LAST-MODIFIED:20240416T015901Z
UID:10008237-1719307800-1719313200@www.springcreekoaks.org
SUMMARY:CH 2 courts 1-6\, Coach Danny summer camp
DESCRIPTION:
URL:https://www.springcreekoaks.org/reservations/ch-2-courts-1-6-coach-danny-summer-camp-3/2024-06-25/
CATEGORIES:Tennis
END:VEVENT
BEGIN:VEVENT
DTSTART;TZID=America/Chicago:20240625T180000
DTEND;TZID=America/Chicago:20240625T210000
DTSTAMP:20260421T161012
CREATED:20240522T225323Z
LAST-MODIFIED:20240522T225610Z
UID:10008521-1719338400-1719349200@www.springcreekoaks.org
SUMMARY:CH 2 PB court 4\, L. Cook
DESCRIPTION:
URL:https://www.springcreekoaks.org/reservations/ch-2-pb-court-4-l-cook/2024-06-25/
CATEGORIES:Tennis
END:VEVENT
BEGIN:VEVENT
DTSTART;TZID=America/Chicago:20240625T183000
DTEND;TZID=America/Chicago:20240625T213000
DTSTAMP:20260421T161012
CREATED:20240522T021339Z
LAST-MODIFIED:20240522T021339Z
UID:10008506-1719340200-1719351000@www.springcreekoaks.org
SUMMARY:CH 2 PB courts 1-3\, A. Cortez
DESCRIPTION:
URL:https://www.springcreekoaks.org/reservations/ch-2-pb-courts-1-3-a-cortez/2024-06-25/
CATEGORIES:Tennis
END:VEVENT
END:VCALENDAR