BEGIN:VCALENDAR
VERSION:2.0
PRODID:-//Spring Creek Oaks - ECPv6.15.20//NONSGML v1.0//EN
CALSCALE:GREGORIAN
METHOD:PUBLISH
X-WR-CALNAME:Spring Creek Oaks
X-ORIGINAL-URL:https://www.springcreekoaks.org
X-WR-CALDESC:Events for Spring Creek Oaks
REFRESH-INTERVAL;VALUE=DURATION:PT1H
X-Robots-Tag:noindex
X-PUBLISHED-TTL:PT1H
BEGIN:VTIMEZONE
TZID:America/Chicago
BEGIN:DAYLIGHT
TZOFFSETFROM:-0600
TZOFFSETTO:-0500
TZNAME:CDT
DTSTART:20220313T080000
END:DAYLIGHT
BEGIN:STANDARD
TZOFFSETFROM:-0500
TZOFFSETTO:-0600
TZNAME:CST
DTSTART:20221106T070000
END:STANDARD
BEGIN:DAYLIGHT
TZOFFSETFROM:-0600
TZOFFSETTO:-0500
TZNAME:CDT
DTSTART:20230312T080000
END:DAYLIGHT
BEGIN:STANDARD
TZOFFSETFROM:-0500
TZOFFSETTO:-0600
TZNAME:CST
DTSTART:20231105T070000
END:STANDARD
BEGIN:DAYLIGHT
TZOFFSETFROM:-0600
TZOFFSETTO:-0500
TZNAME:CDT
DTSTART:20240310T080000
END:DAYLIGHT
BEGIN:STANDARD
TZOFFSETFROM:-0500
TZOFFSETTO:-0600
TZNAME:CST
DTSTART:20241103T070000
END:STANDARD
END:VTIMEZONE
BEGIN:VEVENT
DTSTART;TZID=America/Chicago:20231204T083000
DTEND;TZID=America/Chicago:20231204T100000
DTSTAMP:20260423T015101
CREATED:20230814T130951Z
LAST-MODIFIED:20230814T130951Z
UID:10003581-1701678600-1701684000@www.springcreekoaks.org
SUMMARY:Kuehnle courts 3-4\, Ladies open drill\, tennis pro Danny
DESCRIPTION:
URL:https://www.springcreekoaks.org/reservations/kuehnle-courts-3-4-ladies-open-drill-tennis-pro-danny/2023-12-04/
CATEGORIES:Tennis
END:VEVENT
BEGIN:VEVENT
DTSTART;TZID=America/Chicago:20231204T083000
DTEND;TZID=America/Chicago:20231204T103000
DTSTAMP:20260423T015101
CREATED:20231205T011806Z
LAST-MODIFIED:20231205T011806Z
UID:10004050-1701678600-1701685800@www.springcreekoaks.org
SUMMARY:CH 2 court 6\, Lopez
DESCRIPTION:
URL:https://www.springcreekoaks.org/reservations/ch-2-court-6-lopez-8/
CATEGORIES:Tennis
END:VEVENT
BEGIN:VEVENT
DTSTART;TZID=America/Chicago:20231204T083000
DTEND;TZID=America/Chicago:20231204T120000
DTSTAMP:20260423T015101
CREATED:20231115T203441Z
LAST-MODIFIED:20231130T042738Z
UID:10006351-1701678600-1701691200@www.springcreekoaks.org
SUMMARY:CH 2 courts 1-2\, rain makeup\, Karpiuk
DESCRIPTION:
URL:https://www.springcreekoaks.org/reservations/kuehnle-courts-1-2-rain-makeup-carpiuk/
CATEGORIES:Tennis
END:VEVENT
BEGIN:VEVENT
DTSTART;TZID=America/Chicago:20231204T083000
DTEND;TZID=America/Chicago:20231204T120000
DTSTAMP:20260423T015101
CREATED:20231201T220339Z
LAST-MODIFIED:20231201T220339Z
UID:10003690-1701678600-1701691200@www.springcreekoaks.org
SUMMARY:CH 2 courts 4 and 6\, JR open 1 rain makeup
DESCRIPTION:
URL:https://www.springcreekoaks.org/reservations/ch-2-courts-4-and-6-jr-open-1-rain-makeup/
CATEGORIES:Tennis
END:VEVENT
BEGIN:VEVENT
DTSTART;TZID=America/Chicago:20231204T100000
DTEND;TZID=America/Chicago:20231204T110000
DTSTAMP:20260423T015101
CREATED:20230814T131112Z
LAST-MODIFIED:20230814T131112Z
UID:10005834-1701684000-1701687600@www.springcreekoaks.org
SUMMARY:Kuehnle courts 3-4\, Intermediate Home School class
DESCRIPTION:
URL:https://www.springcreekoaks.org/reservations/kuehnle-courts-3-4-intermediate-home-school-class/2023-12-04/
CATEGORIES:Tennis
END:VEVENT
BEGIN:VEVENT
DTSTART;TZID=America/Chicago:20231204T170000
DTEND;TZID=America/Chicago:20231204T180000
DTSTAMP:20260423T015101
CREATED:20230814T131224Z
LAST-MODIFIED:20230814T131224Z
UID:10005853-1701709200-1701712800@www.springcreekoaks.org
SUMMARY:Kuehnle courts 3-4\, Orange ball class
DESCRIPTION:
URL:https://www.springcreekoaks.org/reservations/kuehnle-courts-3-4-orange-ball-class/2023-12-04/
CATEGORIES:Tennis
END:VEVENT
BEGIN:VEVENT
DTSTART;TZID=America/Chicago:20231204T180000
DTEND;TZID=America/Chicago:20231204T190000
DTSTAMP:20260423T015101
CREATED:20230814T131344Z
LAST-MODIFIED:20230814T131344Z
UID:10005872-1701712800-1701716400@www.springcreekoaks.org
SUMMARY:Kuehnle courts 3-4\, Yellow ball class
DESCRIPTION:
URL:https://www.springcreekoaks.org/reservations/kuehnle-courts-3-4-yellow-ball-class/2023-12-04/
CATEGORIES:Tennis
END:VEVENT
BEGIN:VEVENT
DTSTART;TZID=America/Chicago:20231204T180000
DTEND;TZID=America/Chicago:20231204T220000
DTSTAMP:20260423T015101
CREATED:20231023T134030Z
LAST-MODIFIED:20231023T134208Z
UID:10003687-1701712800-1701727200@www.springcreekoaks.org
SUMMARY:CH 1 courts 2-3\, Monday night pickleball\, Blackburn
DESCRIPTION:
URL:https://www.springcreekoaks.org/reservations/ch-1-courts-2-3-monday-night-pickleball-blackburn/2023-12-04/
CATEGORIES:Tennis
END:VEVENT
BEGIN:VEVENT
DTSTART;TZID=America/Chicago:20231204T190000
DTEND;TZID=America/Chicago:20231204T200000
DTSTAMP:20260423T015101
CREATED:20230814T131523Z
LAST-MODIFIED:20230814T131523Z
UID:10005891-1701716400-1701720000@www.springcreekoaks.org
SUMMARY:Kuehnle courts 3-4\, Adult drop-in drill\, all levels
DESCRIPTION:
URL:https://www.springcreekoaks.org/reservations/kuehnle-courts-3-4-adult-drop-in-drill-all-levels/2023-12-04/
CATEGORIES:Tennis
END:VEVENT
END:VCALENDAR