BEGIN:VCALENDAR
VERSION:2.0
PRODID:-//Spring Creek Oaks - ECPv6.15.20//NONSGML v1.0//EN
CALSCALE:GREGORIAN
METHOD:PUBLISH
X-WR-CALNAME:Spring Creek Oaks
X-ORIGINAL-URL:https://www.springcreekoaks.org
X-WR-CALDESC:Events for Spring Creek Oaks
REFRESH-INTERVAL;VALUE=DURATION:PT1H
X-Robots-Tag:noindex
X-PUBLISHED-TTL:PT1H
BEGIN:VTIMEZONE
TZID:America/Chicago
BEGIN:DAYLIGHT
TZOFFSETFROM:-0600
TZOFFSETTO:-0500
TZNAME:CDT
DTSTART:20220313T080000
END:DAYLIGHT
BEGIN:STANDARD
TZOFFSETFROM:-0500
TZOFFSETTO:-0600
TZNAME:CST
DTSTART:20221106T070000
END:STANDARD
BEGIN:DAYLIGHT
TZOFFSETFROM:-0600
TZOFFSETTO:-0500
TZNAME:CDT
DTSTART:20230312T080000
END:DAYLIGHT
BEGIN:STANDARD
TZOFFSETFROM:-0500
TZOFFSETTO:-0600
TZNAME:CST
DTSTART:20231105T070000
END:STANDARD
BEGIN:DAYLIGHT
TZOFFSETFROM:-0600
TZOFFSETTO:-0500
TZNAME:CDT
DTSTART:20240310T080000
END:DAYLIGHT
BEGIN:STANDARD
TZOFFSETFROM:-0500
TZOFFSETTO:-0600
TZNAME:CST
DTSTART:20241103T070000
END:STANDARD
END:VTIMEZONE
BEGIN:VEVENT
DTSTART;TZID=America/Chicago:20231013T090000
DTEND;TZID=America/Chicago:20231013T120000
DTSTAMP:20260424T032032
CREATED:20231011T031433Z
LAST-MODIFIED:20231011T031433Z
UID:10006316-1697187600-1697198400@www.springcreekoaks.org
SUMMARY:Kuehnle courts 1-2\, Hancock
DESCRIPTION:
URL:https://www.springcreekoaks.org/reservations/kuehnle-courts-1-2-hancock-3/
CATEGORIES:Tennis
END:VEVENT
BEGIN:VEVENT
DTSTART;TZID=America/Chicago:20231013T090000
DTEND;TZID=America/Chicago:20231013T120000
DTSTAMP:20260424T032032
CREATED:20231012T233437Z
LAST-MODIFIED:20231012T233437Z
UID:10006340-1697187600-1697198400@www.springcreekoaks.org
SUMMARY:CH 2 court 6\, Hudson
DESCRIPTION:
URL:https://www.springcreekoaks.org/reservations/ch-2-court-6-hudson-20/
CATEGORIES:Tennis
END:VEVENT
BEGIN:VEVENT
DTSTART;TZID=America/Chicago:20231013T180000
DTEND;TZID=America/Chicago:20231013T190000
DTSTAMP:20260424T032032
CREATED:20230814T133222Z
LAST-MODIFIED:20230814T133222Z
UID:10006092-1697220000-1697223600@www.springcreekoaks.org
SUMMARY:Kuehnle courts 3-4\, Yellow ball class
DESCRIPTION:
URL:https://www.springcreekoaks.org/reservations/kuehnle-courts-3-4-yellow-ball-class-5/2023-10-13/
CATEGORIES:Tennis
END:VEVENT
BEGIN:VEVENT
DTSTART;TZID=America/Chicago:20231013T190000
DTEND;TZID=America/Chicago:20231013T200000
DTSTAMP:20260424T032032
CREATED:20231012T233628Z
LAST-MODIFIED:20231012T233628Z
UID:10006341-1697223600-1697227200@www.springcreekoaks.org
SUMMARY:CH 1\, court 3\, C. Kelly
DESCRIPTION:
URL:https://www.springcreekoaks.org/reservations/ch-1-court-3-c-kelly/
CATEGORIES:Tennis
END:VEVENT
END:VCALENDAR