BEGIN:VCALENDAR
VERSION:2.0
PRODID:-//Spring Creek Oaks - ECPv6.15.20//NONSGML v1.0//EN
CALSCALE:GREGORIAN
METHOD:PUBLISH
X-ORIGINAL-URL:https://www.springcreekoaks.org
X-WR-CALDESC:Events for Spring Creek Oaks
REFRESH-INTERVAL;VALUE=DURATION:PT1H
X-Robots-Tag:noindex
X-PUBLISHED-TTL:PT1H
BEGIN:VTIMEZONE
TZID:America/Chicago
BEGIN:DAYLIGHT
TZOFFSETFROM:-0600
TZOFFSETTO:-0500
TZNAME:CDT
DTSTART:20220313T080000
END:DAYLIGHT
BEGIN:STANDARD
TZOFFSETFROM:-0500
TZOFFSETTO:-0600
TZNAME:CST
DTSTART:20221106T070000
END:STANDARD
BEGIN:DAYLIGHT
TZOFFSETFROM:-0600
TZOFFSETTO:-0500
TZNAME:CDT
DTSTART:20230312T080000
END:DAYLIGHT
BEGIN:STANDARD
TZOFFSETFROM:-0500
TZOFFSETTO:-0600
TZNAME:CST
DTSTART:20231105T070000
END:STANDARD
BEGIN:DAYLIGHT
TZOFFSETFROM:-0600
TZOFFSETTO:-0500
TZNAME:CDT
DTSTART:20240310T080000
END:DAYLIGHT
BEGIN:STANDARD
TZOFFSETFROM:-0500
TZOFFSETTO:-0600
TZNAME:CST
DTSTART:20241103T070000
END:STANDARD
END:VTIMEZONE
BEGIN:VEVENT
DTSTART;TZID=America/Chicago:20230925T083000
DTEND;TZID=America/Chicago:20230925T100000
DTSTAMP:20260425T061720
CREATED:20230814T130951Z
LAST-MODIFIED:20230814T130951Z
UID:10003571-1695630600-1695636000@www.springcreekoaks.org
SUMMARY:Kuehnle courts 3-4\, Ladies open drill\, tennis pro Danny
DESCRIPTION:
URL:https://www.springcreekoaks.org/reservations/kuehnle-courts-3-4-ladies-open-drill-tennis-pro-danny/2023-09-25/
CATEGORIES:Tennis
END:VEVENT
BEGIN:VEVENT
DTSTART;TZID=America/Chicago:20230925T090000
DTEND;TZID=America/Chicago:20230925T120000
DTSTAMP:20260425T061720
CREATED:20230916T183938Z
LAST-MODIFIED:20230916T183938Z
UID:10006231-1695632400-1695643200@www.springcreekoaks.org
SUMMARY:CH 2 court 3\, Lopez
DESCRIPTION:
URL:https://www.springcreekoaks.org/reservations/ch-2-court-3-lopez-37/
CATEGORIES:Tennis
END:VEVENT
BEGIN:VEVENT
DTSTART;TZID=America/Chicago:20230925T090000
DTEND;TZID=America/Chicago:20230925T120000
DTSTAMP:20260425T061720
CREATED:20230920T184658Z
LAST-MODIFIED:20230920T184658Z
UID:10006308-1695632400-1695643200@www.springcreekoaks.org
SUMMARY:CH 2 court 6\, Hudson
DESCRIPTION:
URL:https://www.springcreekoaks.org/reservations/ch-2-court-6-hudson-19/
CATEGORIES:Tennis
END:VEVENT
BEGIN:VEVENT
DTSTART;TZID=America/Chicago:20230925T100000
DTEND;TZID=America/Chicago:20230925T110000
DTSTAMP:20260425T061720
CREATED:20230814T131112Z
LAST-MODIFIED:20230814T131112Z
UID:10005824-1695636000-1695639600@www.springcreekoaks.org
SUMMARY:Kuehnle courts 3-4\, Intermediate Home School class
DESCRIPTION:
URL:https://www.springcreekoaks.org/reservations/kuehnle-courts-3-4-intermediate-home-school-class/2023-09-25/
CATEGORIES:Tennis
END:VEVENT
BEGIN:VEVENT
DTSTART;TZID=America/Chicago:20230925T170000
DTEND;TZID=America/Chicago:20230925T180000
DTSTAMP:20260425T061720
CREATED:20230814T131224Z
LAST-MODIFIED:20230814T131224Z
UID:10005843-1695661200-1695664800@www.springcreekoaks.org
SUMMARY:Kuehnle courts 3-4\, Orange ball class
DESCRIPTION:
URL:https://www.springcreekoaks.org/reservations/kuehnle-courts-3-4-orange-ball-class/2023-09-25/
CATEGORIES:Tennis
END:VEVENT
BEGIN:VEVENT
DTSTART;TZID=America/Chicago:20230925T180000
DTEND;TZID=America/Chicago:20230925T190000
DTSTAMP:20260425T061720
CREATED:20230814T131344Z
LAST-MODIFIED:20230814T131344Z
UID:10005862-1695664800-1695668400@www.springcreekoaks.org
SUMMARY:Kuehnle courts 3-4\, Yellow ball class
DESCRIPTION:
URL:https://www.springcreekoaks.org/reservations/kuehnle-courts-3-4-yellow-ball-class/2023-09-25/
CATEGORIES:Tennis
END:VEVENT
BEGIN:VEVENT
DTSTART;TZID=America/Chicago:20230925T190000
DTEND;TZID=America/Chicago:20230925T200000
DTSTAMP:20260425T061720
CREATED:20230814T131523Z
LAST-MODIFIED:20230814T131523Z
UID:10005881-1695668400-1695672000@www.springcreekoaks.org
SUMMARY:Kuehnle courts 3-4\, Adult drop-in drill\, all levels
DESCRIPTION:
URL:https://www.springcreekoaks.org/reservations/kuehnle-courts-3-4-adult-drop-in-drill-all-levels/2023-09-25/
CATEGORIES:Tennis
END:VEVENT
BEGIN:VEVENT
DTSTART;TZID=America/Chicago:20230925T190000
DTEND;TZID=America/Chicago:20230925T220000
DTSTAMP:20260425T061720
CREATED:20230909T134836Z
LAST-MODIFIED:20230909T134836Z
UID:10006292-1695668400-1695679200@www.springcreekoaks.org
SUMMARY:CH 2 courts 1-6\, NHTA A2
DESCRIPTION:
URL:https://www.springcreekoaks.org/reservations/ch-2-courts-1-6-nhta-a2-3/2023-09-25/
CATEGORIES:Tennis
END:VEVENT
END:VCALENDAR