BEGIN:VCALENDAR
VERSION:2.0
PRODID:-//Spring Creek Oaks - ECPv6.15.20//NONSGML v1.0//EN
CALSCALE:GREGORIAN
METHOD:PUBLISH
X-WR-CALNAME:Spring Creek Oaks
X-ORIGINAL-URL:https://www.springcreekoaks.org
X-WR-CALDESC:Events for Spring Creek Oaks
REFRESH-INTERVAL;VALUE=DURATION:PT1H
X-Robots-Tag:noindex
X-PUBLISHED-TTL:PT1H
BEGIN:VTIMEZONE
TZID:America/Chicago
BEGIN:DAYLIGHT
TZOFFSETFROM:-0600
TZOFFSETTO:-0500
TZNAME:CDT
DTSTART:20220313T080000
END:DAYLIGHT
BEGIN:STANDARD
TZOFFSETFROM:-0500
TZOFFSETTO:-0600
TZNAME:CST
DTSTART:20221106T070000
END:STANDARD
BEGIN:DAYLIGHT
TZOFFSETFROM:-0600
TZOFFSETTO:-0500
TZNAME:CDT
DTSTART:20230312T080000
END:DAYLIGHT
BEGIN:STANDARD
TZOFFSETFROM:-0500
TZOFFSETTO:-0600
TZNAME:CST
DTSTART:20231105T070000
END:STANDARD
BEGIN:DAYLIGHT
TZOFFSETFROM:-0600
TZOFFSETTO:-0500
TZNAME:CDT
DTSTART:20240310T080000
END:DAYLIGHT
BEGIN:STANDARD
TZOFFSETFROM:-0500
TZOFFSETTO:-0600
TZNAME:CST
DTSTART:20241103T070000
END:STANDARD
END:VTIMEZONE
BEGIN:VEVENT
DTSTART;TZID=America/Chicago:20230801T090000
DTEND;TZID=America/Chicago:20230801T120000
DTSTAMP:20260425T075709
CREATED:20230613T170851Z
LAST-MODIFIED:20230613T170851Z
UID:10002459-1690880400-1690891200@www.springcreekoaks.org
SUMMARY:CH 1 courts 2-3\, Pickleball meet and greet
DESCRIPTION:
URL:https://www.springcreekoaks.org/reservations/ch-1-courts-2-3-pickleball-meet-and-greet-4/2023-08-01/
CATEGORIES:Tennis
END:VEVENT
BEGIN:VEVENT
DTSTART;TZID=America/Chicago:20230801T093000
DTEND;TZID=America/Chicago:20230801T123000
DTSTAMP:20260425T075709
CREATED:20230330T021912Z
LAST-MODIFIED:20230330T021912Z
UID:10002789-1690882200-1690893000@www.springcreekoaks.org
SUMMARY:CH 2 courts 1-3\, Coach Danny tennis camp
DESCRIPTION:
URL:https://www.springcreekoaks.org/reservations/ch-2-courts-1-3-coach-danny-tennis-camp-6/2023-08-01/
CATEGORIES:Tennis
END:VEVENT
BEGIN:VEVENT
DTSTART;TZID=America/Chicago:20230802T073000
DTEND;TZID=America/Chicago:20230802T103000
DTSTAMP:20260425T075709
CREATED:20230612T174857Z
LAST-MODIFIED:20230612T174857Z
UID:10002391-1690961400-1690972200@www.springcreekoaks.org
SUMMARY:Ch 2 court 6\, Lopez
DESCRIPTION:
URL:https://www.springcreekoaks.org/reservations/ch-2-court-6-lopez-7/2023-08-02/
CATEGORIES:Tennis
END:VEVENT
BEGIN:VEVENT
DTSTART;TZID=America/Chicago:20230802T090000
DTEND;TZID=America/Chicago:20230802T120000
DTSTAMP:20260425T075709
CREATED:20221227T222834Z
LAST-MODIFIED:20221227T222834Z
UID:10005238-1690966800-1690977600@www.springcreekoaks.org
SUMMARY:CH 1 courts 2-3\, Hudson
DESCRIPTION:
URL:https://www.springcreekoaks.org/reservations/ch-1-courts-2-3-hudson/2023-08-02/
CATEGORIES:Tennis
END:VEVENT
BEGIN:VEVENT
DTSTART;TZID=America/Chicago:20230802T093000
DTEND;TZID=America/Chicago:20230802T123000
DTSTAMP:20260425T075709
CREATED:20230330T021912Z
LAST-MODIFIED:20230330T021912Z
UID:10002790-1690968600-1690979400@www.springcreekoaks.org
SUMMARY:CH 2 courts 1-3\, Coach Danny tennis camp
DESCRIPTION:
URL:https://www.springcreekoaks.org/reservations/ch-2-courts-1-3-coach-danny-tennis-camp-6/2023-08-02/
CATEGORIES:Tennis
END:VEVENT
BEGIN:VEVENT
DTSTART;TZID=America/Chicago:20230803T090000
DTEND;TZID=America/Chicago:20230803T120000
DTSTAMP:20260425T075709
CREATED:20240109T174945Z
LAST-MODIFIED:20240109T174945Z
UID:10002472-1691053200-1691064000@www.springcreekoaks.org
SUMMARY:CH 1 courts 2-3\, Pickleball meet and greet
DESCRIPTION:
URL:https://www.springcreekoaks.org/reservations/ch-1-courts-2-3-pickleball-meet-and-greet-4/2023-08-03/
CATEGORIES:Tennis
END:VEVENT
BEGIN:VEVENT
DTSTART;TZID=America/Chicago:20230803T093000
DTEND;TZID=America/Chicago:20230803T123000
DTSTAMP:20260425T075709
CREATED:20230330T021912Z
LAST-MODIFIED:20230330T021912Z
UID:10002791-1691055000-1691065800@www.springcreekoaks.org
SUMMARY:CH 2 courts 1-3\, Coach Danny tennis camp
DESCRIPTION:
URL:https://www.springcreekoaks.org/reservations/ch-2-courts-1-3-coach-danny-tennis-camp-6/2023-08-03/
CATEGORIES:Tennis
END:VEVENT
BEGIN:VEVENT
DTSTART;TZID=America/Chicago:20230804T083000
DTEND;TZID=America/Chicago:20230804T120000
DTSTAMP:20260425T075709
CREATED:20230502T144720Z
LAST-MODIFIED:20230510T180844Z
UID:10002940-1691137800-1691150400@www.springcreekoaks.org
SUMMARY:CH 2 courts 4 and 6\, Lopez
DESCRIPTION:
URL:https://www.springcreekoaks.org/reservations/ch-2-courts-4-and-6-lopez-2023-06-09/2023-08-04/
CATEGORIES:Tennis
END:VEVENT
BEGIN:VEVENT
DTSTART;TZID=America/Chicago:20230804T090000
DTEND;TZID=America/Chicago:20230804T120000
DTSTAMP:20260425T075709
CREATED:20230802T211459Z
LAST-MODIFIED:20230802T211459Z
UID:10005816-1691139600-1691150400@www.springcreekoaks.org
SUMMARY:Kuehnle court 2\, Hudson
DESCRIPTION:
URL:https://www.springcreekoaks.org/reservations/kuehnle-court-2-hudson-4/
CATEGORIES:Tennis
END:VEVENT
BEGIN:VEVENT
DTSTART;TZID=America/Chicago:20230804T093000
DTEND;TZID=America/Chicago:20230804T123000
DTSTAMP:20260425T075709
CREATED:20230330T021912Z
LAST-MODIFIED:20230330T021912Z
UID:10002792-1691141400-1691152200@www.springcreekoaks.org
SUMMARY:CH 2 courts 1-3\, Coach Danny tennis camp
DESCRIPTION:
URL:https://www.springcreekoaks.org/reservations/ch-2-courts-1-3-coach-danny-tennis-camp-6/2023-08-04/
CATEGORIES:Tennis
END:VEVENT
BEGIN:VEVENT
DTSTART;TZID=America/Chicago:20230804T170000
DTEND;TZID=America/Chicago:20230804T190000
DTSTAMP:20260425T075709
CREATED:20230725T025045Z
LAST-MODIFIED:20230725T025045Z
UID:10005799-1691168400-1691175600@www.springcreekoaks.org
SUMMARY:CH 1 courts 2-3 (pickleball)\, Shanor
DESCRIPTION:
URL:https://www.springcreekoaks.org/reservations/ch-1-courts-2-3-pickleball-shanor/
CATEGORIES:Tennis
END:VEVENT
BEGIN:VEVENT
DTSTART;TZID=America/Chicago:20230805T090000
DTEND;TZID=America/Chicago:20230805T120000
DTSTAMP:20260425T075709
CREATED:20240109T174947Z
LAST-MODIFIED:20240109T174947Z
UID:10002492-1691226000-1691236800@www.springcreekoaks.org
SUMMARY:CH 1 courts 2-3\, Pickleball meet and greet
DESCRIPTION:
URL:https://www.springcreekoaks.org/reservations/ch-1-courts-2-3-pickleball-meet-and-greet-4/2023-08-05/
CATEGORIES:Tennis
END:VEVENT
BEGIN:VEVENT
DTSTART;TZID=America/Chicago:20230808T090000
DTEND;TZID=America/Chicago:20230808T120000
DTSTAMP:20260425T075709
CREATED:20230613T170851Z
LAST-MODIFIED:20230613T170851Z
UID:10002460-1691485200-1691496000@www.springcreekoaks.org
SUMMARY:CH 1 courts 2-3\, Pickleball meet and greet
DESCRIPTION:
URL:https://www.springcreekoaks.org/reservations/ch-1-courts-2-3-pickleball-meet-and-greet-4/2023-08-08/
CATEGORIES:Tennis
END:VEVENT
BEGIN:VEVENT
DTSTART;TZID=America/Chicago:20230809T090000
DTEND;TZID=America/Chicago:20230809T120000
DTSTAMP:20260425T075709
CREATED:20221227T222834Z
LAST-MODIFIED:20221227T222834Z
UID:10005239-1691571600-1691582400@www.springcreekoaks.org
SUMMARY:CH 1 courts 2-3\, Hudson
DESCRIPTION:
URL:https://www.springcreekoaks.org/reservations/ch-1-courts-2-3-hudson/2023-08-09/
CATEGORIES:Tennis
END:VEVENT
BEGIN:VEVENT
DTSTART;TZID=America/Chicago:20230809T190000
DTEND;TZID=America/Chicago:20230809T210000
DTSTAMP:20260425T075709
CREATED:20230809T082634Z
LAST-MODIFIED:20230809T082634Z
UID:10002393-1691607600-1691614800@www.springcreekoaks.org
SUMMARY:CH 2 courts 1-3\, Lopez
DESCRIPTION:
URL:https://www.springcreekoaks.org/reservations/ch-2-courts-1-3-lopez-9/
CATEGORIES:Tennis
END:VEVENT
BEGIN:VEVENT
DTSTART;TZID=America/Chicago:20230810T090000
DTEND;TZID=America/Chicago:20230810T120000
DTSTAMP:20260425T075709
CREATED:20240109T174945Z
LAST-MODIFIED:20240109T174945Z
UID:10002473-1691658000-1691668800@www.springcreekoaks.org
SUMMARY:CH 1 courts 2-3\, Pickleball meet and greet
DESCRIPTION:
URL:https://www.springcreekoaks.org/reservations/ch-1-courts-2-3-pickleball-meet-and-greet-4/2023-08-10/
CATEGORIES:Tennis
END:VEVENT
BEGIN:VEVENT
DTSTART;TZID=America/Chicago:20230811T083000
DTEND;TZID=America/Chicago:20230811T120000
DTSTAMP:20260425T075709
CREATED:20230502T065145Z
LAST-MODIFIED:20230502T065145Z
UID:10002886-1691742600-1691755200@www.springcreekoaks.org
SUMMARY:CH 2 courts 1 and 3\, Lopez
DESCRIPTION:
URL:https://www.springcreekoaks.org/reservations/ch-2-courts-1-and-3-lopez-2/2023-08-11/
CATEGORIES:Tennis
END:VEVENT
BEGIN:VEVENT
DTSTART;TZID=America/Chicago:20230812T090000
DTEND;TZID=America/Chicago:20230812T120000
DTSTAMP:20260425T075709
CREATED:20240109T174947Z
LAST-MODIFIED:20240109T174947Z
UID:10002493-1691830800-1691841600@www.springcreekoaks.org
SUMMARY:CH 1 courts 2-3\, Pickleball meet and greet
DESCRIPTION:
URL:https://www.springcreekoaks.org/reservations/ch-1-courts-2-3-pickleball-meet-and-greet-4/2023-08-12/
CATEGORIES:Tennis
END:VEVENT
BEGIN:VEVENT
DTSTART;TZID=America/Chicago:20230814T083000
DTEND;TZID=America/Chicago:20230814T100000
DTSTAMP:20260425T075709
CREATED:20230814T130951Z
LAST-MODIFIED:20230814T130951Z
UID:10003565-1692001800-1692007200@www.springcreekoaks.org
SUMMARY:Kuehnle courts 3-4\, Ladies open drill\, tennis pro Danny
DESCRIPTION:
URL:https://www.springcreekoaks.org/reservations/kuehnle-courts-3-4-ladies-open-drill-tennis-pro-danny/2023-08-14/
CATEGORIES:Tennis
END:VEVENT
BEGIN:VEVENT
DTSTART;TZID=America/Chicago:20230814T100000
DTEND;TZID=America/Chicago:20230814T110000
DTSTAMP:20260425T075709
CREATED:20230814T131112Z
LAST-MODIFIED:20230814T131112Z
UID:10005818-1692007200-1692010800@www.springcreekoaks.org
SUMMARY:Kuehnle courts 3-4\, Intermediate Home School class
DESCRIPTION:
URL:https://www.springcreekoaks.org/reservations/kuehnle-courts-3-4-intermediate-home-school-class/2023-08-14/
CATEGORIES:Tennis
END:VEVENT
BEGIN:VEVENT
DTSTART;TZID=America/Chicago:20230814T170000
DTEND;TZID=America/Chicago:20230814T180000
DTSTAMP:20260425T075709
CREATED:20230814T131224Z
LAST-MODIFIED:20230814T131224Z
UID:10005837-1692032400-1692036000@www.springcreekoaks.org
SUMMARY:Kuehnle courts 3-4\, Orange ball class
DESCRIPTION:
URL:https://www.springcreekoaks.org/reservations/kuehnle-courts-3-4-orange-ball-class/2023-08-14/
CATEGORIES:Tennis
END:VEVENT
BEGIN:VEVENT
DTSTART;TZID=America/Chicago:20230814T180000
DTEND;TZID=America/Chicago:20230814T190000
DTSTAMP:20260425T075709
CREATED:20230814T131344Z
LAST-MODIFIED:20230814T131344Z
UID:10005856-1692036000-1692039600@www.springcreekoaks.org
SUMMARY:Kuehnle courts 3-4\, Yellow ball class
DESCRIPTION:
URL:https://www.springcreekoaks.org/reservations/kuehnle-courts-3-4-yellow-ball-class/2023-08-14/
CATEGORIES:Tennis
END:VEVENT
BEGIN:VEVENT
DTSTART;TZID=America/Chicago:20230814T190000
DTEND;TZID=America/Chicago:20230814T200000
DTSTAMP:20260425T075709
CREATED:20230814T131523Z
LAST-MODIFIED:20230814T131523Z
UID:10005875-1692039600-1692043200@www.springcreekoaks.org
SUMMARY:Kuehnle courts 3-4\, Adult drop-in drill\, all levels
DESCRIPTION:
URL:https://www.springcreekoaks.org/reservations/kuehnle-courts-3-4-adult-drop-in-drill-all-levels/2023-08-14/
CATEGORIES:Tennis
END:VEVENT
BEGIN:VEVENT
DTSTART;TZID=America/Chicago:20230815T090000
DTEND;TZID=America/Chicago:20230815T100000
DTSTAMP:20260425T075709
CREATED:20230814T131725Z
LAST-MODIFIED:20230814T131725Z
UID:10005894-1692090000-1692093600@www.springcreekoaks.org
SUMMARY:Kuehnle courts 3-4\, beginner Homeschool class
DESCRIPTION:
URL:https://www.springcreekoaks.org/reservations/kuehnle-courts-3-4-beginner-homeschool-class/2023-08-15/
CATEGORIES:Tennis
END:VEVENT
BEGIN:VEVENT
DTSTART;TZID=America/Chicago:20230815T090000
DTEND;TZID=America/Chicago:20230815T120000
DTSTAMP:20260425T075709
CREATED:20230613T170851Z
LAST-MODIFIED:20230613T170851Z
UID:10002461-1692090000-1692100800@www.springcreekoaks.org
SUMMARY:CH 1 courts 2-3\, Pickleball meet and greet
DESCRIPTION:
URL:https://www.springcreekoaks.org/reservations/ch-1-courts-2-3-pickleball-meet-and-greet-4/2023-08-15/
CATEGORIES:Tennis
END:VEVENT
BEGIN:VEVENT
DTSTART;TZID=America/Chicago:20230815T100000
DTEND;TZID=America/Chicago:20230815T110000
DTSTAMP:20260425T075709
CREATED:20230814T131902Z
LAST-MODIFIED:20230814T131902Z
UID:10005913-1692093600-1692097200@www.springcreekoaks.org
SUMMARY:Kuehnle courts 3-4\, intermediate homeschool class
DESCRIPTION:
URL:https://www.springcreekoaks.org/reservations/kuehnle-courts-3-4-intermediate-homeschool-class/2023-08-15/
CATEGORIES:Tennis
END:VEVENT
BEGIN:VEVENT
DTSTART;TZID=America/Chicago:20230815T160000
DTEND;TZID=America/Chicago:20230815T170000
DTSTAMP:20260425T075709
CREATED:20230814T132041Z
LAST-MODIFIED:20230814T132041Z
UID:10005932-1692115200-1692118800@www.springcreekoaks.org
SUMMARY:Kuehnle courts 3-4\, Red ball class
DESCRIPTION:
URL:https://www.springcreekoaks.org/reservations/kuehnle-courts-3-4-red-ball-class/2023-08-15/
CATEGORIES:Tennis
END:VEVENT
BEGIN:VEVENT
DTSTART;TZID=America/Chicago:20230815T170000
DTEND;TZID=America/Chicago:20230815T180000
DTSTAMP:20260425T075709
CREATED:20230814T132206Z
LAST-MODIFIED:20230814T132206Z
UID:10005951-1692118800-1692122400@www.springcreekoaks.org
SUMMARY:Kuehnle courts 3-4\, Green ball class
DESCRIPTION:
URL:https://www.springcreekoaks.org/reservations/kuehnle-courts-3-4-green-ball-class/2023-08-15/
CATEGORIES:Tennis
END:VEVENT
BEGIN:VEVENT
DTSTART;TZID=America/Chicago:20230815T180000
DTEND;TZID=America/Chicago:20230815T193000
DTSTAMP:20260425T075709
CREATED:20230814T132345Z
LAST-MODIFIED:20230814T132345Z
UID:10005970-1692122400-1692127800@www.springcreekoaks.org
SUMMARY:Kuehnle courts 3-4\, Yellow ball class
DESCRIPTION:
URL:https://www.springcreekoaks.org/reservations/kuehnle-courts-3-4-yellow-ball-class-2/2023-08-15/
CATEGORIES:Tennis
END:VEVENT
BEGIN:VEVENT
DTSTART;TZID=America/Chicago:20230816T090000
DTEND;TZID=America/Chicago:20230816T100000
DTSTAMP:20260425T075709
CREATED:20230814T132524Z
LAST-MODIFIED:20230814T132524Z
UID:10005989-1692176400-1692180000@www.springcreekoaks.org
SUMMARY:Kuehnle courts 3-4\, intermediate homeschool class
DESCRIPTION:
URL:https://www.springcreekoaks.org/reservations/kuehnle-courts-3-4-intermediate-homeschool-class-2/2023-08-16/
CATEGORIES:Tennis
END:VEVENT
END:VCALENDAR