BEGIN:VCALENDAR
VERSION:2.0
PRODID:-//Spring Creek Oaks - ECPv6.15.20//NONSGML v1.0//EN
CALSCALE:GREGORIAN
METHOD:PUBLISH
X-WR-CALNAME:Spring Creek Oaks
X-ORIGINAL-URL:https://www.springcreekoaks.org
X-WR-CALDESC:Events for Spring Creek Oaks
REFRESH-INTERVAL;VALUE=DURATION:PT1H
X-Robots-Tag:noindex
X-PUBLISHED-TTL:PT1H
BEGIN:VTIMEZONE
TZID:America/Chicago
BEGIN:DAYLIGHT
TZOFFSETFROM:-0600
TZOFFSETTO:-0500
TZNAME:CDT
DTSTART:20230312T080000
END:DAYLIGHT
BEGIN:STANDARD
TZOFFSETFROM:-0500
TZOFFSETTO:-0600
TZNAME:CST
DTSTART:20231105T070000
END:STANDARD
BEGIN:DAYLIGHT
TZOFFSETFROM:-0600
TZOFFSETTO:-0500
TZNAME:CDT
DTSTART:20240310T080000
END:DAYLIGHT
BEGIN:STANDARD
TZOFFSETFROM:-0500
TZOFFSETTO:-0600
TZNAME:CST
DTSTART:20241103T070000
END:STANDARD
BEGIN:DAYLIGHT
TZOFFSETFROM:-0600
TZOFFSETTO:-0500
TZNAME:CDT
DTSTART:20250309T080000
END:DAYLIGHT
BEGIN:STANDARD
TZOFFSETFROM:-0500
TZOFFSETTO:-0600
TZNAME:CST
DTSTART:20251102T070000
END:STANDARD
END:VTIMEZONE
BEGIN:VEVENT
DTSTART;TZID=America/Chicago:20240329T083000
DTEND;TZID=America/Chicago:20240329T120000
DTSTAMP:20260419T194643
CREATED:20240322T125321Z
LAST-MODIFIED:20240322T125321Z
UID:10008095-1711701000-1711713600@www.springcreekoaks.org
SUMMARY:CH 2 courts 1-2\, Mason rain makeup
DESCRIPTION:
URL:https://www.springcreekoaks.org/reservations/ch-2-courts-1-2-mason-rain-makeup-5/
CATEGORIES:Tennis
END:VEVENT
BEGIN:VEVENT
DTSTART;TZID=America/Chicago:20240329T083000
DTEND;TZID=America/Chicago:20240329T120000
DTSTAMP:20260419T194643
CREATED:20240322T142930Z
LAST-MODIFIED:20240327T123951Z
UID:10008097-1711701000-1711713600@www.springcreekoaks.org
SUMMARY:CH 2 courts 4-5\, JR open 2 Nacewski rain makeup
DESCRIPTION:
URL:https://www.springcreekoaks.org/reservations/ch-2-courts-4-5-jr-open-2-rim-makeup/
CATEGORIES:Tennis
END:VEVENT
BEGIN:VEVENT
DTSTART;TZID=America/Chicago:20240329T083000
DTEND;TZID=America/Chicago:20240329T120000
DTSTAMP:20260419T194643
CREATED:20240327T124137Z
LAST-MODIFIED:20240327T124137Z
UID:10008105-1711701000-1711713600@www.springcreekoaks.org
SUMMARY:Kuehnle courts 1-3\, Lopez rain makeup
DESCRIPTION:
URL:https://www.springcreekoaks.org/reservations/kuehnle-courts-1-3-lopez-rain-makeup/
CATEGORIES:Tennis
END:VEVENT
BEGIN:VEVENT
DTSTART;TZID=America/Chicago:20240329T160000
DTEND;TZID=America/Chicago:20240329T200000
DTSTAMP:20260419T194643
CREATED:20240117T135855Z
LAST-MODIFIED:20240117T135855Z
UID:10007432-1711728000-1711742400@www.springcreekoaks.org
SUMMARY:Field 1 - Skeeters - 10U
DESCRIPTION:
URL:https://www.springcreekoaks.org/reservations/field-1-skeeters-10u/2024-03-29/
LOCATION:Baseball Field 1\, United States
CATEGORIES:Baseball Fields
END:VEVENT
BEGIN:VEVENT
DTSTART;TZID=America/Chicago:20240329T180000
DTEND;TZID=America/Chicago:20240329T190000
DTSTAMP:20260419T194643
CREATED:20240115T175843Z
LAST-MODIFIED:20240118T192404Z
UID:10007115-1711735200-1711738800@www.springcreekoaks.org
SUMMARY:Kuehnle courts 3-4\, Coach Danny
DESCRIPTION:
URL:https://www.springcreekoaks.org/reservations/kuehnle-courts-3-4-coach-danny-9/2024-03-29/
CATEGORIES:Tennis
END:VEVENT
END:VCALENDAR