BEGIN:VCALENDAR
VERSION:2.0
PRODID:-//Spring Creek Oaks - ECPv6.15.20//NONSGML v1.0//EN
CALSCALE:GREGORIAN
METHOD:PUBLISH
X-WR-CALNAME:Spring Creek Oaks
X-ORIGINAL-URL:https://www.springcreekoaks.org
X-WR-CALDESC:Events for Spring Creek Oaks
REFRESH-INTERVAL;VALUE=DURATION:PT1H
X-Robots-Tag:noindex
X-PUBLISHED-TTL:PT1H
BEGIN:VTIMEZONE
TZID:America/Chicago
BEGIN:DAYLIGHT
TZOFFSETFROM:-0600
TZOFFSETTO:-0500
TZNAME:CDT
DTSTART:20230312T080000
END:DAYLIGHT
BEGIN:STANDARD
TZOFFSETFROM:-0500
TZOFFSETTO:-0600
TZNAME:CST
DTSTART:20231105T070000
END:STANDARD
BEGIN:DAYLIGHT
TZOFFSETFROM:-0600
TZOFFSETTO:-0500
TZNAME:CDT
DTSTART:20240310T080000
END:DAYLIGHT
BEGIN:STANDARD
TZOFFSETFROM:-0500
TZOFFSETTO:-0600
TZNAME:CST
DTSTART:20241103T070000
END:STANDARD
BEGIN:DAYLIGHT
TZOFFSETFROM:-0600
TZOFFSETTO:-0500
TZNAME:CDT
DTSTART:20250309T080000
END:DAYLIGHT
BEGIN:STANDARD
TZOFFSETFROM:-0500
TZOFFSETTO:-0600
TZNAME:CST
DTSTART:20251102T070000
END:STANDARD
END:VTIMEZONE
BEGIN:VEVENT
DTSTART;TZID=America/Chicago:20240322T083000
DTEND;TZID=America/Chicago:20240322T120000
DTSTAMP:20260419T212507
CREATED:20240117T020642Z
LAST-MODIFIED:20240117T020642Z
UID:10007136-1711096200-1711108800@www.springcreekoaks.org
SUMMARY:CH 2 courts 1-4\, JR Open 2 Nacewski
DESCRIPTION:
URL:https://www.springcreekoaks.org/reservations/ch-2-courts-1-4-jr-open-2-nacewski/2024-03-22/
CATEGORIES:Tennis
END:VEVENT
BEGIN:VEVENT
DTSTART;TZID=America/Chicago:20240322T130000
DTEND;TZID=America/Chicago:20240322T153000
DTSTAMP:20260419T212507
CREATED:20240322T135853Z
LAST-MODIFIED:20240322T135853Z
UID:10008096-1711112400-1711121400@www.springcreekoaks.org
SUMMARY:CH 2 court 4\, JR open 1 rain makeup
DESCRIPTION:
URL:https://www.springcreekoaks.org/reservations/ch-2-court-4-jr-open-1-rain-makeup/
CATEGORIES:Tennis
END:VEVENT
BEGIN:VEVENT
DTSTART;TZID=America/Chicago:20240322T153000
DTEND;TZID=America/Chicago:20240322T173000
DTSTAMP:20260419T212507
CREATED:20240129T004849Z
LAST-MODIFIED:20240129T004849Z
UID:10007485-1711121400-1711128600@www.springcreekoaks.org
SUMMARY:CH 2 courts 1-3\, NCS practice
DESCRIPTION:
URL:https://www.springcreekoaks.org/reservations/ch-2-courts-1-3-ncs-practice-3/2024-03-22/
CATEGORIES:Tennis
END:VEVENT
BEGIN:VEVENT
DTSTART;TZID=America/Chicago:20240322T160000
DTEND;TZID=America/Chicago:20240322T200000
DTSTAMP:20260419T212507
CREATED:20240117T135855Z
LAST-MODIFIED:20240117T135855Z
UID:10007431-1711123200-1711137600@www.springcreekoaks.org
SUMMARY:Field 1 - Skeeters - 10U
DESCRIPTION:
URL:https://www.springcreekoaks.org/reservations/field-1-skeeters-10u/2024-03-22/
LOCATION:Baseball Field 1\, United States
CATEGORIES:Baseball Fields
END:VEVENT
BEGIN:VEVENT
DTSTART;TZID=America/Chicago:20240322T180000
DTEND;TZID=America/Chicago:20240322T190000
DTSTAMP:20260419T212507
CREATED:20240115T175843Z
LAST-MODIFIED:20240118T192404Z
UID:10007114-1711130400-1711134000@www.springcreekoaks.org
SUMMARY:Kuehnle courts 3-4\, Coach Danny
DESCRIPTION:
URL:https://www.springcreekoaks.org/reservations/kuehnle-courts-3-4-coach-danny-9/2024-03-22/
CATEGORIES:Tennis
END:VEVENT
END:VCALENDAR