BEGIN:VCALENDAR
VERSION:2.0
PRODID:-//Spring Creek Oaks - ECPv6.15.20//NONSGML v1.0//EN
CALSCALE:GREGORIAN
METHOD:PUBLISH
X-WR-CALNAME:Spring Creek Oaks
X-ORIGINAL-URL:https://www.springcreekoaks.org
X-WR-CALDESC:Events for Spring Creek Oaks
REFRESH-INTERVAL;VALUE=DURATION:PT1H
X-Robots-Tag:noindex
X-PUBLISHED-TTL:PT1H
BEGIN:VTIMEZONE
TZID:America/Chicago
BEGIN:DAYLIGHT
TZOFFSETFROM:-0600
TZOFFSETTO:-0500
TZNAME:CDT
DTSTART:20230312T080000
END:DAYLIGHT
BEGIN:STANDARD
TZOFFSETFROM:-0500
TZOFFSETTO:-0600
TZNAME:CST
DTSTART:20231105T070000
END:STANDARD
BEGIN:DAYLIGHT
TZOFFSETFROM:-0600
TZOFFSETTO:-0500
TZNAME:CDT
DTSTART:20240310T080000
END:DAYLIGHT
BEGIN:STANDARD
TZOFFSETFROM:-0500
TZOFFSETTO:-0600
TZNAME:CST
DTSTART:20241103T070000
END:STANDARD
BEGIN:DAYLIGHT
TZOFFSETFROM:-0600
TZOFFSETTO:-0500
TZNAME:CDT
DTSTART:20250309T080000
END:DAYLIGHT
BEGIN:STANDARD
TZOFFSETFROM:-0500
TZOFFSETTO:-0600
TZNAME:CST
DTSTART:20251102T070000
END:STANDARD
END:VTIMEZONE
BEGIN:VEVENT
DTSTART;TZID=America/Chicago:20240318T083000
DTEND;TZID=America/Chicago:20240318T110000
DTSTAMP:20260420T022117
CREATED:20240115T174755Z
LAST-MODIFIED:20240115T180718Z
UID:10006591-1710750600-1710759600@www.springcreekoaks.org
SUMMARY:Kuehnle courts 3-4\, Coach Danny
DESCRIPTION:
URL:https://www.springcreekoaks.org/reservations/kuehnle-courts-3-4-coach-danny/2024-03-18/
CATEGORIES:Tennis
END:VEVENT
BEGIN:VEVENT
DTSTART;TZID=America/Chicago:20240318T083000
DTEND;TZID=America/Chicago:20240318T113000
DTSTAMP:20260420T022117
CREATED:20240308T033105Z
LAST-MODIFIED:20240315T175429Z
UID:10008066-1710750600-1710761400@www.springcreekoaks.org
SUMMARY:CH 2 courts 1-3\, Lopez rain makeup
DESCRIPTION:
URL:https://www.springcreekoaks.org/reservations/ch-2-court-3-lopez-43/
CATEGORIES:Tennis
END:VEVENT
BEGIN:VEVENT
DTSTART;TZID=America/Chicago:20240318T083000
DTEND;TZID=America/Chicago:20240318T120000
DTSTAMP:20260420T022117
CREATED:20240314T125004Z
LAST-MODIFIED:20240314T125014Z
UID:10008084-1710750600-1710763200@www.springcreekoaks.org
SUMMARY:CH 2 courts 4-5\, NW A2 rain makeup
DESCRIPTION:
URL:https://www.springcreekoaks.org/reservations/ch-2-courts-4-5-nw-a2-rain-makeup/
CATEGORIES:Tennis
END:VEVENT
BEGIN:VEVENT
DTSTART;TZID=America/Chicago:20240318T153000
DTEND;TZID=America/Chicago:20240318T173000
DTSTAMP:20260420T022117
CREATED:20240129T181937Z
LAST-MODIFIED:20240129T181937Z
UID:10007494-1710775800-1710783000@www.springcreekoaks.org
SUMMARY:CH 2 courts 1-3\, NCS practice
DESCRIPTION:
URL:https://www.springcreekoaks.org/reservations/ch-2-courts-1-3-ncs-practice-4/2024-03-18/
CATEGORIES:Tennis
END:VEVENT
BEGIN:VEVENT
DTSTART;TZID=America/Chicago:20240318T160000
DTEND;TZID=America/Chicago:20240318T200000
DTSTAMP:20260420T022117
CREATED:20240117T135025Z
LAST-MODIFIED:20240117T135536Z
UID:10007160-1710777600-1710792000@www.springcreekoaks.org
SUMMARY:Field 2 - Orioles - 11U
DESCRIPTION:
URL:https://www.springcreekoaks.org/reservations/field-2-orioles-11u-2/2024-03-18/
LOCATION:Baseball Field 2\, United States
CATEGORIES:Baseball Fields
END:VEVENT
BEGIN:VEVENT
DTSTART;TZID=America/Chicago:20240318T160000
DTEND;TZID=America/Chicago:20240318T200000
DTSTAMP:20260420T022117
CREATED:20240201T142117Z
LAST-MODIFIED:20240424T115832Z
UID:10007784-1710777600-1710792000@www.springcreekoaks.org
SUMMARY:Field 3 - Rail Riders - 6U
DESCRIPTION:
URL:https://www.springcreekoaks.org/reservations/field-3-rail-riders-6u/2024-03-18/
LOCATION:Baseball Field 3\, United States
CATEGORIES:Baseball Fields
END:VEVENT
BEGIN:VEVENT
DTSTART;TZID=America/Chicago:20240318T160000
DTEND;TZID=America/Chicago:20240318T200000
DTSTAMP:20260420T022117
CREATED:20240216T161846Z
LAST-MODIFIED:20240424T115530Z
UID:10007925-1710777600-1710792000@www.springcreekoaks.org
SUMMARY:Field 1 - Ducks - 12U
DESCRIPTION:
URL:https://www.springcreekoaks.org/reservations/field-1-ducks-12u/2024-03-18/
LOCATION:Baseball Field 1\, United States
CATEGORIES:Baseball Fields
END:VEVENT
BEGIN:VEVENT
DTSTART;TZID=America/Chicago:20240318T170000
DTEND;TZID=America/Chicago:20240318T190000
DTSTAMP:20260420T022117
CREATED:20240115T174912Z
LAST-MODIFIED:20240115T180603Z
UID:10006662-1710781200-1710788400@www.springcreekoaks.org
SUMMARY:Kuehnle courts 3-4\, Coach Danny
DESCRIPTION:
URL:https://www.springcreekoaks.org/reservations/kuehnle-courts-3-4-coach-danny-2/2024-03-18/
CATEGORIES:Tennis
END:VEVENT
END:VCALENDAR