BEGIN:VCALENDAR
VERSION:2.0
PRODID:-//Spring Creek Oaks - ECPv6.15.20//NONSGML v1.0//EN
CALSCALE:GREGORIAN
METHOD:PUBLISH
X-WR-CALNAME:Spring Creek Oaks
X-ORIGINAL-URL:https://www.springcreekoaks.org
X-WR-CALDESC:Events for Spring Creek Oaks
REFRESH-INTERVAL;VALUE=DURATION:PT1H
X-Robots-Tag:noindex
X-PUBLISHED-TTL:PT1H
BEGIN:VTIMEZONE
TZID:America/Chicago
BEGIN:DAYLIGHT
TZOFFSETFROM:-0600
TZOFFSETTO:-0500
TZNAME:CDT
DTSTART:20230312T080000
END:DAYLIGHT
BEGIN:STANDARD
TZOFFSETFROM:-0500
TZOFFSETTO:-0600
TZNAME:CST
DTSTART:20231105T070000
END:STANDARD
BEGIN:DAYLIGHT
TZOFFSETFROM:-0600
TZOFFSETTO:-0500
TZNAME:CDT
DTSTART:20240310T080000
END:DAYLIGHT
BEGIN:STANDARD
TZOFFSETFROM:-0500
TZOFFSETTO:-0600
TZNAME:CST
DTSTART:20241103T070000
END:STANDARD
BEGIN:DAYLIGHT
TZOFFSETFROM:-0600
TZOFFSETTO:-0500
TZNAME:CDT
DTSTART:20250309T080000
END:DAYLIGHT
BEGIN:STANDARD
TZOFFSETFROM:-0500
TZOFFSETTO:-0600
TZNAME:CST
DTSTART:20251102T070000
END:STANDARD
END:VTIMEZONE
BEGIN:VEVENT
DTSTART;TZID=America/Chicago:20240312T083000
DTEND;TZID=America/Chicago:20240312T120000
DTSTAMP:20260420T022152
CREATED:20231126T144446Z
LAST-MODIFIED:20231126T144859Z
UID:10003330-1710232200-1710244800@www.springcreekoaks.org
SUMMARY:CH 1 courts 2-3\, Palmer
DESCRIPTION:
URL:https://www.springcreekoaks.org/reservations/ch-1-courts-2-3-palmer/2024-03-12/
CATEGORIES:Tennis
END:VEVENT
BEGIN:VEVENT
DTSTART;TZID=America/Chicago:20240312T093000
DTEND;TZID=America/Chicago:20240312T110000
DTSTAMP:20260420T022152
CREATED:20240228T183637Z
LAST-MODIFIED:20240228T183637Z
UID:10008054-1710235800-1710241200@www.springcreekoaks.org
SUMMARY:CH 2 courts 1-3\, Coach Danny Spring break sports camp
DESCRIPTION:
URL:https://www.springcreekoaks.org/reservations/ch-2-courts-1-3-coach-danny-spring-break-sports-camp/2024-03-12/
CATEGORIES:Tennis
END:VEVENT
BEGIN:VEVENT
DTSTART;TZID=America/Chicago:20240312T160000
DTEND;TZID=America/Chicago:20240312T200000
DTSTAMP:20260420T022152
CREATED:20240117T135415Z
LAST-MODIFIED:20240117T135415Z
UID:10007360-1710259200-1710273600@www.springcreekoaks.org
SUMMARY:Field 1 - Young Guns - 12U
DESCRIPTION:
URL:https://www.springcreekoaks.org/reservations/field-1-young-guns-12u/2024-03-12/
LOCATION:Baseball Field 1\, United States
CATEGORIES:Baseball Fields
END:VEVENT
BEGIN:VEVENT
DTSTART;TZID=America/Chicago:20240312T160000
DTEND;TZID=America/Chicago:20240312T200000
DTSTAMP:20260420T022152
CREATED:20240117T135653Z
LAST-MODIFIED:20240117T135653Z
UID:10007383-1710259200-1710273600@www.springcreekoaks.org
SUMMARY:Field 2 - Hooks - 7U
DESCRIPTION:
URL:https://www.springcreekoaks.org/reservations/field-2-hooks-7u/2024-03-12/
LOCATION:Baseball Field 2\, United States
CATEGORIES:Baseball Fields
END:VEVENT
BEGIN:VEVENT
DTSTART;TZID=America/Chicago:20240312T160000
DTEND;TZID=America/Chicago:20240312T200000
DTSTAMP:20260420T022152
CREATED:20240117T135753Z
LAST-MODIFIED:20240117T140132Z
UID:10007406-1710259200-1710273600@www.springcreekoaks.org
SUMMARY:Field 3 - Hot Rod - 7U
DESCRIPTION:
URL:https://www.springcreekoaks.org/reservations/field-3-hot-rod-7u/2024-03-12/
LOCATION:Baseball Field 3\, United States
CATEGORIES:Baseball Fields
END:VEVENT
BEGIN:VEVENT
DTSTART;TZID=America/Chicago:20240312T160000
DTEND;TZID=America/Chicago:20240312T200000
DTSTAMP:20260420T022152
CREATED:20240201T124313Z
LAST-MODIFIED:20240424T115922Z
UID:10007528-1710259200-1710273600@www.springcreekoaks.org
SUMMARY:Field 4 - River Bandits - 6U
DESCRIPTION:
URL:https://www.springcreekoaks.org/reservations/field-4-river-bandits-6u/2024-03-12/
LOCATION:Baseball Field 4\, United States
CATEGORIES:Baseball Fields
END:VEVENT
BEGIN:VEVENT
DTSTART;TZID=America/Chicago:20240312T170000
DTEND;TZID=America/Chicago:20240312T193000
DTSTAMP:20260420T022152
CREATED:20240115T175240Z
LAST-MODIFIED:20240115T180452Z
UID:10006805-1710262800-1710271800@www.springcreekoaks.org
SUMMARY:Kuehnle courts 3-4\, Coach Danny
DESCRIPTION:
URL:https://www.springcreekoaks.org/reservations/kuehnle-courts-3-4-coach-danny-4/2024-03-12/
CATEGORIES:Tennis
END:VEVENT
BEGIN:VEVENT
DTSTART;TZID=America/Chicago:20240312T180000
DTEND;TZID=America/Chicago:20240312T210000
DTSTAMP:20260420T022152
CREATED:20240130T071535Z
LAST-MODIFIED:20240131T153044Z
UID:10007504-1710266400-1710277200@www.springcreekoaks.org
SUMMARY:CH 2 PB courts 1-2\, A. Cortez
DESCRIPTION:
URL:https://www.springcreekoaks.org/reservations/ch-2-pb-courts-1-2-a-cortez/2024-03-12/
CATEGORIES:Tennis
END:VEVENT
BEGIN:VEVENT
DTSTART;TZID=America/Chicago:20240312T190000
DTEND;TZID=America/Chicago:20240312T230000
DTSTAMP:20260420T022152
CREATED:20240311T233744Z
LAST-MODIFIED:20240311T233744Z
UID:10008071-1710270000-1710284400@www.springcreekoaks.org
SUMMARY:CH 2 courts 1-6\, Men’s league\, Vross
DESCRIPTION:
URL:https://www.springcreekoaks.org/reservations/ch-2-courts-1-6-mens-league-vross-5/2024-03-12/
CATEGORIES:Tennis
END:VEVENT
END:VCALENDAR