BEGIN:VCALENDAR
VERSION:2.0
PRODID:-//Spring Creek Oaks - ECPv6.15.20//NONSGML v1.0//EN
CALSCALE:GREGORIAN
METHOD:PUBLISH
X-WR-CALNAME:Spring Creek Oaks
X-ORIGINAL-URL:https://www.springcreekoaks.org
X-WR-CALDESC:Events for Spring Creek Oaks
REFRESH-INTERVAL;VALUE=DURATION:PT1H
X-Robots-Tag:noindex
X-PUBLISHED-TTL:PT1H
BEGIN:VTIMEZONE
TZID:America/Chicago
BEGIN:DAYLIGHT
TZOFFSETFROM:-0600
TZOFFSETTO:-0500
TZNAME:CDT
DTSTART:20230312T080000
END:DAYLIGHT
BEGIN:STANDARD
TZOFFSETFROM:-0500
TZOFFSETTO:-0600
TZNAME:CST
DTSTART:20231105T070000
END:STANDARD
BEGIN:DAYLIGHT
TZOFFSETFROM:-0600
TZOFFSETTO:-0500
TZNAME:CDT
DTSTART:20240310T080000
END:DAYLIGHT
BEGIN:STANDARD
TZOFFSETFROM:-0500
TZOFFSETTO:-0600
TZNAME:CST
DTSTART:20241103T070000
END:STANDARD
BEGIN:DAYLIGHT
TZOFFSETFROM:-0600
TZOFFSETTO:-0500
TZNAME:CDT
DTSTART:20250309T080000
END:DAYLIGHT
BEGIN:STANDARD
TZOFFSETFROM:-0500
TZOFFSETTO:-0600
TZNAME:CST
DTSTART:20251102T070000
END:STANDARD
END:VTIMEZONE
BEGIN:VEVENT
DTSTART;TZID=America/Chicago:20240219T083000
DTEND;TZID=America/Chicago:20240219T110000
DTSTAMP:20260421T193944
CREATED:20240115T174755Z
LAST-MODIFIED:20240115T180718Z
UID:10006587-1708331400-1708340400@www.springcreekoaks.org
SUMMARY:Kuehnle courts 3-4\, Coach Danny
DESCRIPTION:
URL:https://www.springcreekoaks.org/reservations/kuehnle-courts-3-4-coach-danny/2024-02-19/
CATEGORIES:Tennis
END:VEVENT
BEGIN:VEVENT
DTSTART;TZID=America/Chicago:20240219T130000
DTEND;TZID=America/Chicago:20240219T150000
DTSTAMP:20260421T193944
CREATED:20240130T071300Z
LAST-MODIFIED:20240130T071302Z
UID:10007479-1708347600-1708354800@www.springcreekoaks.org
SUMMARY:CH 2 courts 1-3\, NCS practice
DESCRIPTION:
URL:https://www.springcreekoaks.org/reservations/ch-2-courts-1-3-ncs-practice-3-2/
CATEGORIES:Tennis
END:VEVENT
BEGIN:VEVENT
DTSTART;TZID=America/Chicago:20240219T160000
DTEND;TZID=America/Chicago:20240219T200000
DTSTAMP:20260421T193944
CREATED:20240117T135025Z
LAST-MODIFIED:20240117T135536Z
UID:10007152-1708358400-1708372800@www.springcreekoaks.org
SUMMARY:Field 2 - Orioles - 11U
DESCRIPTION:
URL:https://www.springcreekoaks.org/reservations/field-2-orioles-11u-2/2024-02-19/
LOCATION:Baseball Field 2\, United States
CATEGORIES:Baseball Fields
END:VEVENT
BEGIN:VEVENT
DTSTART;TZID=America/Chicago:20240219T160000
DTEND;TZID=America/Chicago:20240219T200000
DTSTAMP:20260421T193944
CREATED:20240201T142117Z
LAST-MODIFIED:20240424T115832Z
UID:10007780-1708358400-1708372800@www.springcreekoaks.org
SUMMARY:Field 3 - Rail Riders - 6U
DESCRIPTION:
URL:https://www.springcreekoaks.org/reservations/field-3-rail-riders-6u/2024-02-19/
LOCATION:Baseball Field 3\, United States
CATEGORIES:Baseball Fields
END:VEVENT
BEGIN:VEVENT
DTSTART;TZID=America/Chicago:20240219T160000
DTEND;TZID=America/Chicago:20240219T200000
DTSTAMP:20260421T193944
CREATED:20240216T161846Z
LAST-MODIFIED:20240424T115530Z
UID:10007921-1708358400-1708372800@www.springcreekoaks.org
SUMMARY:Field 1 - Ducks - 12U
DESCRIPTION:
URL:https://www.springcreekoaks.org/reservations/field-1-ducks-12u/2024-02-19/
LOCATION:Baseball Field 1\, United States
CATEGORIES:Baseball Fields
END:VEVENT
BEGIN:VEVENT
DTSTART;TZID=America/Chicago:20240219T170000
DTEND;TZID=America/Chicago:20240219T190000
DTSTAMP:20260421T193944
CREATED:20240115T174912Z
LAST-MODIFIED:20240115T180603Z
UID:10006658-1708362000-1708369200@www.springcreekoaks.org
SUMMARY:Kuehnle courts 3-4\, Coach Danny
DESCRIPTION:
URL:https://www.springcreekoaks.org/reservations/kuehnle-courts-3-4-coach-danny-2/2024-02-19/
CATEGORIES:Tennis
END:VEVENT
BEGIN:VEVENT
DTSTART;TZID=America/Chicago:20240219T170000
DTEND;TZID=America/Chicago:20240219T210000
DTSTAMP:20260421T193944
CREATED:20240203T020422Z
LAST-MODIFIED:20240203T020422Z
UID:10007909-1708362000-1708376400@www.springcreekoaks.org
SUMMARY:YSML CH2
DESCRIPTION:
URL:https://www.springcreekoaks.org/reservations/ysml-ch2-3/
LOCATION:Clubhouse 2\, 6002 Bur Oak Dr\, Spring\, 77379\, United States
CATEGORIES:Clubhouses
GEO:30.037539;-95.5070911
X-APPLE-STRUCTURED-LOCATION;VALUE=URI;X-ADDRESS=Clubhouse 2 6002 Bur Oak Dr Spring 77379 United States;X-APPLE-RADIUS=500;X-TITLE=6002 Bur Oak Dr:geo:-95.5070911,30.037539
END:VEVENT
BEGIN:VEVENT
DTSTART;TZID=America/Chicago:20240219T190000
DTEND;TZID=America/Chicago:20240219T220000
DTSTAMP:20260421T193944
CREATED:20230909T134836Z
LAST-MODIFIED:20230909T134836Z
UID:10006296-1708369200-1708380000@www.springcreekoaks.org
SUMMARY:CH 2 courts 1-6\, NHTA A2
DESCRIPTION:
URL:https://www.springcreekoaks.org/reservations/ch-2-courts-1-6-nhta-a2-3/2024-02-19/
CATEGORIES:Tennis
END:VEVENT
END:VCALENDAR