BEGIN:VCALENDAR
VERSION:2.0
PRODID:-//Spring Creek Oaks - ECPv6.15.20//NONSGML v1.0//EN
CALSCALE:GREGORIAN
METHOD:PUBLISH
X-ORIGINAL-URL:https://www.springcreekoaks.org
X-WR-CALDESC:Events for Spring Creek Oaks
REFRESH-INTERVAL;VALUE=DURATION:PT1H
X-Robots-Tag:noindex
X-PUBLISHED-TTL:PT1H
BEGIN:VTIMEZONE
TZID:America/Chicago
BEGIN:DAYLIGHT
TZOFFSETFROM:-0600
TZOFFSETTO:-0500
TZNAME:CDT
DTSTART:20230312T080000
END:DAYLIGHT
BEGIN:STANDARD
TZOFFSETFROM:-0500
TZOFFSETTO:-0600
TZNAME:CST
DTSTART:20231105T070000
END:STANDARD
BEGIN:DAYLIGHT
TZOFFSETFROM:-0600
TZOFFSETTO:-0500
TZNAME:CDT
DTSTART:20240310T080000
END:DAYLIGHT
BEGIN:STANDARD
TZOFFSETFROM:-0500
TZOFFSETTO:-0600
TZNAME:CST
DTSTART:20241103T070000
END:STANDARD
BEGIN:DAYLIGHT
TZOFFSETFROM:-0600
TZOFFSETTO:-0500
TZNAME:CDT
DTSTART:20250309T080000
END:DAYLIGHT
BEGIN:STANDARD
TZOFFSETFROM:-0500
TZOFFSETTO:-0600
TZNAME:CST
DTSTART:20251102T070000
END:STANDARD
END:VTIMEZONE
BEGIN:VEVENT
DTSTART;TZID=America/Chicago:20240129T083000
DTEND;TZID=America/Chicago:20240129T110000
DTSTAMP:20260422T053844
CREATED:20240115T174755Z
LAST-MODIFIED:20240115T180718Z
UID:10006584-1706517000-1706526000@www.springcreekoaks.org
SUMMARY:Kuehnle courts 3-4\, Coach Danny
DESCRIPTION:
URL:https://www.springcreekoaks.org/reservations/kuehnle-courts-3-4-coach-danny/2024-01-29/
CATEGORIES:Tennis
END:VEVENT
BEGIN:VEVENT
DTSTART;TZID=America/Chicago:20240129T160000
DTEND;TZID=America/Chicago:20240129T200000
DTSTAMP:20260422T053845
CREATED:20240117T135025Z
LAST-MODIFIED:20240117T135536Z
UID:10007146-1706544000-1706558400@www.springcreekoaks.org
SUMMARY:Field 2 - Orioles - 11U
DESCRIPTION:
URL:https://www.springcreekoaks.org/reservations/field-2-orioles-11u-2/2024-01-29/
LOCATION:Baseball Field 2\, United States
CATEGORIES:Baseball Fields
END:VEVENT
BEGIN:VEVENT
DTSTART;TZID=America/Chicago:20240129T170000
DTEND;TZID=America/Chicago:20240129T190000
DTSTAMP:20260422T053845
CREATED:20240115T174912Z
LAST-MODIFIED:20240115T180603Z
UID:10006655-1706547600-1706554800@www.springcreekoaks.org
SUMMARY:Kuehnle courts 3-4\, Coach Danny
DESCRIPTION:
URL:https://www.springcreekoaks.org/reservations/kuehnle-courts-3-4-coach-danny-2/2024-01-29/
CATEGORIES:Tennis
END:VEVENT
END:VCALENDAR