BEGIN:VCALENDAR
VERSION:2.0
PRODID:-//Spring Creek Oaks - ECPv6.15.20//NONSGML v1.0//EN
CALSCALE:GREGORIAN
METHOD:PUBLISH
X-ORIGINAL-URL:https://www.springcreekoaks.org
X-WR-CALDESC:Events for Spring Creek Oaks
REFRESH-INTERVAL;VALUE=DURATION:PT1H
X-Robots-Tag:noindex
X-PUBLISHED-TTL:PT1H
BEGIN:VTIMEZONE
TZID:America/Chicago
BEGIN:DAYLIGHT
TZOFFSETFROM:-0600
TZOFFSETTO:-0500
TZNAME:CDT
DTSTART:20220313T080000
END:DAYLIGHT
BEGIN:STANDARD
TZOFFSETFROM:-0500
TZOFFSETTO:-0600
TZNAME:CST
DTSTART:20221106T070000
END:STANDARD
BEGIN:DAYLIGHT
TZOFFSETFROM:-0600
TZOFFSETTO:-0500
TZNAME:CDT
DTSTART:20230312T080000
END:DAYLIGHT
BEGIN:STANDARD
TZOFFSETFROM:-0500
TZOFFSETTO:-0600
TZNAME:CST
DTSTART:20231105T070000
END:STANDARD
BEGIN:DAYLIGHT
TZOFFSETFROM:-0600
TZOFFSETTO:-0500
TZNAME:CDT
DTSTART:20240310T080000
END:DAYLIGHT
BEGIN:STANDARD
TZOFFSETFROM:-0500
TZOFFSETTO:-0600
TZNAME:CST
DTSTART:20241103T070000
END:STANDARD
END:VTIMEZONE
BEGIN:VEVENT
DTSTART;VALUE=DATE:20231215
DTEND;VALUE=DATE:20231216
DTSTAMP:20260423T115157
CREATED:20230801T235517Z
LAST-MODIFIED:20230801T235517Z
UID:10005800-1702598400-1702684799@www.springcreekoaks.org
SUMMARY:Pudillio CH2
DESCRIPTION:
URL:https://www.springcreekoaks.org/reservations/pudillio-ch2/
LOCATION:Clubhouse 2\, 6002 Bur Oak Dr\, Spring\, 77379\, United States
CATEGORIES:Clubhouses
GEO:30.037539;-95.5070911
X-APPLE-STRUCTURED-LOCATION;VALUE=URI;X-ADDRESS=Clubhouse 2 6002 Bur Oak Dr Spring 77379 United States;X-APPLE-RADIUS=500;X-TITLE=6002 Bur Oak Dr:geo:-95.5070911,30.037539
END:VEVENT
BEGIN:VEVENT
DTSTART;TZID=America/Chicago:20231215T090000
DTEND;TZID=America/Chicago:20231215T120000
DTSTAMP:20260423T115157
CREATED:20231209T222219Z
LAST-MODIFIED:20231209T222219Z
UID:10002368-1702630800-1702641600@www.springcreekoaks.org
SUMMARY:CH 2 court 6\, Hudson
DESCRIPTION:
URL:https://www.springcreekoaks.org/reservations/ch-2-court-6-hudson-21/
CATEGORIES:Tennis
END:VEVENT
BEGIN:VEVENT
DTSTART;TZID=America/Chicago:20231215T090000
DTEND;TZID=America/Chicago:20231215T140000
DTSTAMP:20260423T115157
CREATED:20230328T012811Z
LAST-MODIFIED:20230328T012811Z
UID:10002268-1702630800-1702648800@www.springcreekoaks.org
SUMMARY:SCO Tennis Camp CH2
DESCRIPTION:
URL:https://www.springcreekoaks.org/reservations/sco-tennis-camp-ch2-3/2023-12-15/
LOCATION:Clubhouse 2\, 6002 Bur Oak Dr\, Spring\, 77379\, United States
CATEGORIES:Clubhouses
GEO:30.037539;-95.5070911
X-APPLE-STRUCTURED-LOCATION;VALUE=URI;X-ADDRESS=Clubhouse 2 6002 Bur Oak Dr Spring 77379 United States;X-APPLE-RADIUS=500;X-TITLE=6002 Bur Oak Dr:geo:-95.5070911,30.037539
END:VEVENT
BEGIN:VEVENT
DTSTART;TZID=America/Chicago:20231215T180000
DTEND;TZID=America/Chicago:20231215T190000
DTSTAMP:20260423T115157
CREATED:20230814T133222Z
LAST-MODIFIED:20230814T133222Z
UID:10006101-1702663200-1702666800@www.springcreekoaks.org
SUMMARY:Kuehnle courts 3-4\, Yellow ball class
DESCRIPTION:
URL:https://www.springcreekoaks.org/reservations/kuehnle-courts-3-4-yellow-ball-class-5/2023-12-15/
CATEGORIES:Tennis
END:VEVENT
END:VCALENDAR