BEGIN:VCALENDAR
VERSION:2.0
PRODID:-//Spring Creek Oaks - ECPv6.15.20//NONSGML v1.0//EN
CALSCALE:GREGORIAN
METHOD:PUBLISH
X-ORIGINAL-URL:https://www.springcreekoaks.org
X-WR-CALDESC:Events for Spring Creek Oaks
REFRESH-INTERVAL;VALUE=DURATION:PT1H
X-Robots-Tag:noindex
X-PUBLISHED-TTL:PT1H
BEGIN:VTIMEZONE
TZID:America/Chicago
BEGIN:DAYLIGHT
TZOFFSETFROM:-0600
TZOFFSETTO:-0500
TZNAME:CDT
DTSTART:20220313T080000
END:DAYLIGHT
BEGIN:STANDARD
TZOFFSETFROM:-0500
TZOFFSETTO:-0600
TZNAME:CST
DTSTART:20221106T070000
END:STANDARD
BEGIN:DAYLIGHT
TZOFFSETFROM:-0600
TZOFFSETTO:-0500
TZNAME:CDT
DTSTART:20230312T080000
END:DAYLIGHT
BEGIN:STANDARD
TZOFFSETFROM:-0500
TZOFFSETTO:-0600
TZNAME:CST
DTSTART:20231105T070000
END:STANDARD
BEGIN:DAYLIGHT
TZOFFSETFROM:-0600
TZOFFSETTO:-0500
TZNAME:CDT
DTSTART:20240310T080000
END:DAYLIGHT
BEGIN:STANDARD
TZOFFSETFROM:-0500
TZOFFSETTO:-0600
TZNAME:CST
DTSTART:20241103T070000
END:STANDARD
END:VTIMEZONE
BEGIN:VEVENT
DTSTART;VALUE=DATE:20231209
DTEND;VALUE=DATE:20231210
DTSTAMP:20260423T115321
CREATED:20220503T020136Z
LAST-MODIFIED:20220503T020136Z
UID:10000767-1702080000-1702166399@www.springcreekoaks.org
SUMMARY:Bowman/Klein CH2
DESCRIPTION:
URL:https://www.springcreekoaks.org/reservations/bowman-klein-ch2-3/
LOCATION:Clubhouse 2\, 6002 Bur Oak Dr\, Spring\, 77379\, United States
CATEGORIES:Clubhouses
GEO:30.037539;-95.5070911
X-APPLE-STRUCTURED-LOCATION;VALUE=URI;X-ADDRESS=Clubhouse 2 6002 Bur Oak Dr Spring 77379 United States;X-APPLE-RADIUS=500;X-TITLE=6002 Bur Oak Dr:geo:-95.5070911,30.037539
END:VEVENT
BEGIN:VEVENT
DTSTART;VALUE=DATE:20231209
DTEND;VALUE=DATE:20231210
DTSTAMP:20260423T115321
CREATED:20230921T221752Z
LAST-MODIFIED:20230921T221752Z
UID:10001288-1702080000-1702166399@www.springcreekoaks.org
SUMMARY:Gregory CH1
DESCRIPTION:
URL:https://www.springcreekoaks.org/reservations/gregory-ch1-2/
CATEGORIES:Clubhouses
END:VEVENT
BEGIN:VEVENT
DTSTART;TZID=America/Chicago:20231209T080000
DTEND;TZID=America/Chicago:20231209T100000
DTSTAMP:20260423T115321
CREATED:20220407T142613Z
LAST-MODIFIED:20231115T201658Z
UID:10004632-1702108800-1702116000@www.springcreekoaks.org
SUMMARY:SCO weekly pickup game (LLERENA)
DESCRIPTION:All SCO residents are invited to play and have some fun.
URL:https://www.springcreekoaks.org/reservations/llerenas-soccer-practice/2023-12-09/
LOCATION:Large Soccer Field (Bilma)\, United States
CATEGORIES:Soccer Fields
END:VEVENT
BEGIN:VEVENT
DTSTART;TZID=America/Chicago:20231209T080000
DTEND;TZID=America/Chicago:20231209T120000
DTSTAMP:20260423T115321
CREATED:20221116T000053Z
LAST-MODIFIED:20221116T000053Z
UID:10001629-1702108800-1702123200@www.springcreekoaks.org
SUMMARY:Breakfast with Santa
DESCRIPTION:
URL:https://www.springcreekoaks.org/reservations/breakfast-with-santa/
LOCATION:Clubhouse 2\, 6002 Bur Oak Dr\, Spring\, 77379\, United States
CATEGORIES:Clubhouses
GEO:30.037539;-95.5070911
X-APPLE-STRUCTURED-LOCATION;VALUE=URI;X-ADDRESS=Clubhouse 2 6002 Bur Oak Dr Spring 77379 United States;X-APPLE-RADIUS=500;X-TITLE=6002 Bur Oak Dr:geo:-95.5070911,30.037539
END:VEVENT
BEGIN:VEVENT
DTSTART;TZID=America/Chicago:20231209T080000
DTEND;TZID=America/Chicago:20231209T130000
DTSTAMP:20260423T115321
CREATED:20230116T004356Z
LAST-MODIFIED:20230116T004356Z
UID:10000874-1702108800-1702126800@www.springcreekoaks.org
SUMMARY:SCO Christmas Party CH2
DESCRIPTION:
URL:https://www.springcreekoaks.org/reservations/sco-christmas-party-ch2/
LOCATION:Clubhouse 2\, 6002 Bur Oak Dr\, Spring\, 77379\, United States
CATEGORIES:Clubhouses
GEO:30.037539;-95.5070911
X-APPLE-STRUCTURED-LOCATION;VALUE=URI;X-ADDRESS=Clubhouse 2 6002 Bur Oak Dr Spring 77379 United States;X-APPLE-RADIUS=500;X-TITLE=6002 Bur Oak Dr:geo:-95.5070911,30.037539
END:VEVENT
BEGIN:VEVENT
DTSTART;TZID=America/Chicago:20231209T090000
DTEND;TZID=America/Chicago:20231209T120000
DTSTAMP:20260423T115321
CREATED:20230819T184138Z
LAST-MODIFIED:20230907T224528Z
UID:10003419-1702112400-1702123200@www.springcreekoaks.org
SUMMARY:CH 1 courts 2-3\, Palmer
DESCRIPTION:
URL:https://www.springcreekoaks.org/reservations/ch-1-courts-2-3-pickleball-meet-and-greet-5/2023-12-09/
CATEGORIES:Tennis
END:VEVENT
BEGIN:VEVENT
DTSTART;TZID=America/Chicago:20231209T090000
DTEND;TZID=America/Chicago:20231209T120000
DTSTAMP:20260423T115321
CREATED:20230907T224820Z
LAST-MODIFIED:20230907T224820Z
UID:10006255-1702112400-1702123200@www.springcreekoaks.org
SUMMARY:CH 1 court 1\, Pickleball meet and greet
DESCRIPTION:
URL:https://www.springcreekoaks.org/reservations/ch-1-court-1-pickleball-meet-and-greet/2023-12-09/
CATEGORIES:Tennis
END:VEVENT
BEGIN:VEVENT
DTSTART;TZID=America/Chicago:20231209T090000
DTEND;TZID=America/Chicago:20231209T140000
DTSTAMP:20260423T115321
CREATED:20230328T012811Z
LAST-MODIFIED:20230328T012811Z
UID:10002262-1702112400-1702130400@www.springcreekoaks.org
SUMMARY:SCO Tennis Camp CH2
DESCRIPTION:
URL:https://www.springcreekoaks.org/reservations/sco-tennis-camp-ch2-3/2023-12-09/
LOCATION:Clubhouse 2\, 6002 Bur Oak Dr\, Spring\, 77379\, United States
CATEGORIES:Clubhouses
GEO:30.037539;-95.5070911
X-APPLE-STRUCTURED-LOCATION;VALUE=URI;X-ADDRESS=Clubhouse 2 6002 Bur Oak Dr Spring 77379 United States;X-APPLE-RADIUS=500;X-TITLE=6002 Bur Oak Dr:geo:-95.5070911,30.037539
END:VEVENT
END:VCALENDAR