BEGIN:VCALENDAR
VERSION:2.0
PRODID:-//Spring Creek Oaks - ECPv6.15.20//NONSGML v1.0//EN
CALSCALE:GREGORIAN
METHOD:PUBLISH
X-ORIGINAL-URL:https://www.springcreekoaks.org
X-WR-CALDESC:Events for Spring Creek Oaks
REFRESH-INTERVAL;VALUE=DURATION:PT1H
X-Robots-Tag:noindex
X-PUBLISHED-TTL:PT1H
BEGIN:VTIMEZONE
TZID:America/Chicago
BEGIN:DAYLIGHT
TZOFFSETFROM:-0600
TZOFFSETTO:-0500
TZNAME:CDT
DTSTART:20220313T080000
END:DAYLIGHT
BEGIN:STANDARD
TZOFFSETFROM:-0500
TZOFFSETTO:-0600
TZNAME:CST
DTSTART:20221106T070000
END:STANDARD
BEGIN:DAYLIGHT
TZOFFSETFROM:-0600
TZOFFSETTO:-0500
TZNAME:CDT
DTSTART:20230312T080000
END:DAYLIGHT
BEGIN:STANDARD
TZOFFSETFROM:-0500
TZOFFSETTO:-0600
TZNAME:CST
DTSTART:20231105T070000
END:STANDARD
BEGIN:DAYLIGHT
TZOFFSETFROM:-0600
TZOFFSETTO:-0500
TZNAME:CDT
DTSTART:20240310T080000
END:DAYLIGHT
BEGIN:STANDARD
TZOFFSETFROM:-0500
TZOFFSETTO:-0600
TZNAME:CST
DTSTART:20241103T070000
END:STANDARD
END:VTIMEZONE
BEGIN:VEVENT
DTSTART;TZID=America/Chicago:20231207T083000
DTEND;TZID=America/Chicago:20231207T113000
DTSTAMP:20260424T070302
CREATED:20231206T043431Z
LAST-MODIFIED:20231206T043431Z
UID:10001045-1701937800-1701948600@www.springcreekoaks.org
SUMMARY:CH 2 court 1\, Kushner
DESCRIPTION:
URL:https://www.springcreekoaks.org/reservations/ch-2-court-1-kushner-2/
CATEGORIES:Tennis
END:VEVENT
BEGIN:VEVENT
DTSTART;TZID=America/Chicago:20231207T090000
DTEND;TZID=America/Chicago:20231207T110000
DTSTAMP:20260424T070302
CREATED:20230821T190739Z
LAST-MODIFIED:20230821T190739Z
UID:10006153-1701939600-1701946800@www.springcreekoaks.org
SUMMARY:Kuehnle courts 3-4\, Homeschool classes
DESCRIPTION:
URL:https://www.springcreekoaks.org/reservations/kuehnle-courts-3-4-homeschool-classes-2/2023-12-07/
CATEGORIES:Tennis
END:VEVENT
BEGIN:VEVENT
DTSTART;TZID=America/Chicago:20231207T090000
DTEND;TZID=America/Chicago:20231207T120000
DTSTAMP:20260424T070302
CREATED:20230819T184409Z
LAST-MODIFIED:20230907T224257Z
UID:10006137-1701939600-1701950400@www.springcreekoaks.org
SUMMARY:CH 1 courts 2-3\, Palmer
DESCRIPTION:
URL:https://www.springcreekoaks.org/reservations/ch-1-courts-2-3-pickleball-meet-and-greet-7/2023-12-07/
CATEGORIES:Tennis
END:VEVENT
BEGIN:VEVENT
DTSTART;TZID=America/Chicago:20231207T090000
DTEND;TZID=America/Chicago:20231207T120000
DTSTAMP:20260424T070302
CREATED:20230907T225043Z
LAST-MODIFIED:20230907T225043Z
UID:10006287-1701939600-1701950400@www.springcreekoaks.org
SUMMARY:CH 1 court 1\, Pickleball meet and greet
DESCRIPTION:
URL:https://www.springcreekoaks.org/reservations/ch-1-court-1-pickleball-meet-and-greet-3/2023-12-07/
CATEGORIES:Tennis
END:VEVENT
BEGIN:VEVENT
DTSTART;TZID=America/Chicago:20231207T090000
DTEND;TZID=America/Chicago:20231207T140000
DTSTAMP:20260424T070302
CREATED:20230328T012811Z
LAST-MODIFIED:20230328T012811Z
UID:10002260-1701939600-1701957600@www.springcreekoaks.org
SUMMARY:SCO Tennis Camp CH2
DESCRIPTION:
URL:https://www.springcreekoaks.org/reservations/sco-tennis-camp-ch2-3/2023-12-07/
LOCATION:Clubhouse 2\, 6002 Bur Oak Dr\, Spring\, 77379\, United States
CATEGORIES:Clubhouses
GEO:30.037539;-95.5070911
X-APPLE-STRUCTURED-LOCATION;VALUE=URI;X-ADDRESS=Clubhouse 2 6002 Bur Oak Dr Spring 77379 United States;X-APPLE-RADIUS=500;X-TITLE=6002 Bur Oak Dr:geo:-95.5070911,30.037539
END:VEVENT
BEGIN:VEVENT
DTSTART;TZID=America/Chicago:20231207T170000
DTEND;TZID=America/Chicago:20231207T180000
DTSTAMP:20260424T070302
CREATED:20230814T132947Z
LAST-MODIFIED:20230814T132947Z
UID:10006062-1701968400-1701972000@www.springcreekoaks.org
SUMMARY:Kuehnle courts 3-4\, Orange ball class
DESCRIPTION:
URL:https://www.springcreekoaks.org/reservations/kuehnle-courts-3-4-orange-ball-class-3/2023-12-07/
CATEGORIES:Tennis
END:VEVENT
BEGIN:VEVENT
DTSTART;TZID=America/Chicago:20231207T170000
DTEND;TZID=America/Chicago:20231207T210000
DTSTAMP:20260424T070302
CREATED:20191114T164535Z
LAST-MODIFIED:20191114T164535Z
UID:10000356-1701968400-1701982800@www.springcreekoaks.org
SUMMARY:CH2 5pm-9pm Waterboard Monthly Meeting
DESCRIPTION:
URL:https://www.springcreekoaks.org/reservations/ch2-5pm-9pm-waterboard-monthly-meeting/2023-12-07/
LOCATION:Clubhouse 2\, 6002 Bur Oak Dr\, Spring\, 77379\, United States
CATEGORIES:Clubhouses
GEO:30.037539;-95.5070911
X-APPLE-STRUCTURED-LOCATION;VALUE=URI;X-ADDRESS=Clubhouse 2 6002 Bur Oak Dr Spring 77379 United States;X-APPLE-RADIUS=500;X-TITLE=6002 Bur Oak Dr:geo:-95.5070911,30.037539
END:VEVENT
BEGIN:VEVENT
DTSTART;TZID=America/Chicago:20231207T170000
DTEND;TZID=America/Chicago:20231207T220000
DTSTAMP:20260424T070302
CREATED:20230129T135835Z
LAST-MODIFIED:20230129T135835Z
UID:10001851-1701968400-1701986400@www.springcreekoaks.org
SUMMARY:Bilma Board Meeting CH2
DESCRIPTION:
URL:https://www.springcreekoaks.org/reservations/bilma-board-meeting-ch2/2023-12-07/
CATEGORIES:Clubhouses
END:VEVENT
BEGIN:VEVENT
DTSTART;TZID=America/Chicago:20231207T173000
DTEND;TZID=America/Chicago:20231207T193000
DTSTAMP:20260424T070302
CREATED:20231012T150149Z
LAST-MODIFIED:20231013T150253Z
UID:10006333-1701970200-1701977400@www.springcreekoaks.org
SUMMARY:Christensen
DESCRIPTION:
URL:https://www.springcreekoaks.org/reservations/christensen/2023-12-07/
LOCATION:Small Soccer Field (CH 2)
CATEGORIES:Soccer Fields
END:VEVENT
BEGIN:VEVENT
DTSTART;TZID=America/Chicago:20231207T180000
DTEND;TZID=America/Chicago:20231207T193000
DTSTAMP:20260424T070302
CREATED:20230814T133101Z
LAST-MODIFIED:20230814T133101Z
UID:10006081-1701972000-1701977400@www.springcreekoaks.org
SUMMARY:Kuehnle courts 3-4\, Yellow ball class
DESCRIPTION:
URL:https://www.springcreekoaks.org/reservations/kuehnle-courts-3-4-yellow-ball-class-4/2023-12-07/
CATEGORIES:Tennis
END:VEVENT
BEGIN:VEVENT
DTSTART;TZID=America/Chicago:20231207T193000
DTEND;TZID=America/Chicago:20231207T220000
DTSTAMP:20260424T070302
CREATED:20230911T200317Z
LAST-MODIFIED:20230911T200317Z
UID:10003649-1701977400-1701986400@www.springcreekoaks.org
SUMMARY:CH 1 courts 2-3 (Pickleball)\, Guzman
DESCRIPTION:
URL:https://www.springcreekoaks.org/reservations/ch-1-courts-2-3-pickleball-guzman/2023-12-07/
CATEGORIES:Tennis
END:VEVENT
END:VCALENDAR