BEGIN:VCALENDAR
VERSION:2.0
PRODID:-//Spring Creek Oaks - ECPv6.15.20//NONSGML v1.0//EN
CALSCALE:GREGORIAN
METHOD:PUBLISH
X-WR-CALNAME:Spring Creek Oaks
X-ORIGINAL-URL:https://www.springcreekoaks.org
X-WR-CALDESC:Events for Spring Creek Oaks
REFRESH-INTERVAL;VALUE=DURATION:PT1H
X-Robots-Tag:noindex
X-PUBLISHED-TTL:PT1H
BEGIN:VTIMEZONE
TZID:America/Chicago
BEGIN:DAYLIGHT
TZOFFSETFROM:-0600
TZOFFSETTO:-0500
TZNAME:CDT
DTSTART:20220313T080000
END:DAYLIGHT
BEGIN:STANDARD
TZOFFSETFROM:-0500
TZOFFSETTO:-0600
TZNAME:CST
DTSTART:20221106T070000
END:STANDARD
BEGIN:DAYLIGHT
TZOFFSETFROM:-0600
TZOFFSETTO:-0500
TZNAME:CDT
DTSTART:20230312T080000
END:DAYLIGHT
BEGIN:STANDARD
TZOFFSETFROM:-0500
TZOFFSETTO:-0600
TZNAME:CST
DTSTART:20231105T070000
END:STANDARD
BEGIN:DAYLIGHT
TZOFFSETFROM:-0600
TZOFFSETTO:-0500
TZNAME:CDT
DTSTART:20240310T080000
END:DAYLIGHT
BEGIN:STANDARD
TZOFFSETFROM:-0500
TZOFFSETTO:-0600
TZNAME:CST
DTSTART:20241103T070000
END:STANDARD
END:VTIMEZONE
BEGIN:VEVENT
DTSTART;TZID=America/Chicago:20231009T080000
DTEND;TZID=America/Chicago:20231009T110000
DTSTAMP:20260424T145806
CREATED:20231009T125146Z
LAST-MODIFIED:20231009T125146Z
UID:10003972-1696838400-1696849200@www.springcreekoaks.org
SUMMARY:Kuehnle court 2\, Lopez
DESCRIPTION:
URL:https://www.springcreekoaks.org/reservations/kuehnle-court-2-lopez-20/
CATEGORIES:Tennis
END:VEVENT
BEGIN:VEVENT
DTSTART;TZID=America/Chicago:20231009T083000
DTEND;TZID=America/Chicago:20231009T100000
DTSTAMP:20260424T145806
CREATED:20230814T130951Z
LAST-MODIFIED:20230814T130951Z
UID:10003573-1696840200-1696845600@www.springcreekoaks.org
SUMMARY:Kuehnle courts 3-4\, Ladies open drill\, tennis pro Danny
DESCRIPTION:
URL:https://www.springcreekoaks.org/reservations/kuehnle-courts-3-4-ladies-open-drill-tennis-pro-danny/2023-10-09/
CATEGORIES:Tennis
END:VEVENT
BEGIN:VEVENT
DTSTART;TZID=America/Chicago:20231009T090000
DTEND;TZID=America/Chicago:20231009T140000
DTSTAMP:20260424T145806
CREATED:20230328T012811Z
LAST-MODIFIED:20230328T012811Z
UID:10002201-1696842000-1696860000@www.springcreekoaks.org
SUMMARY:SCO Tennis Camp CH2
DESCRIPTION:
URL:https://www.springcreekoaks.org/reservations/sco-tennis-camp-ch2-3/2023-10-09/
LOCATION:Clubhouse 2\, 6002 Bur Oak Dr\, Spring\, 77379\, United States
CATEGORIES:Clubhouses
GEO:30.037539;-95.5070911
X-APPLE-STRUCTURED-LOCATION;VALUE=URI;X-ADDRESS=Clubhouse 2 6002 Bur Oak Dr Spring 77379 United States;X-APPLE-RADIUS=500;X-TITLE=6002 Bur Oak Dr:geo:-95.5070911,30.037539
END:VEVENT
BEGIN:VEVENT
DTSTART;TZID=America/Chicago:20231009T093000
DTEND;TZID=America/Chicago:20231009T110000
DTSTAMP:20260424T145806
CREATED:20230916T183322Z
LAST-MODIFIED:20230916T183322Z
UID:10003962-1696843800-1696849200@www.springcreekoaks.org
SUMMARY:CH 2 courts 1-3\, coach Danny tennis camp
DESCRIPTION:
URL:https://www.springcreekoaks.org/reservations/ch-2-courts-1-3-coach-danny-tennis-camp-7/2023-10-09/
CATEGORIES:Tennis
END:VEVENT
BEGIN:VEVENT
DTSTART;TZID=America/Chicago:20231009T100000
DTEND;TZID=America/Chicago:20231009T110000
DTSTAMP:20260424T145806
CREATED:20230814T131112Z
LAST-MODIFIED:20230814T131112Z
UID:10005826-1696845600-1696849200@www.springcreekoaks.org
SUMMARY:Kuehnle courts 3-4\, Intermediate Home School class
DESCRIPTION:
URL:https://www.springcreekoaks.org/reservations/kuehnle-courts-3-4-intermediate-home-school-class/2023-10-09/
CATEGORIES:Tennis
END:VEVENT
BEGIN:VEVENT
DTSTART;TZID=America/Chicago:20231009T160000
DTEND;TZID=America/Chicago:20231009T200000
DTSTAMP:20260424T145806
CREATED:20230703T125231Z
LAST-MODIFIED:20230703T125231Z
UID:10005736-1696867200-1696881600@www.springcreekoaks.org
SUMMARY:Field 1 - Texas Havoc - 10U
DESCRIPTION:
URL:https://www.springcreekoaks.org/reservations/field-1-texas-havoc-10u/2023-10-09/
LOCATION:Baseball Field 1\, United States
CATEGORIES:Baseball Fields
END:VEVENT
BEGIN:VEVENT
DTSTART;TZID=America/Chicago:20231009T160000
DTEND;TZID=America/Chicago:20231009T200000
DTSTAMP:20260424T145806
CREATED:20230710T115703Z
LAST-MODIFIED:20230710T115703Z
UID:10005786-1696867200-1696881600@www.springcreekoaks.org
SUMMARY:Field 2 - Orioles - 11U
DESCRIPTION:
URL:https://www.springcreekoaks.org/reservations/field-2-orioles-11u/2023-10-09/
LOCATION:Baseball Field 2\, United States
CATEGORIES:Baseball Fields
END:VEVENT
BEGIN:VEVENT
DTSTART;TZID=America/Chicago:20231009T160000
DTEND;TZID=America/Chicago:20231009T200000
DTSTAMP:20260424T145806
CREATED:20230824T141412Z
LAST-MODIFIED:20230824T141412Z
UID:10006194-1696867200-1696881600@www.springcreekoaks.org
SUMMARY:Field 3 - Jaguars - 14U
DESCRIPTION:
URL:https://www.springcreekoaks.org/reservations/field-3-jaguars-14u-2/2023-10-09/
LOCATION:Baseball Field 3\, United States
CATEGORIES:Baseball Fields
END:VEVENT
BEGIN:VEVENT
DTSTART;TZID=America/Chicago:20231009T160000
DTEND;TZID=America/Chicago:20231009T200000
DTSTAMP:20260424T145806
CREATED:20230828T175357Z
LAST-MODIFIED:20230828T175820Z
UID:10003634-1696867200-1696881600@www.springcreekoaks.org
SUMMARY:Field 4 - Blue Rocks - 7U
DESCRIPTION:
URL:https://www.springcreekoaks.org/reservations/field-4-ibrahim-7u/2023-10-09/
LOCATION:Baseball Field 4\, United States
CATEGORIES:Baseball Fields
END:VEVENT
BEGIN:VEVENT
DTSTART;TZID=America/Chicago:20231009T170000
DTEND;TZID=America/Chicago:20231009T180000
DTSTAMP:20260424T145806
CREATED:20230814T131224Z
LAST-MODIFIED:20230814T131224Z
UID:10005845-1696870800-1696874400@www.springcreekoaks.org
SUMMARY:Kuehnle courts 3-4\, Orange ball class
DESCRIPTION:
URL:https://www.springcreekoaks.org/reservations/kuehnle-courts-3-4-orange-ball-class/2023-10-09/
CATEGORIES:Tennis
END:VEVENT
BEGIN:VEVENT
DTSTART;TZID=America/Chicago:20231009T180000
DTEND;TZID=America/Chicago:20231009T190000
DTSTAMP:20260424T145806
CREATED:20230814T131344Z
LAST-MODIFIED:20230814T131344Z
UID:10005864-1696874400-1696878000@www.springcreekoaks.org
SUMMARY:Kuehnle courts 3-4\, Yellow ball class
DESCRIPTION:
URL:https://www.springcreekoaks.org/reservations/kuehnle-courts-3-4-yellow-ball-class/2023-10-09/
CATEGORIES:Tennis
END:VEVENT
BEGIN:VEVENT
DTSTART;TZID=America/Chicago:20231009T180000
DTEND;TZID=America/Chicago:20231009T200000
DTSTAMP:20260424T145806
CREATED:20230724T185620Z
LAST-MODIFIED:20231013T145755Z
UID:10003477-1696874400-1696881600@www.springcreekoaks.org
SUMMARY:Jenny Tyger (3rd graders soccer)
DESCRIPTION:
URL:https://www.springcreekoaks.org/reservations/jenny-tyger-3rd-graders-soccer/2023-10-09/
LOCATION:Small Soccer Field (CH 2)
CATEGORIES:Soccer Fields
END:VEVENT
BEGIN:VEVENT
DTSTART;TZID=America/Chicago:20231009T180000
DTEND;TZID=America/Chicago:20231009T210000
DTSTAMP:20260424T145806
CREATED:20220721T213401Z
LAST-MODIFIED:20230116T204916Z
UID:10004192-1696874400-1696885200@www.springcreekoaks.org
SUMMARY:SCO Board Meeting CH2
DESCRIPTION:
URL:https://www.springcreekoaks.org/reservations/sco-board-meeting-ch2/2023-10-09/
LOCATION:Clubhouse 2\, 6002 Bur Oak Dr\, Spring\, 77379\, United States
CATEGORIES:Clubhouses
GEO:30.037539;-95.5070911
X-APPLE-STRUCTURED-LOCATION;VALUE=URI;X-ADDRESS=Clubhouse 2 6002 Bur Oak Dr Spring 77379 United States;X-APPLE-RADIUS=500;X-TITLE=6002 Bur Oak Dr:geo:-95.5070911,30.037539
END:VEVENT
BEGIN:VEVENT
DTSTART;TZID=America/Chicago:20231009T190000
DTEND;TZID=America/Chicago:20231009T200000
DTSTAMP:20260424T145806
CREATED:20230814T131523Z
LAST-MODIFIED:20230814T131523Z
UID:10005883-1696878000-1696881600@www.springcreekoaks.org
SUMMARY:Kuehnle courts 3-4\, Adult drop-in drill\, all levels
DESCRIPTION:
URL:https://www.springcreekoaks.org/reservations/kuehnle-courts-3-4-adult-drop-in-drill-all-levels/2023-10-09/
CATEGORIES:Tennis
END:VEVENT
BEGIN:VEVENT
DTSTART;TZID=America/Chicago:20231009T190000
DTEND;TZID=America/Chicago:20231009T220000
DTSTAMP:20260424T145806
CREATED:20230909T134836Z
LAST-MODIFIED:20230909T134836Z
UID:10006293-1696878000-1696888800@www.springcreekoaks.org
SUMMARY:CH 2 courts 1-6\, NHTA A2
DESCRIPTION:
URL:https://www.springcreekoaks.org/reservations/ch-2-courts-1-6-nhta-a2-3/2023-10-09/
CATEGORIES:Tennis
END:VEVENT
END:VCALENDAR