BEGIN:VCALENDAR
VERSION:2.0
PRODID:-//Spring Creek Oaks - ECPv6.15.20//NONSGML v1.0//EN
CALSCALE:GREGORIAN
METHOD:PUBLISH
X-WR-CALNAME:Spring Creek Oaks
X-ORIGINAL-URL:https://www.springcreekoaks.org
X-WR-CALDESC:Events for Spring Creek Oaks
REFRESH-INTERVAL;VALUE=DURATION:PT1H
X-Robots-Tag:noindex
X-PUBLISHED-TTL:PT1H
BEGIN:VTIMEZONE
TZID:America/Chicago
BEGIN:DAYLIGHT
TZOFFSETFROM:-0600
TZOFFSETTO:-0500
TZNAME:CDT
DTSTART:20220313T080000
END:DAYLIGHT
BEGIN:STANDARD
TZOFFSETFROM:-0500
TZOFFSETTO:-0600
TZNAME:CST
DTSTART:20221106T070000
END:STANDARD
BEGIN:DAYLIGHT
TZOFFSETFROM:-0600
TZOFFSETTO:-0500
TZNAME:CDT
DTSTART:20230312T080000
END:DAYLIGHT
BEGIN:STANDARD
TZOFFSETFROM:-0500
TZOFFSETTO:-0600
TZNAME:CST
DTSTART:20231105T070000
END:STANDARD
BEGIN:DAYLIGHT
TZOFFSETFROM:-0600
TZOFFSETTO:-0500
TZNAME:CDT
DTSTART:20240310T080000
END:DAYLIGHT
BEGIN:STANDARD
TZOFFSETFROM:-0500
TZOFFSETTO:-0600
TZNAME:CST
DTSTART:20241103T070000
END:STANDARD
END:VTIMEZONE
BEGIN:VEVENT
DTSTART;TZID=America/Chicago:20230927T090000
DTEND;TZID=America/Chicago:20230927T100000
DTSTAMP:20260424T101716
CREATED:20230814T132524Z
LAST-MODIFIED:20230814T132524Z
UID:10005995-1695805200-1695808800@www.springcreekoaks.org
SUMMARY:Kuehnle courts 3-4\, intermediate homeschool class
DESCRIPTION:
URL:https://www.springcreekoaks.org/reservations/kuehnle-courts-3-4-intermediate-homeschool-class-2/2023-09-27/
CATEGORIES:Tennis
END:VEVENT
BEGIN:VEVENT
DTSTART;TZID=America/Chicago:20230927T090000
DTEND;TZID=America/Chicago:20230927T120000
DTSTAMP:20260424T101716
CREATED:20221227T222834Z
LAST-MODIFIED:20221227T222834Z
UID:10005246-1695805200-1695816000@www.springcreekoaks.org
SUMMARY:CH 1 courts 2-3\, Hudson
DESCRIPTION:
URL:https://www.springcreekoaks.org/reservations/ch-1-courts-2-3-hudson/2023-09-27/
CATEGORIES:Tennis
END:VEVENT
BEGIN:VEVENT
DTSTART;TZID=America/Chicago:20230927T090000
DTEND;TZID=America/Chicago:20230927T140000
DTSTAMP:20260424T101716
CREATED:20230328T012811Z
LAST-MODIFIED:20230328T012811Z
UID:10002189-1695805200-1695823200@www.springcreekoaks.org
SUMMARY:SCO Tennis Camp CH2
DESCRIPTION:
URL:https://www.springcreekoaks.org/reservations/sco-tennis-camp-ch2-3/2023-09-27/
LOCATION:Clubhouse 2\, 6002 Bur Oak Dr\, Spring\, 77379\, United States
CATEGORIES:Clubhouses
GEO:30.037539;-95.5070911
X-APPLE-STRUCTURED-LOCATION;VALUE=URI;X-ADDRESS=Clubhouse 2 6002 Bur Oak Dr Spring 77379 United States;X-APPLE-RADIUS=500;X-TITLE=6002 Bur Oak Dr:geo:-95.5070911,30.037539
END:VEVENT
BEGIN:VEVENT
DTSTART;TZID=America/Chicago:20230927T160000
DTEND;TZID=America/Chicago:20230927T200000
DTSTAMP:20260424T101716
CREATED:20230703T125231Z
LAST-MODIFIED:20230703T125231Z
UID:10005733-1695830400-1695844800@www.springcreekoaks.org
SUMMARY:Field 1 - Texas Havoc - 10U
DESCRIPTION:
URL:https://www.springcreekoaks.org/reservations/field-1-texas-havoc-10u/2023-09-27/
LOCATION:Baseball Field 1\, United States
CATEGORIES:Baseball Fields
END:VEVENT
BEGIN:VEVENT
DTSTART;TZID=America/Chicago:20230927T160000
DTEND;TZID=America/Chicago:20230927T200000
DTSTAMP:20260424T101716
CREATED:20230710T115703Z
LAST-MODIFIED:20230710T115703Z
UID:10005783-1695830400-1695844800@www.springcreekoaks.org
SUMMARY:Field 2 - Orioles - 11U
DESCRIPTION:
URL:https://www.springcreekoaks.org/reservations/field-2-orioles-11u/2023-09-27/
LOCATION:Baseball Field 2\, United States
CATEGORIES:Baseball Fields
END:VEVENT
BEGIN:VEVENT
DTSTART;TZID=America/Chicago:20230927T160000
DTEND;TZID=America/Chicago:20230927T200000
DTSTAMP:20260424T101716
CREATED:20230824T141412Z
LAST-MODIFIED:20230824T141412Z
UID:10006191-1695830400-1695844800@www.springcreekoaks.org
SUMMARY:Field 3 - Jaguars - 14U
DESCRIPTION:
URL:https://www.springcreekoaks.org/reservations/field-3-jaguars-14u-2/2023-09-27/
LOCATION:Baseball Field 3\, United States
CATEGORIES:Baseball Fields
END:VEVENT
BEGIN:VEVENT
DTSTART;TZID=America/Chicago:20230927T170000
DTEND;TZID=America/Chicago:20230927T180000
DTSTAMP:20260424T101716
CREATED:20230814T132653Z
LAST-MODIFIED:20230814T132653Z
UID:10006014-1695834000-1695837600@www.springcreekoaks.org
SUMMARY:Kuehnle courts 3-4\, Orange ball class
DESCRIPTION:
URL:https://www.springcreekoaks.org/reservations/kuehnle-courts-3-4-orange-ball-class-2/2023-09-27/
CATEGORIES:Tennis
END:VEVENT
BEGIN:VEVENT
DTSTART;TZID=America/Chicago:20230927T180000
DTEND;TZID=America/Chicago:20230927T190000
DTSTAMP:20260424T101716
CREATED:20230814T132829Z
LAST-MODIFIED:20230814T132829Z
UID:10006033-1695837600-1695841200@www.springcreekoaks.org
SUMMARY:Kuehnle courts 3-4\, Yellow ball class
DESCRIPTION:
URL:https://www.springcreekoaks.org/reservations/kuehnle-courts-3-4-yellow-ball-class-3/2023-09-27/
CATEGORIES:Tennis
END:VEVENT
BEGIN:VEVENT
DTSTART;TZID=America/Chicago:20230927T180000
DTEND;TZID=America/Chicago:20230927T200000
DTSTAMP:20260424T101716
CREATED:20200805T160749Z
LAST-MODIFIED:20200805T161100Z
UID:10001454-1695837600-1695844800@www.springcreekoaks.org
SUMMARY:CIFUENTES (Big Soccer Field)
DESCRIPTION:
URL:https://www.springcreekoaks.org/reservations/cifuentes-open-play-big-soccer-field/2023-09-27/
CATEGORIES:Soccer Fields
END:VEVENT
END:VCALENDAR