BEGIN:VCALENDAR
VERSION:2.0
PRODID:-//Spring Creek Oaks - ECPv6.15.20//NONSGML v1.0//EN
CALSCALE:GREGORIAN
METHOD:PUBLISH
X-WR-CALNAME:Spring Creek Oaks
X-ORIGINAL-URL:https://www.springcreekoaks.org
X-WR-CALDESC:Events for Spring Creek Oaks
REFRESH-INTERVAL;VALUE=DURATION:PT1H
X-Robots-Tag:noindex
X-PUBLISHED-TTL:PT1H
BEGIN:VTIMEZONE
TZID:America/Chicago
BEGIN:DAYLIGHT
TZOFFSETFROM:-0600
TZOFFSETTO:-0500
TZNAME:CDT
DTSTART:20220313T080000
END:DAYLIGHT
BEGIN:STANDARD
TZOFFSETFROM:-0500
TZOFFSETTO:-0600
TZNAME:CST
DTSTART:20221106T070000
END:STANDARD
BEGIN:DAYLIGHT
TZOFFSETFROM:-0600
TZOFFSETTO:-0500
TZNAME:CDT
DTSTART:20230312T080000
END:DAYLIGHT
BEGIN:STANDARD
TZOFFSETFROM:-0500
TZOFFSETTO:-0600
TZNAME:CST
DTSTART:20231105T070000
END:STANDARD
BEGIN:DAYLIGHT
TZOFFSETFROM:-0600
TZOFFSETTO:-0500
TZNAME:CDT
DTSTART:20240310T080000
END:DAYLIGHT
BEGIN:STANDARD
TZOFFSETFROM:-0500
TZOFFSETTO:-0600
TZNAME:CST
DTSTART:20241103T070000
END:STANDARD
END:VTIMEZONE
BEGIN:VEVENT
DTSTART;TZID=America/Chicago:20230921T083000
DTEND;TZID=America/Chicago:20230921T120000
DTSTAMP:20260425T074714
CREATED:20230823T105540Z
LAST-MODIFIED:20230823T105615Z
UID:10006161-1695285000-1695297600@www.springcreekoaks.org
SUMMARY:Kuehnle courts 1-4\, NW A1
DESCRIPTION:
URL:https://www.springcreekoaks.org/reservations/kuehnle-courts-1-4-nw-a1-2/2023-09-21/
LOCATION:TX
CATEGORIES:Tennis
END:VEVENT
BEGIN:VEVENT
DTSTART;TZID=America/Chicago:20230921T090000
DTEND;TZID=America/Chicago:20230921T110000
DTSTAMP:20260425T074714
CREATED:20230821T190909Z
LAST-MODIFIED:20230821T190909Z
UID:10006157-1695286800-1695294000@www.springcreekoaks.org
SUMMARY:CH 2 courts 1-3\, Honeschool classes
DESCRIPTION:
URL:https://www.springcreekoaks.org/reservations/ch-2-courts-1-3-honeschool-classes/2023-09-21/
LOCATION:TX
CATEGORIES:Tennis
END:VEVENT
BEGIN:VEVENT
DTSTART;TZID=America/Chicago:20230921T090000
DTEND;TZID=America/Chicago:20230921T120000
DTSTAMP:20260425T074714
CREATED:20230819T184409Z
LAST-MODIFIED:20230907T224257Z
UID:10006126-1695286800-1695297600@www.springcreekoaks.org
SUMMARY:CH 1 courts 2-3\, Palmer
DESCRIPTION:
URL:https://www.springcreekoaks.org/reservations/ch-1-courts-2-3-pickleball-meet-and-greet-7/2023-09-21/
LOCATION:TX
CATEGORIES:Tennis
END:VEVENT
BEGIN:VEVENT
DTSTART;TZID=America/Chicago:20230921T090000
DTEND;TZID=America/Chicago:20230921T120000
DTSTAMP:20260425T074714
CREATED:20230907T225043Z
LAST-MODIFIED:20230907T225043Z
UID:10006276-1695286800-1695297600@www.springcreekoaks.org
SUMMARY:CH 1 court 1\, Pickleball meet and greet
DESCRIPTION:
URL:https://www.springcreekoaks.org/reservations/ch-1-court-1-pickleball-meet-and-greet-3/2023-09-21/
LOCATION:TX
CATEGORIES:Tennis
END:VEVENT
BEGIN:VEVENT
DTSTART;TZID=America/Chicago:20230921T090000
DTEND;TZID=America/Chicago:20230921T140000
DTSTAMP:20260425T074714
CREATED:20230328T012811Z
LAST-MODIFIED:20230328T012811Z
UID:10002183-1695286800-1695304800@www.springcreekoaks.org
SUMMARY:SCO Tennis Camp CH2
DESCRIPTION:
URL:https://www.springcreekoaks.org/reservations/sco-tennis-camp-ch2-3/2023-09-21/
LOCATION:Clubhouse 2\, 6002 Bur Oak Dr\, Spring\, 77379\, United States
CATEGORIES:Clubhouses
GEO:30.037539;-95.5070911
X-APPLE-STRUCTURED-LOCATION;VALUE=URI;X-ADDRESS=Clubhouse 2 6002 Bur Oak Dr Spring 77379 United States;X-APPLE-RADIUS=500;X-TITLE=6002 Bur Oak Dr:geo:-95.5070911,30.037539
END:VEVENT
BEGIN:VEVENT
DTSTART;TZID=America/Chicago:20230921T160000
DTEND;TZID=America/Chicago:20230921T200000
DTSTAMP:20260425T074714
CREATED:20230703T125024Z
LAST-MODIFIED:20230703T125024Z
UID:10003523-1695312000-1695326400@www.springcreekoaks.org
SUMMARY:Field 2 - Texas Havoc - 12U
DESCRIPTION:
URL:https://www.springcreekoaks.org/reservations/field-2-texas-havoc-12u/2023-09-21/
LOCATION:Baseball Field 2\, United States
CATEGORIES:Baseball Fields
END:VEVENT
BEGIN:VEVENT
DTSTART;TZID=America/Chicago:20230921T160000
DTEND;TZID=America/Chicago:20230921T200000
DTSTAMP:20260425T074714
CREATED:20230711T214850Z
LAST-MODIFIED:20230711T214850Z
UID:10001230-1695312000-1695326400@www.springcreekoaks.org
SUMMARY:Field 4 - Eagles - 9U
DESCRIPTION:
URL:https://www.springcreekoaks.org/reservations/field-4-eagles-9u/2023-09-21/
LOCATION:Baseball Field 4\, United States
CATEGORIES:Baseball Fields
END:VEVENT
BEGIN:VEVENT
DTSTART;TZID=America/Chicago:20230921T160000
DTEND;TZID=America/Chicago:20230921T200000
DTSTAMP:20260425T074714
CREATED:20230726T111506Z
LAST-MODIFIED:20230726T111506Z
UID:10001264-1695312000-1695326400@www.springcreekoaks.org
SUMMARY:Field 3 - Young Guns - 12U
DESCRIPTION:
URL:https://www.springcreekoaks.org/reservations/field-3-young-guns-12u/2023-09-21/
LOCATION:Baseball Field 3\, United States
CATEGORIES:Baseball Fields
END:VEVENT
BEGIN:VEVENT
DTSTART;TZID=America/Chicago:20230921T160000
DTEND;TZID=America/Chicago:20230921T200000
DTSTAMP:20260425T074714
CREATED:20230801T112237Z
LAST-MODIFIED:20230801T112237Z
UID:10005806-1695312000-1695326400@www.springcreekoaks.org
SUMMARY:Field 1 - Coyotes - 12U
DESCRIPTION:
URL:https://www.springcreekoaks.org/reservations/field-1-coyotes-12u-2/2023-09-21/
LOCATION:Baseball Field 1\, United States
CATEGORIES:Baseball Fields
END:VEVENT
BEGIN:VEVENT
DTSTART;TZID=America/Chicago:20230921T170000
DTEND;TZID=America/Chicago:20230921T180000
DTSTAMP:20260425T074714
CREATED:20230814T132947Z
LAST-MODIFIED:20230814T132947Z
UID:10006051-1695315600-1695319200@www.springcreekoaks.org
SUMMARY:Kuehnle courts 3-4\, Orange ball class
DESCRIPTION:
URL:https://www.springcreekoaks.org/reservations/kuehnle-courts-3-4-orange-ball-class-3/2023-09-21/
LOCATION:TX
CATEGORIES:Tennis
END:VEVENT
BEGIN:VEVENT
DTSTART;TZID=America/Chicago:20230921T170000
DTEND;TZID=America/Chicago:20230921T200000
DTSTAMP:20260425T074714
CREATED:20230830T115016Z
LAST-MODIFIED:20230830T115016Z
UID:10001285-1695315600-1695326400@www.springcreekoaks.org
SUMMARY:Girls Lacrosse
DESCRIPTION:
URL:https://www.springcreekoaks.org/reservations/girls-lacrosse/2023-09-21/
LOCATION:Large Soccer Field (Bilma)\, United States
CATEGORIES:Soccer Fields
END:VEVENT
BEGIN:VEVENT
DTSTART;TZID=America/Chicago:20230921T180000
DTEND;TZID=America/Chicago:20230921T193000
DTSTAMP:20260425T074714
CREATED:20230814T133101Z
LAST-MODIFIED:20230814T133101Z
UID:10006070-1695319200-1695324600@www.springcreekoaks.org
SUMMARY:Kuehnle courts 3-4\, Yellow ball class
DESCRIPTION:
URL:https://www.springcreekoaks.org/reservations/kuehnle-courts-3-4-yellow-ball-class-4/2023-09-21/
LOCATION:TX
CATEGORIES:Tennis
END:VEVENT
BEGIN:VEVENT
DTSTART;TZID=America/Chicago:20230921T180000
DTEND;TZID=America/Chicago:20230921T200000
DTSTAMP:20260425T074714
CREATED:20230724T185620Z
LAST-MODIFIED:20231013T145755Z
UID:10003472-1695319200-1695326400@www.springcreekoaks.org
SUMMARY:Jenny Tyger (3rd graders soccer)
DESCRIPTION:
URL:https://www.springcreekoaks.org/reservations/jenny-tyger-3rd-graders-soccer/2023-09-21/
LOCATION:Small Soccer Field (CH 2)
CATEGORIES:Soccer Fields
END:VEVENT
BEGIN:VEVENT
DTSTART;TZID=America/Chicago:20230921T190000
DTEND;TZID=America/Chicago:20230921T223000
DTSTAMP:20260425T074714
CREATED:20230909T134422Z
LAST-MODIFIED:20230909T134422Z
UID:10003677-1695322800-1695335400@www.springcreekoaks.org
SUMMARY:CH 2 courts 1-6\, Men’s league C team
DESCRIPTION:
URL:https://www.springcreekoaks.org/reservations/ch-2-courts-1-6-mens-league-c-team-5/2023-09-21/
LOCATION:TX
CATEGORIES:Tennis
END:VEVENT
BEGIN:VEVENT
DTSTART;TZID=America/Chicago:20230921T193000
DTEND;TZID=America/Chicago:20230921T220000
DTSTAMP:20260425T074714
CREATED:20230911T200317Z
LAST-MODIFIED:20230911T200317Z
UID:10003638-1695324600-1695333600@www.springcreekoaks.org
SUMMARY:CH 1 courts 2-3 (Pickleball)\, Guzman
DESCRIPTION:
URL:https://www.springcreekoaks.org/reservations/ch-1-courts-2-3-pickleball-guzman/2023-09-21/
LOCATION:TX
CATEGORIES:Tennis
END:VEVENT
END:VCALENDAR