BEGIN:VCALENDAR
VERSION:2.0
PRODID:-//Spring Creek Oaks - ECPv6.15.20//NONSGML v1.0//EN
CALSCALE:GREGORIAN
METHOD:PUBLISH
X-ORIGINAL-URL:https://www.springcreekoaks.org
X-WR-CALDESC:Events for Spring Creek Oaks
REFRESH-INTERVAL;VALUE=DURATION:PT1H
X-Robots-Tag:noindex
X-PUBLISHED-TTL:PT1H
BEGIN:VTIMEZONE
TZID:America/Chicago
BEGIN:DAYLIGHT
TZOFFSETFROM:-0600
TZOFFSETTO:-0500
TZNAME:CDT
DTSTART:20210314T080000
END:DAYLIGHT
BEGIN:STANDARD
TZOFFSETFROM:-0500
TZOFFSETTO:-0600
TZNAME:CST
DTSTART:20211107T070000
END:STANDARD
BEGIN:DAYLIGHT
TZOFFSETFROM:-0600
TZOFFSETTO:-0500
TZNAME:CDT
DTSTART:20220313T080000
END:DAYLIGHT
BEGIN:STANDARD
TZOFFSETFROM:-0500
TZOFFSETTO:-0600
TZNAME:CST
DTSTART:20221106T070000
END:STANDARD
BEGIN:DAYLIGHT
TZOFFSETFROM:-0600
TZOFFSETTO:-0500
TZNAME:CDT
DTSTART:20230312T080000
END:DAYLIGHT
BEGIN:STANDARD
TZOFFSETFROM:-0500
TZOFFSETTO:-0600
TZNAME:CST
DTSTART:20231105T070000
END:STANDARD
END:VTIMEZONE
BEGIN:VEVENT
DTSTART;TZID=America/Chicago:20220325T170000
DTEND;TZID=America/Chicago:20220401T170000
DTSTAMP:20260425T140725
CREATED:20220324T212311Z
LAST-MODIFIED:20220328T190610Z
UID:10000779-1648227600-1648832400@www.springcreekoaks.org
SUMMARY:CH 1 court 1 closed due to net post repair
DESCRIPTION:
URL:https://www.springcreekoaks.org/reservations/ch-1-court-1-closed-due-to-net-post-repair/
LOCATION:TX
CATEGORIES:Tennis
END:VEVENT
BEGIN:VEVENT
DTSTART;TZID=America/Chicago:20220401T080000
DTEND;TZID=America/Chicago:20220401T093000
DTSTAMP:20260425T140725
CREATED:20220131T205022Z
LAST-MODIFIED:20220131T205022Z
UID:10004377-1648800000-1648805400@www.springcreekoaks.org
SUMMARY:CH 2 court 6\, Mason
DESCRIPTION:
URL:https://www.springcreekoaks.org/reservations/ch-2-court-6-mason-14/2022-04-01/
LOCATION:TX
CATEGORIES:Tennis
END:VEVENT
BEGIN:VEVENT
DTSTART;TZID=America/Chicago:20220401T080000
DTEND;TZID=America/Chicago:20220401T120000
DTSTAMP:20260425T140725
CREATED:20220328T190716Z
LAST-MODIFIED:20220328T191127Z
UID:10000404-1648800000-1648814400@www.springcreekoaks.org
SUMMARY:Kuehnle courts 3-4\, Tennis pro Danny
DESCRIPTION:
URL:https://www.springcreekoaks.org/reservations/kuehnle-courts-3-4-tennis-pro-danny-8/2022-04-01/
LOCATION:TX
CATEGORIES:Tennis
END:VEVENT
BEGIN:VEVENT
DTSTART;TZID=America/Chicago:20220401T083000
DTEND;TZID=America/Chicago:20220401T120000
DTSTAMP:20260425T140725
CREATED:20220124T122208Z
LAST-MODIFIED:20220124T122208Z
UID:10004204-1648801800-1648814400@www.springcreekoaks.org
SUMMARY:CH 2 courts 1-4\, JR Open 2
DESCRIPTION:
URL:https://www.springcreekoaks.org/reservations/ch-2-courts-1-4-jr-open-2-4/2022-04-01/
LOCATION:TX
CATEGORIES:Tennis
END:VEVENT
BEGIN:VEVENT
DTSTART;TZID=America/Chicago:20220401T083000
DTEND;TZID=America/Chicago:20220401T120000
DTSTAMP:20260425T140725
CREATED:20220329T174549Z
LAST-MODIFIED:20220329T174549Z
UID:10000441-1648801800-1648814400@www.springcreekoaks.org
SUMMARY:Kuehnle courts 1-2\, Lopez
DESCRIPTION:
URL:https://www.springcreekoaks.org/reservations/kuehnle-courts-1-2-lopez-4/
LOCATION:TX
CATEGORIES:Tennis
END:VEVENT
BEGIN:VEVENT
DTSTART;TZID=America/Chicago:20220401T083000
DTEND;TZID=America/Chicago:20220401T120000
DTSTAMP:20260425T140725
CREATED:20220329T174631Z
LAST-MODIFIED:20220329T221005Z
UID:10000442-1648801800-1648814400@www.springcreekoaks.org
SUMMARY:CH 2 courts 5-6\, Lopez
DESCRIPTION:
URL:https://www.springcreekoaks.org/reservations/ch-2-court-5-lopez/
LOCATION:TX
CATEGORIES:Tennis
END:VEVENT
BEGIN:VEVENT
DTSTART;TZID=America/Chicago:20220401T100000
DTEND;TZID=America/Chicago:20220401T120000
DTSTAMP:20260425T140725
CREATED:20220203T005028Z
LAST-MODIFIED:20220203T005028Z
UID:10004466-1648807200-1648814400@www.springcreekoaks.org
SUMMARY:CH 1 court 1\, Tennis pro Danny
DESCRIPTION:
URL:https://www.springcreekoaks.org/reservations/ch-1-court-1-tennis-pro-danny-6/2022-04-01/
LOCATION:TX
CATEGORIES:Tennis
END:VEVENT
BEGIN:VEVENT
DTSTART;TZID=America/Chicago:20220401T170000
DTEND;TZID=America/Chicago:20220401T190000
DTSTAMP:20260425T140725
CREATED:20220125T162843Z
LAST-MODIFIED:20220125T162843Z
UID:10004278-1648832400-1648839600@www.springcreekoaks.org
SUMMARY:14U Farm League Jaguars Practice - Field 3
DESCRIPTION:14U Farm League Jaguars Practice – Field 3
URL:https://www.springcreekoaks.org/reservations/14u-farm-league-jaguars-practice-field-3/2022-04-01/
LOCATION:TX
CATEGORIES:Baseball Fields
END:VEVENT
END:VCALENDAR