BEGIN:VCALENDAR
VERSION:2.0
PRODID:-//Spring Creek Oaks - ECPv6.15.20//NONSGML v1.0//EN
CALSCALE:GREGORIAN
METHOD:PUBLISH
X-WR-CALNAME:Spring Creek Oaks
X-ORIGINAL-URL:https://www.springcreekoaks.org
X-WR-CALDESC:Events for Spring Creek Oaks
REFRESH-INTERVAL;VALUE=DURATION:PT1H
X-Robots-Tag:noindex
X-PUBLISHED-TTL:PT1H
BEGIN:VTIMEZONE
TZID:America/Chicago
BEGIN:DAYLIGHT
TZOFFSETFROM:-0600
TZOFFSETTO:-0500
TZNAME:CDT
DTSTART:20210314T080000
END:DAYLIGHT
BEGIN:STANDARD
TZOFFSETFROM:-0500
TZOFFSETTO:-0600
TZNAME:CST
DTSTART:20211107T070000
END:STANDARD
BEGIN:DAYLIGHT
TZOFFSETFROM:-0600
TZOFFSETTO:-0500
TZNAME:CDT
DTSTART:20220313T080000
END:DAYLIGHT
BEGIN:STANDARD
TZOFFSETFROM:-0500
TZOFFSETTO:-0600
TZNAME:CST
DTSTART:20221106T070000
END:STANDARD
BEGIN:DAYLIGHT
TZOFFSETFROM:-0600
TZOFFSETTO:-0500
TZNAME:CDT
DTSTART:20230312T080000
END:DAYLIGHT
BEGIN:STANDARD
TZOFFSETFROM:-0500
TZOFFSETTO:-0600
TZNAME:CST
DTSTART:20231105T070000
END:STANDARD
END:VTIMEZONE
BEGIN:VEVENT
DTSTART;TZID=America/Chicago:20220325T170000
DTEND;TZID=America/Chicago:20220401T170000
DTSTAMP:20260425T151008
CREATED:20220324T212311Z
LAST-MODIFIED:20220328T190610Z
UID:10000779-1648227600-1648832400@www.springcreekoaks.org
SUMMARY:CH 1 court 1 closed due to net post repair
DESCRIPTION:
URL:https://www.springcreekoaks.org/reservations/ch-1-court-1-closed-due-to-net-post-repair/
LOCATION:TX
CATEGORIES:Tennis
END:VEVENT
BEGIN:VEVENT
DTSTART;TZID=America/Chicago:20220331T083000
DTEND;TZID=America/Chicago:20220331T120000
DTSTAMP:20260425T151008
CREATED:20220125T032545Z
LAST-MODIFIED:20220125T032545Z
UID:10004252-1648715400-1648728000@www.springcreekoaks.org
SUMMARY:Kuehnle courts 1-4\, NW Junek
DESCRIPTION:
URL:https://www.springcreekoaks.org/reservations/kuehnle-courts-1-4-nw-junek-2/2022-03-31/
LOCATION:TX
CATEGORIES:Tennis
END:VEVENT
BEGIN:VEVENT
DTSTART;TZID=America/Chicago:20220331T083000
DTEND;TZID=America/Chicago:20220331T120000
DTSTAMP:20260425T151008
CREATED:20220323T130834Z
LAST-MODIFIED:20220329T233549Z
UID:10000116-1648715400-1648728000@www.springcreekoaks.org
SUMMARY:CH 2 courts 1-3\, Mason rain makeup
DESCRIPTION:
URL:https://www.springcreekoaks.org/reservations/ch-1-court-1-mason-rain-makeup/
LOCATION:TX
CATEGORIES:Tennis
END:VEVENT
BEGIN:VEVENT
DTSTART;TZID=America/Chicago:20220331T090000
DTEND;TZID=America/Chicago:20220331T110000
DTSTAMP:20260425T151008
CREATED:20220328T190800Z
LAST-MODIFIED:20220328T190800Z
UID:10000451-1648717200-1648724400@www.springcreekoaks.org
SUMMARY:CH 2 courts 4-6\, Tennis pro Danny
DESCRIPTION:
URL:https://www.springcreekoaks.org/reservations/ch-2-courts-4-6-tennis-pro-danny/
LOCATION:TX
CATEGORIES:Tennis
END:VEVENT
BEGIN:VEVENT
DTSTART;TZID=America/Chicago:20220331T090000
DTEND;TZID=America/Chicago:20220331T120000
DTSTAMP:20260425T151008
CREATED:20220203T004901Z
LAST-MODIFIED:20220203T004901Z
UID:10004449-1648717200-1648728000@www.springcreekoaks.org
SUMMARY:CH 1 court 1\, Tennis pro Danny
DESCRIPTION:
URL:https://www.springcreekoaks.org/reservations/ch-1-court-1-tennis-pro-danny-5/2022-03-31/
LOCATION:TX
CATEGORIES:Tennis
END:VEVENT
BEGIN:VEVENT
DTSTART;TZID=America/Chicago:20220331T160000
DTEND;TZID=America/Chicago:20220331T170000
DTSTAMP:20260425T151008
CREATED:20220330T145258Z
LAST-MODIFIED:20220330T145258Z
UID:10004505-1648742400-1648746000@www.springcreekoaks.org
SUMMARY:Thano CH2
DESCRIPTION:
URL:https://www.springcreekoaks.org/reservations/thano-ch2/
LOCATION:Clubhouse 2\, 6002 Bur Oak Dr\, Spring\, 77379\, United States
CATEGORIES:Clubhouses
GEO:30.037539;-95.5070911
X-APPLE-STRUCTURED-LOCATION;VALUE=URI;X-ADDRESS=Clubhouse 2 6002 Bur Oak Dr Spring 77379 United States;X-APPLE-RADIUS=500;X-TITLE=6002 Bur Oak Dr:geo:-95.5070911,30.037539
END:VEVENT
END:VCALENDAR