BEGIN:VCALENDAR
VERSION:2.0
PRODID:-//Spring Creek Oaks - ECPv6.15.20//NONSGML v1.0//EN
CALSCALE:GREGORIAN
METHOD:PUBLISH
X-WR-CALNAME:Spring Creek Oaks
X-ORIGINAL-URL:https://www.springcreekoaks.org
X-WR-CALDESC:Events for Spring Creek Oaks
REFRESH-INTERVAL;VALUE=DURATION:PT1H
X-Robots-Tag:noindex
X-PUBLISHED-TTL:PT1H
BEGIN:VTIMEZONE
TZID:America/Chicago
BEGIN:DAYLIGHT
TZOFFSETFROM:-0600
TZOFFSETTO:-0500
TZNAME:CDT
DTSTART:20210314T080000
END:DAYLIGHT
BEGIN:STANDARD
TZOFFSETFROM:-0500
TZOFFSETTO:-0600
TZNAME:CST
DTSTART:20211107T070000
END:STANDARD
BEGIN:DAYLIGHT
TZOFFSETFROM:-0600
TZOFFSETTO:-0500
TZNAME:CDT
DTSTART:20220313T080000
END:DAYLIGHT
BEGIN:STANDARD
TZOFFSETFROM:-0500
TZOFFSETTO:-0600
TZNAME:CST
DTSTART:20221106T070000
END:STANDARD
BEGIN:DAYLIGHT
TZOFFSETFROM:-0600
TZOFFSETTO:-0500
TZNAME:CDT
DTSTART:20230312T080000
END:DAYLIGHT
BEGIN:STANDARD
TZOFFSETFROM:-0500
TZOFFSETTO:-0600
TZNAME:CST
DTSTART:20231105T070000
END:STANDARD
END:VTIMEZONE
BEGIN:VEVENT
DTSTART;TZID=America/Chicago:20220304T080000
DTEND;TZID=America/Chicago:20220304T093000
DTSTAMP:20260423T041303
CREATED:20220131T205022Z
LAST-MODIFIED:20220131T205022Z
UID:10004373-1646380800-1646386200@www.springcreekoaks.org
SUMMARY:CH 2 court 6\, Mason
DESCRIPTION:
URL:https://www.springcreekoaks.org/reservations/ch-2-court-6-mason-14/2022-03-04/
CATEGORIES:Tennis
END:VEVENT
BEGIN:VEVENT
DTSTART;TZID=America/Chicago:20220304T083000
DTEND;TZID=America/Chicago:20220304T120000
DTSTAMP:20260423T041303
CREATED:20220124T122008Z
LAST-MODIFIED:20220124T122008Z
UID:10004200-1646382600-1646395200@www.springcreekoaks.org
SUMMARY:Kuehnle courts 1-4\, JR B-3
DESCRIPTION:
URL:https://www.springcreekoaks.org/reservations/kuehnle-courts-1-4-jr-b-3-2/
CATEGORIES:Tennis
END:VEVENT
BEGIN:VEVENT
DTSTART;TZID=America/Chicago:20220304T083000
DTEND;TZID=America/Chicago:20220304T120000
DTSTAMP:20260423T041303
CREATED:20220124T122208Z
LAST-MODIFIED:20220124T122208Z
UID:10004203-1646382600-1646395200@www.springcreekoaks.org
SUMMARY:CH 2 courts 1-4\, JR Open 2
DESCRIPTION:
URL:https://www.springcreekoaks.org/reservations/ch-2-courts-1-4-jr-open-2-4/2022-03-04/
CATEGORIES:Tennis
END:VEVENT
BEGIN:VEVENT
DTSTART;TZID=America/Chicago:20220304T100000
DTEND;TZID=America/Chicago:20220304T120000
DTSTAMP:20260423T041303
CREATED:20220203T005028Z
LAST-MODIFIED:20220203T005028Z
UID:10004462-1646388000-1646395200@www.springcreekoaks.org
SUMMARY:CH 1 court 1\, Tennis pro Danny
DESCRIPTION:
URL:https://www.springcreekoaks.org/reservations/ch-1-court-1-tennis-pro-danny-6/2022-03-04/
CATEGORIES:Tennis
END:VEVENT
BEGIN:VEVENT
DTSTART;TZID=America/Chicago:20220304T170000
DTEND;TZID=America/Chicago:20220304T190000
DTSTAMP:20260423T041303
CREATED:20220125T162843Z
LAST-MODIFIED:20220125T162843Z
UID:10004270-1646413200-1646420400@www.springcreekoaks.org
SUMMARY:14U Farm League Jaguars Practice - Field 3
DESCRIPTION:14U Farm League Jaguars Practice – Field 3
URL:https://www.springcreekoaks.org/reservations/14u-farm-league-jaguars-practice-field-3/2022-03-04/
CATEGORIES:Baseball Fields
END:VEVENT
END:VCALENDAR