BEGIN:VCALENDAR
VERSION:2.0
PRODID:-//Spring Creek Oaks - ECPv6.15.20//NONSGML v1.0//EN
CALSCALE:GREGORIAN
METHOD:PUBLISH
X-WR-CALNAME:Spring Creek Oaks
X-ORIGINAL-URL:https://www.springcreekoaks.org
X-WR-CALDESC:Events for Spring Creek Oaks
REFRESH-INTERVAL;VALUE=DURATION:PT1H
X-Robots-Tag:noindex
X-PUBLISHED-TTL:PT1H
BEGIN:VTIMEZONE
TZID:America/Chicago
BEGIN:DAYLIGHT
TZOFFSETFROM:-0600
TZOFFSETTO:-0500
TZNAME:CDT
DTSTART:20210314T080000
END:DAYLIGHT
BEGIN:STANDARD
TZOFFSETFROM:-0500
TZOFFSETTO:-0600
TZNAME:CST
DTSTART:20211107T070000
END:STANDARD
BEGIN:DAYLIGHT
TZOFFSETFROM:-0600
TZOFFSETTO:-0500
TZNAME:CDT
DTSTART:20220313T080000
END:DAYLIGHT
BEGIN:STANDARD
TZOFFSETFROM:-0500
TZOFFSETTO:-0600
TZNAME:CST
DTSTART:20221106T070000
END:STANDARD
BEGIN:DAYLIGHT
TZOFFSETFROM:-0600
TZOFFSETTO:-0500
TZNAME:CDT
DTSTART:20230312T080000
END:DAYLIGHT
BEGIN:STANDARD
TZOFFSETFROM:-0500
TZOFFSETTO:-0600
TZNAME:CST
DTSTART:20231105T070000
END:STANDARD
END:VTIMEZONE
BEGIN:VEVENT
DTSTART;TZID=America/Chicago:20220302T080000
DTEND;TZID=America/Chicago:20220302T100000
DTSTAMP:20260423T041405
CREATED:20220203T004757Z
LAST-MODIFIED:20220203T004757Z
UID:10004428-1646208000-1646215200@www.springcreekoaks.org
SUMMARY:Kuehnle courts 3-4\, Tennis pro Danny
DESCRIPTION:
URL:https://www.springcreekoaks.org/reservations/kuehnle-courts-3-4-tennis-pro-danny-7/2022-03-02/
CATEGORIES:Tennis
END:VEVENT
BEGIN:VEVENT
DTSTART;TZID=America/Chicago:20220302T083000
DTEND;TZID=America/Chicago:20220302T120000
DTSTAMP:20260423T041405
CREATED:20220125T182125Z
LAST-MODIFIED:20220125T182125Z
UID:10000111-1646209800-1646222400@www.springcreekoaks.org
SUMMARY:CH 2 courts 1-4\, NWTL A-2
DESCRIPTION:
URL:https://www.springcreekoaks.org/reservations/ch-2-courts-1-4-nwtl-a-2-2/2022-03-02/
CATEGORIES:Tennis
END:VEVENT
BEGIN:VEVENT
DTSTART;TZID=America/Chicago:20220302T083000
DTEND;TZID=America/Chicago:20220302T120000
DTSTAMP:20260423T041405
CREATED:20220228T143757Z
LAST-MODIFIED:20220228T143757Z
UID:10000127-1646209800-1646222400@www.springcreekoaks.org
SUMMARY:Kuehnle court 1\, JR Open 2 rain makeup
DESCRIPTION:
URL:https://www.springcreekoaks.org/reservations/kuehnle-court-1-jr-open-2-rain-makeup/
CATEGORIES:Tennis
END:VEVENT
BEGIN:VEVENT
DTSTART;TZID=America/Chicago:20220302T090000
DTEND;TZID=America/Chicago:20220302T120000
DTSTAMP:20260423T041405
CREATED:20220131T210803Z
LAST-MODIFIED:20220131T210803Z
UID:10004395-1646211600-1646222400@www.springcreekoaks.org
SUMMARY:CH 1 courts 2-3 (pickleball)\, Hudson
DESCRIPTION:
URL:https://www.springcreekoaks.org/reservations/ch-1-courts-2-3-pickleball-hudson-2/2022-03-02/
CATEGORIES:Tennis
END:VEVENT
BEGIN:VEVENT
DTSTART;TZID=America/Chicago:20220302T170000
DTEND;TZID=America/Chicago:20220302T190000
DTSTAMP:20260423T041405
CREATED:20220124T162052Z
LAST-MODIFIED:20220221T184741Z
UID:10004207-1646240400-1646247600@www.springcreekoaks.org
SUMMARY:10U Tigers Baseball Practice - Field 1
DESCRIPTION:10U Baseball Practice – Field 1 \nChad Haynie
URL:https://www.springcreekoaks.org/reservations/10u-baseball-practice-chad-haynie/2022-03-02/
CATEGORIES:Baseball Fields
END:VEVENT
BEGIN:VEVENT
DTSTART;TZID=America/Chicago:20220302T170000
DTEND;TZID=America/Chicago:20220302T190000
DTSTAMP:20260423T041405
CREATED:20220216T191511Z
LAST-MODIFIED:20220216T191511Z
UID:10004478-1646240400-1646247600@www.springcreekoaks.org
SUMMARY:6U Ponies Softball Practice - Field 4
DESCRIPTION:Field 4 \nReservation Contact: Abigail Crisman
URL:https://www.springcreekoaks.org/reservations/6u-ponies-softball-practice-field-4/2022-03-02/
CATEGORIES:Baseball Fields
END:VEVENT
BEGIN:VEVENT
DTSTART;TZID=America/Chicago:20220302T180000
DTEND;TZID=America/Chicago:20220302T200000
DTSTAMP:20260423T041405
CREATED:20200805T160749Z
LAST-MODIFIED:20200805T161100Z
UID:10001372-1646244000-1646251200@www.springcreekoaks.org
SUMMARY:CIFUENTES (Big Soccer Field)
DESCRIPTION:
URL:https://www.springcreekoaks.org/reservations/cifuentes-open-play-big-soccer-field/2022-03-02/
CATEGORIES:Soccer Fields
END:VEVENT
END:VCALENDAR