BEGIN:VCALENDAR
VERSION:2.0
PRODID:-//Spring Creek Oaks - ECPv6.15.20//NONSGML v1.0//EN
CALSCALE:GREGORIAN
METHOD:PUBLISH
X-ORIGINAL-URL:https://www.springcreekoaks.org
X-WR-CALDESC:Events for Spring Creek Oaks
REFRESH-INTERVAL;VALUE=DURATION:PT1H
X-Robots-Tag:noindex
X-PUBLISHED-TTL:PT1H
BEGIN:VTIMEZONE
TZID:America/Chicago
BEGIN:DAYLIGHT
TZOFFSETFROM:-0600
TZOFFSETTO:-0500
TZNAME:CDT
DTSTART:20210314T080000
END:DAYLIGHT
BEGIN:STANDARD
TZOFFSETFROM:-0500
TZOFFSETTO:-0600
TZNAME:CST
DTSTART:20211107T070000
END:STANDARD
BEGIN:DAYLIGHT
TZOFFSETFROM:-0600
TZOFFSETTO:-0500
TZNAME:CDT
DTSTART:20220313T080000
END:DAYLIGHT
BEGIN:STANDARD
TZOFFSETFROM:-0500
TZOFFSETTO:-0600
TZNAME:CST
DTSTART:20221106T070000
END:STANDARD
BEGIN:DAYLIGHT
TZOFFSETFROM:-0600
TZOFFSETTO:-0500
TZNAME:CDT
DTSTART:20230312T080000
END:DAYLIGHT
BEGIN:STANDARD
TZOFFSETFROM:-0500
TZOFFSETTO:-0600
TZNAME:CST
DTSTART:20231105T070000
END:STANDARD
END:VTIMEZONE
BEGIN:VEVENT
DTSTART;TZID=America/Chicago:20220223T080000
DTEND;TZID=America/Chicago:20220223T100000
DTSTAMP:20260424T022419
CREATED:20220203T004757Z
LAST-MODIFIED:20220203T004757Z
UID:10004427-1645603200-1645610400@www.springcreekoaks.org
SUMMARY:Kuehnle courts 3-4\, Tennis pro Danny
DESCRIPTION:
URL:https://www.springcreekoaks.org/reservations/kuehnle-courts-3-4-tennis-pro-danny-7/2022-02-23/
CATEGORIES:Tennis
END:VEVENT
BEGIN:VEVENT
DTSTART;TZID=America/Chicago:20220223T090000
DTEND;TZID=America/Chicago:20220223T120000
DTSTAMP:20260424T022419
CREATED:20220131T210803Z
LAST-MODIFIED:20220131T210803Z
UID:10004394-1645606800-1645617600@www.springcreekoaks.org
SUMMARY:CH 1 courts 2-3 (pickleball)\, Hudson
DESCRIPTION:
URL:https://www.springcreekoaks.org/reservations/ch-1-courts-2-3-pickleball-hudson-2/2022-02-23/
CATEGORIES:Tennis
END:VEVENT
BEGIN:VEVENT
DTSTART;TZID=America/Chicago:20220223T170000
DTEND;TZID=America/Chicago:20220223T190000
DTSTAMP:20260424T022419
CREATED:20220124T162052Z
LAST-MODIFIED:20220221T184741Z
UID:10004206-1645635600-1645642800@www.springcreekoaks.org
SUMMARY:10U Tigers Baseball Practice - Field 1
DESCRIPTION:10U Baseball Practice – Field 1 \nChad Haynie
URL:https://www.springcreekoaks.org/reservations/10u-baseball-practice-chad-haynie/2022-02-23/
CATEGORIES:Baseball Fields
END:VEVENT
BEGIN:VEVENT
DTSTART;TZID=America/Chicago:20220223T170000
DTEND;TZID=America/Chicago:20220223T190000
DTSTAMP:20260424T022419
CREATED:20220216T191511Z
LAST-MODIFIED:20220216T191511Z
UID:10004477-1645635600-1645642800@www.springcreekoaks.org
SUMMARY:6U Ponies Softball Practice - Field 4
DESCRIPTION:Field 4 \nReservation Contact: Abigail Crisman
URL:https://www.springcreekoaks.org/reservations/6u-ponies-softball-practice-field-4/2022-02-23/
CATEGORIES:Baseball Fields
END:VEVENT
BEGIN:VEVENT
DTSTART;TZID=America/Chicago:20220223T180000
DTEND;TZID=America/Chicago:20220223T200000
DTSTAMP:20260424T022419
CREATED:20200805T160749Z
LAST-MODIFIED:20200805T161100Z
UID:10001371-1645639200-1645646400@www.springcreekoaks.org
SUMMARY:CIFUENTES (Big Soccer Field)
DESCRIPTION:
URL:https://www.springcreekoaks.org/reservations/cifuentes-open-play-big-soccer-field/2022-02-23/
CATEGORIES:Soccer Fields
END:VEVENT
END:VCALENDAR