BEGIN:VCALENDAR
VERSION:2.0
PRODID:-//Spring Creek Oaks - ECPv6.15.20//NONSGML v1.0//EN
CALSCALE:GREGORIAN
METHOD:PUBLISH
X-ORIGINAL-URL:https://www.springcreekoaks.org
X-WR-CALDESC:Events for Spring Creek Oaks
REFRESH-INTERVAL;VALUE=DURATION:PT1H
X-Robots-Tag:noindex
X-PUBLISHED-TTL:PT1H
BEGIN:VTIMEZONE
TZID:America/Chicago
BEGIN:DAYLIGHT
TZOFFSETFROM:-0600
TZOFFSETTO:-0500
TZNAME:CDT
DTSTART:20210314T080000
END:DAYLIGHT
BEGIN:STANDARD
TZOFFSETFROM:-0500
TZOFFSETTO:-0600
TZNAME:CST
DTSTART:20211107T070000
END:STANDARD
BEGIN:DAYLIGHT
TZOFFSETFROM:-0600
TZOFFSETTO:-0500
TZNAME:CDT
DTSTART:20220313T080000
END:DAYLIGHT
BEGIN:STANDARD
TZOFFSETFROM:-0500
TZOFFSETTO:-0600
TZNAME:CST
DTSTART:20221106T070000
END:STANDARD
BEGIN:DAYLIGHT
TZOFFSETFROM:-0600
TZOFFSETTO:-0500
TZNAME:CDT
DTSTART:20230312T080000
END:DAYLIGHT
BEGIN:STANDARD
TZOFFSETFROM:-0500
TZOFFSETTO:-0600
TZNAME:CST
DTSTART:20231105T070000
END:STANDARD
END:VTIMEZONE
BEGIN:VEVENT
DTSTART;TZID=America/Chicago:20220209T080000
DTEND;TZID=America/Chicago:20220213T170000
DTSTAMP:20260422T190010
CREATED:20211004T154212Z
LAST-MODIFIED:20211004T154212Z
UID:10003993-1644393600-1644771600@www.springcreekoaks.org
SUMMARY:Harr CH2
DESCRIPTION:
URL:https://www.springcreekoaks.org/reservations/harr-ch2-3/2022-02-09/
LOCATION:Clubhouse 2\, 6002 Bur Oak Dr\, Spring\, 77379\, United States
CATEGORIES:Clubhouses
GEO:30.037539;-95.5070911
X-APPLE-STRUCTURED-LOCATION;VALUE=URI;X-ADDRESS=Clubhouse 2 6002 Bur Oak Dr Spring 77379 United States;X-APPLE-RADIUS=500;X-TITLE=6002 Bur Oak Dr:geo:-95.5070911,30.037539
END:VEVENT
BEGIN:VEVENT
DTSTART;TZID=America/Chicago:20220210T080000
DTEND;TZID=America/Chicago:20220214T170000
DTSTAMP:20260422T190010
CREATED:20211004T154212Z
LAST-MODIFIED:20211004T154212Z
UID:10003994-1644480000-1644858000@www.springcreekoaks.org
SUMMARY:Harr CH2
DESCRIPTION:
URL:https://www.springcreekoaks.org/reservations/harr-ch2-3/2022-02-10/
LOCATION:Clubhouse 2\, 6002 Bur Oak Dr\, Spring\, 77379\, United States
CATEGORIES:Clubhouses
GEO:30.037539;-95.5070911
X-APPLE-STRUCTURED-LOCATION;VALUE=URI;X-ADDRESS=Clubhouse 2 6002 Bur Oak Dr Spring 77379 United States;X-APPLE-RADIUS=500;X-TITLE=6002 Bur Oak Dr:geo:-95.5070911,30.037539
END:VEVENT
BEGIN:VEVENT
DTSTART;TZID=America/Chicago:20220211T080000
DTEND;TZID=America/Chicago:20220215T170000
DTSTAMP:20260422T190010
CREATED:20211004T154212Z
LAST-MODIFIED:20211004T154212Z
UID:10003995-1644566400-1644944400@www.springcreekoaks.org
SUMMARY:Harr CH2
DESCRIPTION:
URL:https://www.springcreekoaks.org/reservations/harr-ch2-3/2022-02-11/
LOCATION:Clubhouse 2\, 6002 Bur Oak Dr\, Spring\, 77379\, United States
CATEGORIES:Clubhouses
GEO:30.037539;-95.5070911
X-APPLE-STRUCTURED-LOCATION;VALUE=URI;X-ADDRESS=Clubhouse 2 6002 Bur Oak Dr Spring 77379 United States;X-APPLE-RADIUS=500;X-TITLE=6002 Bur Oak Dr:geo:-95.5070911,30.037539
END:VEVENT
BEGIN:VEVENT
DTSTART;TZID=America/Chicago:20220212T080000
DTEND;TZID=America/Chicago:20220216T170000
DTSTAMP:20260422T190010
CREATED:20211004T154212Z
LAST-MODIFIED:20211004T154212Z
UID:10003996-1644652800-1645030800@www.springcreekoaks.org
SUMMARY:Harr CH2
DESCRIPTION:
URL:https://www.springcreekoaks.org/reservations/harr-ch2-3/2022-02-12/
LOCATION:Clubhouse 2\, 6002 Bur Oak Dr\, Spring\, 77379\, United States
CATEGORIES:Clubhouses
GEO:30.037539;-95.5070911
X-APPLE-STRUCTURED-LOCATION;VALUE=URI;X-ADDRESS=Clubhouse 2 6002 Bur Oak Dr Spring 77379 United States;X-APPLE-RADIUS=500;X-TITLE=6002 Bur Oak Dr:geo:-95.5070911,30.037539
END:VEVENT
BEGIN:VEVENT
DTSTART;TZID=America/Chicago:20220213T080000
DTEND;TZID=America/Chicago:20220217T170000
DTSTAMP:20260422T190010
CREATED:20211004T154212Z
LAST-MODIFIED:20211004T154212Z
UID:10003997-1644739200-1645117200@www.springcreekoaks.org
SUMMARY:Harr CH2
DESCRIPTION:
URL:https://www.springcreekoaks.org/reservations/harr-ch2-3/2022-02-13/
LOCATION:Clubhouse 2\, 6002 Bur Oak Dr\, Spring\, 77379\, United States
CATEGORIES:Clubhouses
GEO:30.037539;-95.5070911
X-APPLE-STRUCTURED-LOCATION;VALUE=URI;X-ADDRESS=Clubhouse 2 6002 Bur Oak Dr Spring 77379 United States;X-APPLE-RADIUS=500;X-TITLE=6002 Bur Oak Dr:geo:-95.5070911,30.037539
END:VEVENT
END:VCALENDAR