BEGIN:VCALENDAR
VERSION:2.0
PRODID:-//Spring Creek Oaks - ECPv6.15.20//NONSGML v1.0//EN
CALSCALE:GREGORIAN
METHOD:PUBLISH
X-ORIGINAL-URL:https://www.springcreekoaks.org
X-WR-CALDESC:Events for Spring Creek Oaks
REFRESH-INTERVAL;VALUE=DURATION:PT1H
X-Robots-Tag:noindex
X-PUBLISHED-TTL:PT1H
BEGIN:VTIMEZONE
TZID:America/Chicago
BEGIN:DAYLIGHT
TZOFFSETFROM:-0600
TZOFFSETTO:-0500
TZNAME:CDT
DTSTART:20210314T080000
END:DAYLIGHT
BEGIN:STANDARD
TZOFFSETFROM:-0500
TZOFFSETTO:-0600
TZNAME:CST
DTSTART:20211107T070000
END:STANDARD
BEGIN:DAYLIGHT
TZOFFSETFROM:-0600
TZOFFSETTO:-0500
TZNAME:CDT
DTSTART:20220313T080000
END:DAYLIGHT
BEGIN:STANDARD
TZOFFSETFROM:-0500
TZOFFSETTO:-0600
TZNAME:CST
DTSTART:20221106T070000
END:STANDARD
BEGIN:DAYLIGHT
TZOFFSETFROM:-0600
TZOFFSETTO:-0500
TZNAME:CDT
DTSTART:20230312T080000
END:DAYLIGHT
BEGIN:STANDARD
TZOFFSETFROM:-0500
TZOFFSETTO:-0600
TZNAME:CST
DTSTART:20231105T070000
END:STANDARD
END:VTIMEZONE
BEGIN:VEVENT
DTSTART;TZID=America/Chicago:20220209T080000
DTEND;TZID=America/Chicago:20220209T100000
DTSTAMP:20260425T155450
CREATED:20220203T004757Z
LAST-MODIFIED:20220203T004757Z
UID:10004425-1644393600-1644400800@www.springcreekoaks.org
SUMMARY:Kuehnle courts 3-4\, Tennis pro Danny
DESCRIPTION:
URL:https://www.springcreekoaks.org/reservations/kuehnle-courts-3-4-tennis-pro-danny-7/2022-02-09/
LOCATION:TX
CATEGORIES:Tennis
END:VEVENT
BEGIN:VEVENT
DTSTART;TZID=America/Chicago:20220209T080000
DTEND;TZID=America/Chicago:20220213T170000
DTSTAMP:20260425T155450
CREATED:20211004T154212Z
LAST-MODIFIED:20211004T154212Z
UID:10003993-1644393600-1644771600@www.springcreekoaks.org
SUMMARY:Harr CH2
DESCRIPTION:
URL:https://www.springcreekoaks.org/reservations/harr-ch2-3/2022-02-09/
LOCATION:Clubhouse 2\, 6002 Bur Oak Dr\, Spring\, 77379\, United States
CATEGORIES:Clubhouses
GEO:30.037539;-95.5070911
X-APPLE-STRUCTURED-LOCATION;VALUE=URI;X-ADDRESS=Clubhouse 2 6002 Bur Oak Dr Spring 77379 United States;X-APPLE-RADIUS=500;X-TITLE=6002 Bur Oak Dr:geo:-95.5070911,30.037539
END:VEVENT
BEGIN:VEVENT
DTSTART;TZID=America/Chicago:20220209T083000
DTEND;TZID=America/Chicago:20220209T120000
DTSTAMP:20260425T155450
CREATED:20220125T182125Z
LAST-MODIFIED:20220125T182125Z
UID:10000109-1644395400-1644408000@www.springcreekoaks.org
SUMMARY:CH 2 courts 1-4\, NWTL A-2
DESCRIPTION:
URL:https://www.springcreekoaks.org/reservations/ch-2-courts-1-4-nwtl-a-2-2/2022-02-09/
LOCATION:TX
CATEGORIES:Tennis
END:VEVENT
BEGIN:VEVENT
DTSTART;TZID=America/Chicago:20220209T083000
DTEND;TZID=America/Chicago:20220209T120000
DTSTAMP:20260425T155450
CREATED:20220205T225801Z
LAST-MODIFIED:20220205T225801Z
UID:10000731-1644395400-1644408000@www.springcreekoaks.org
SUMMARY:Kuehnle courts 1-2\, Levin
DESCRIPTION:
URL:https://www.springcreekoaks.org/reservations/kuehnle-courts-1-2-levin-2/
LOCATION:TX
CATEGORIES:Tennis
END:VEVENT
BEGIN:VEVENT
DTSTART;TZID=America/Chicago:20220209T090000
DTEND;TZID=America/Chicago:20220209T120000
DTSTAMP:20260425T155450
CREATED:20220131T210803Z
LAST-MODIFIED:20220131T210803Z
UID:10004392-1644397200-1644408000@www.springcreekoaks.org
SUMMARY:CH 1 courts 2-3 (pickleball)\, Hudson
DESCRIPTION:
URL:https://www.springcreekoaks.org/reservations/ch-1-courts-2-3-pickleball-hudson-2/2022-02-09/
LOCATION:TX
CATEGORIES:Tennis
END:VEVENT
BEGIN:VEVENT
DTSTART;TZID=America/Chicago:20220209T180000
DTEND;TZID=America/Chicago:20220209T200000
DTSTAMP:20260425T155450
CREATED:20200805T160749Z
LAST-MODIFIED:20200805T161100Z
UID:10001369-1644429600-1644436800@www.springcreekoaks.org
SUMMARY:CIFUENTES (Big Soccer Field)
DESCRIPTION:
URL:https://www.springcreekoaks.org/reservations/cifuentes-open-play-big-soccer-field/2022-02-09/
LOCATION:TX
CATEGORIES:Soccer Fields
END:VEVENT
END:VCALENDAR