BEGIN:VCALENDAR
VERSION:2.0
PRODID:-//Spring Creek Oaks - ECPv6.15.20//NONSGML v1.0//EN
CALSCALE:GREGORIAN
METHOD:PUBLISH
X-ORIGINAL-URL:https://www.springcreekoaks.org
X-WR-CALDESC:Events for Spring Creek Oaks
REFRESH-INTERVAL;VALUE=DURATION:PT1H
X-Robots-Tag:noindex
X-PUBLISHED-TTL:PT1H
BEGIN:VTIMEZONE
TZID:America/Chicago
BEGIN:DAYLIGHT
TZOFFSETFROM:-0600
TZOFFSETTO:-0500
TZNAME:CDT
DTSTART:20200308T080000
END:DAYLIGHT
BEGIN:STANDARD
TZOFFSETFROM:-0500
TZOFFSETTO:-0600
TZNAME:CST
DTSTART:20201101T070000
END:STANDARD
BEGIN:DAYLIGHT
TZOFFSETFROM:-0600
TZOFFSETTO:-0500
TZNAME:CDT
DTSTART:20210314T080000
END:DAYLIGHT
BEGIN:STANDARD
TZOFFSETFROM:-0500
TZOFFSETTO:-0600
TZNAME:CST
DTSTART:20211107T070000
END:STANDARD
BEGIN:DAYLIGHT
TZOFFSETFROM:-0600
TZOFFSETTO:-0500
TZNAME:CDT
DTSTART:20220313T080000
END:DAYLIGHT
BEGIN:STANDARD
TZOFFSETFROM:-0500
TZOFFSETTO:-0600
TZNAME:CST
DTSTART:20221106T070000
END:STANDARD
END:VTIMEZONE
BEGIN:VEVENT
DTSTART;TZID=America/Chicago:20211229T080000
DTEND;TZID=America/Chicago:20211229T120000
DTSTAMP:20260423T190445
CREATED:20210512T162316Z
LAST-MODIFIED:20210512T162316Z
UID:10003277-1640764800-1640779200@www.springcreekoaks.org
SUMMARY:CH 1 courts 2-3 (pickleball)\, Hudson
DESCRIPTION:
URL:https://www.springcreekoaks.org/reservations/ch-1-courts-2-3-pickleball-hudson/2021-12-29/
CATEGORIES:Tennis
END:VEVENT
BEGIN:VEVENT
DTSTART;TZID=America/Chicago:20211229T080000
DTEND;TZID=America/Chicago:20211229T120000
DTSTAMP:20260423T190445
CREATED:20210914T223912Z
LAST-MODIFIED:20210914T223912Z
UID:10003849-1640764800-1640779200@www.springcreekoaks.org
SUMMARY:CH 1 court 1\, Tennis Pro Danny
DESCRIPTION:
URL:https://www.springcreekoaks.org/reservations/ch-1-court-1-tennis-pro-danny-3/2021-12-29/
CATEGORIES:Tennis
END:VEVENT
BEGIN:VEVENT
DTSTART;TZID=America/Chicago:20211229T080000
DTEND;TZID=America/Chicago:20211229T140000
DTSTAMP:20260423T190445
CREATED:20211201T230403Z
LAST-MODIFIED:20211201T230403Z
UID:10004150-1640764800-1640786400@www.springcreekoaks.org
SUMMARY:CH 2 courts 1-3\, Winter camp
DESCRIPTION:
URL:https://www.springcreekoaks.org/reservations/ch-2-courts-1-3-winter-camp-2/2021-12-29/
CATEGORIES:Tennis
END:VEVENT
BEGIN:VEVENT
DTSTART;TZID=America/Chicago:20211229T090000
DTEND;TZID=America/Chicago:20211229T120000
DTSTAMP:20260423T190445
CREATED:20211120T135534Z
LAST-MODIFIED:20211201T230515Z
UID:10004045-1640768400-1640779200@www.springcreekoaks.org
SUMMARY:Ch 2 courts 4-5\, Camp
DESCRIPTION:
URL:https://www.springcreekoaks.org/reservations/ch-2-courts-1-2-camp-2-2021-12-29/
CATEGORIES:Tennis
END:VEVENT
BEGIN:VEVENT
DTSTART;TZID=America/Chicago:20211229T090000
DTEND;TZID=America/Chicago:20211229T130000
DTSTAMP:20260423T190445
CREATED:20211204T000959Z
LAST-MODIFIED:20211204T000959Z
UID:10004162-1640768400-1640782800@www.springcreekoaks.org
SUMMARY:Tennis Camp CH2
DESCRIPTION:
URL:https://www.springcreekoaks.org/reservations/tennis-camp-ch2-4/2021-12-29/
CATEGORIES:Clubhouses
END:VEVENT
BEGIN:VEVENT
DTSTART;TZID=America/Chicago:20211229T160000
DTEND;TZID=America/Chicago:20211229T190000
DTSTAMP:20260423T190445
CREATED:20240109T180921Z
LAST-MODIFIED:20240109T180921Z
UID:10003929-1640793600-1640804400@www.springcreekoaks.org
SUMMARY:CH 2 courts 1-3\, Tennis Pro Danny
DESCRIPTION:
URL:https://www.springcreekoaks.org/reservations/ch-2-courts-1-3-tennis-pro-danny/2021-12-29/
CATEGORIES:Tennis
END:VEVENT
BEGIN:VEVENT
DTSTART;TZID=America/Chicago:20211229T180000
DTEND;TZID=America/Chicago:20211229T200000
DTSTAMP:20260423T190445
CREATED:20200805T160749Z
LAST-MODIFIED:20200805T161100Z
UID:10001363-1640800800-1640808000@www.springcreekoaks.org
SUMMARY:CIFUENTES (Big Soccer Field)
DESCRIPTION:
URL:https://www.springcreekoaks.org/reservations/cifuentes-open-play-big-soccer-field/2021-12-29/
CATEGORIES:Soccer Fields
END:VEVENT
BEGIN:VEVENT
DTSTART;TZID=America/Chicago:20211229T180000
DTEND;TZID=America/Chicago:20211229T200000
DTSTAMP:20260423T190445
CREATED:20210824T133805Z
LAST-MODIFIED:20210824T133806Z
UID:10003783-1640800800-1640808000@www.springcreekoaks.org
SUMMARY:10U LIONS (Flag Football) Coach Stansifer
DESCRIPTION:
URL:https://www.springcreekoaks.org/reservations/10u-lions-flag-football-coach-stansifer-2/2021-12-29/
LOCATION:Small Soccer Field (CH 2)
CATEGORIES:Soccer Fields
END:VEVENT
END:VCALENDAR