BEGIN:VCALENDAR
VERSION:2.0
PRODID:-//Spring Creek Oaks - ECPv6.15.20//NONSGML v1.0//EN
CALSCALE:GREGORIAN
METHOD:PUBLISH
X-ORIGINAL-URL:https://www.springcreekoaks.org
X-WR-CALDESC:Events for Spring Creek Oaks
REFRESH-INTERVAL;VALUE=DURATION:PT1H
X-Robots-Tag:noindex
X-PUBLISHED-TTL:PT1H
BEGIN:VTIMEZONE
TZID:America/Chicago
BEGIN:DAYLIGHT
TZOFFSETFROM:-0600
TZOFFSETTO:-0500
TZNAME:CDT
DTSTART:20200308T080000
END:DAYLIGHT
BEGIN:STANDARD
TZOFFSETFROM:-0500
TZOFFSETTO:-0600
TZNAME:CST
DTSTART:20201101T070000
END:STANDARD
BEGIN:DAYLIGHT
TZOFFSETFROM:-0600
TZOFFSETTO:-0500
TZNAME:CDT
DTSTART:20210314T080000
END:DAYLIGHT
BEGIN:STANDARD
TZOFFSETFROM:-0500
TZOFFSETTO:-0600
TZNAME:CST
DTSTART:20211107T070000
END:STANDARD
BEGIN:DAYLIGHT
TZOFFSETFROM:-0600
TZOFFSETTO:-0500
TZNAME:CDT
DTSTART:20220313T080000
END:DAYLIGHT
BEGIN:STANDARD
TZOFFSETFROM:-0500
TZOFFSETTO:-0600
TZNAME:CST
DTSTART:20221106T070000
END:STANDARD
END:VTIMEZONE
BEGIN:VEVENT
DTSTART;VALUE=DATE:20211227
DTEND;VALUE=DATE:20211228
DTSTAMP:20260423T174656
CREATED:20211211T011036Z
LAST-MODIFIED:20211211T011036Z
UID:10004153-1640563200-1640649599@www.springcreekoaks.org
SUMMARY:Harr CH1
DESCRIPTION:
URL:https://www.springcreekoaks.org/reservations/harr-ch1/
LOCATION:Clubhouse 1\, 17111 Misty Creek\, Spring\, TX\, 77379\, United States
CATEGORIES:Clubhouses
GEO:30.0346602;-95.5117522
X-APPLE-STRUCTURED-LOCATION;VALUE=URI;X-ADDRESS=Clubhouse 1 17111 Misty Creek Spring TX 77379 United States;X-APPLE-RADIUS=500;X-TITLE=17111 Misty Creek:geo:-95.5117522,30.0346602
END:VEVENT
BEGIN:VEVENT
DTSTART;TZID=America/Chicago:20211227T080000
DTEND;TZID=America/Chicago:20211227T140000
DTSTAMP:20260423T174656
CREATED:20211201T230403Z
LAST-MODIFIED:20211201T230403Z
UID:10004148-1640592000-1640613600@www.springcreekoaks.org
SUMMARY:CH 2 courts 1-3\, Winter camp
DESCRIPTION:
URL:https://www.springcreekoaks.org/reservations/ch-2-courts-1-3-winter-camp-2/2021-12-27/
CATEGORIES:Tennis
END:VEVENT
BEGIN:VEVENT
DTSTART;TZID=America/Chicago:20211227T090000
DTEND;TZID=America/Chicago:20211227T130000
DTSTAMP:20260423T174656
CREATED:20211204T000959Z
LAST-MODIFIED:20211204T000959Z
UID:10004160-1640595600-1640610000@www.springcreekoaks.org
SUMMARY:Tennis Camp CH2
DESCRIPTION:
URL:https://www.springcreekoaks.org/reservations/tennis-camp-ch2-4/2021-12-27/
CATEGORIES:Clubhouses
END:VEVENT
BEGIN:VEVENT
DTSTART;TZID=America/Chicago:20211227T160000
DTEND;TZID=America/Chicago:20211227T190000
DTSTAMP:20260423T174656
CREATED:20240109T180920Z
LAST-MODIFIED:20240109T180920Z
UID:10003913-1640620800-1640631600@www.springcreekoaks.org
SUMMARY:CH 2 courts 1-3\, Tennis Pro Danny
DESCRIPTION:
URL:https://www.springcreekoaks.org/reservations/ch-2-courts-1-3-tennis-pro-danny/2021-12-27/
CATEGORIES:Tennis
END:VEVENT
END:VCALENDAR