BEGIN:VCALENDAR
VERSION:2.0
PRODID:-//Spring Creek Oaks - ECPv6.15.20//NONSGML v1.0//EN
CALSCALE:GREGORIAN
METHOD:PUBLISH
X-WR-CALNAME:Spring Creek Oaks
X-ORIGINAL-URL:https://www.springcreekoaks.org
X-WR-CALDESC:Events for Spring Creek Oaks
REFRESH-INTERVAL;VALUE=DURATION:PT1H
X-Robots-Tag:noindex
X-PUBLISHED-TTL:PT1H
BEGIN:VTIMEZONE
TZID:America/Chicago
BEGIN:DAYLIGHT
TZOFFSETFROM:-0600
TZOFFSETTO:-0500
TZNAME:CDT
DTSTART:20200308T080000
END:DAYLIGHT
BEGIN:STANDARD
TZOFFSETFROM:-0500
TZOFFSETTO:-0600
TZNAME:CST
DTSTART:20201101T070000
END:STANDARD
BEGIN:DAYLIGHT
TZOFFSETFROM:-0600
TZOFFSETTO:-0500
TZNAME:CDT
DTSTART:20210314T080000
END:DAYLIGHT
BEGIN:STANDARD
TZOFFSETFROM:-0500
TZOFFSETTO:-0600
TZNAME:CST
DTSTART:20211107T070000
END:STANDARD
BEGIN:DAYLIGHT
TZOFFSETFROM:-0600
TZOFFSETTO:-0500
TZNAME:CDT
DTSTART:20220313T080000
END:DAYLIGHT
BEGIN:STANDARD
TZOFFSETFROM:-0500
TZOFFSETTO:-0600
TZNAME:CST
DTSTART:20221106T070000
END:STANDARD
END:VTIMEZONE
BEGIN:VEVENT
DTSTART;VALUE=DATE:20211202
DTEND;VALUE=DATE:20211203
DTSTAMP:20260422T173126
CREATED:20211107T143710Z
LAST-MODIFIED:20211120T140301Z
UID:10004009-1638403200-1638489599@www.springcreekoaks.org
SUMMARY:CH 1 courts closed due to light installation
DESCRIPTION:
URL:https://www.springcreekoaks.org/reservations/ch-1-courts-closed-due-to-light-installation/
CATEGORIES:Tennis
END:VEVENT
BEGIN:VEVENT
DTSTART;TZID=America/Chicago:20211202T080000
DTEND;TZID=America/Chicago:20211202T120000
DTSTAMP:20260422T173126
CREATED:20240109T180915Z
LAST-MODIFIED:20240109T180915Z
UID:10003861-1638432000-1638446400@www.springcreekoaks.org
SUMMARY:CH 1 court 1\, Tennis Pro Danny
DESCRIPTION:
URL:https://www.springcreekoaks.org/reservations/ch-1-court-1-tennis-pro-danny-3/2021-12-02/
CATEGORIES:Tennis
END:VEVENT
BEGIN:VEVENT
DTSTART;TZID=America/Chicago:20211202T080000
DTEND;TZID=America/Chicago:20211202T170000
DTSTAMP:20260422T173126
CREATED:20211130T200950Z
LAST-MODIFIED:20211130T202238Z
UID:10000266-1638432000-1638464400@www.springcreekoaks.org
SUMMARY:CH 2 courts 1-2\, tennis pro Danny
DESCRIPTION:
URL:https://www.springcreekoaks.org/reservations/ch-2-courts-1-2-tennis-pro-danny/2021-12-02/
CATEGORIES:Tennis
END:VEVENT
BEGIN:VEVENT
DTSTART;TZID=America/Chicago:20211202T083000
DTEND;TZID=America/Chicago:20211202T120000
DTSTAMP:20260422T173126
CREATED:20211117T144410Z
LAST-MODIFIED:20211120T134739Z
UID:10004030-1638433800-1638446400@www.springcreekoaks.org
SUMMARY:Kuehnle courts 1-3\, Bailey rain makeup
DESCRIPTION:
URL:https://www.springcreekoaks.org/reservations/ch-2-courts-4-6-bailey-rain-makeup/
CATEGORIES:Tennis
END:VEVENT
BEGIN:VEVENT
DTSTART;TZID=America/Chicago:20211202T160000
DTEND;TZID=America/Chicago:20211202T190000
DTSTAMP:20260422T173126
CREATED:20240109T180921Z
LAST-MODIFIED:20240109T180921Z
UID:10003941-1638460800-1638471600@www.springcreekoaks.org
SUMMARY:CH 2 courts 1-3\, Tennis Pro Danny
DESCRIPTION:
URL:https://www.springcreekoaks.org/reservations/ch-2-courts-1-3-tennis-pro-danny/2021-12-02/
CATEGORIES:Tennis
END:VEVENT
BEGIN:VEVENT
DTSTART;TZID=America/Chicago:20211202T170000
DTEND;TZID=America/Chicago:20211202T210000
DTSTAMP:20260422T173126
CREATED:20191114T164535Z
LAST-MODIFIED:20191114T164535Z
UID:10000332-1638464400-1638478800@www.springcreekoaks.org
SUMMARY:CH2 5pm-9pm Waterboard Monthly Meeting
DESCRIPTION:
URL:https://www.springcreekoaks.org/reservations/ch2-5pm-9pm-waterboard-monthly-meeting/2021-12-02/
LOCATION:Clubhouse 2\, 6002 Bur Oak Dr\, Spring\, 77379\, United States
CATEGORIES:Clubhouses
GEO:30.037539;-95.5070911
X-APPLE-STRUCTURED-LOCATION;VALUE=URI;X-ADDRESS=Clubhouse 2 6002 Bur Oak Dr Spring 77379 United States;X-APPLE-RADIUS=500;X-TITLE=6002 Bur Oak Dr:geo:-95.5070911,30.037539
END:VEVENT
BEGIN:VEVENT
DTSTART;TZID=America/Chicago:20211202T190000
DTEND;TZID=America/Chicago:20211202T223000
DTSTAMP:20260422T173126
CREATED:20211129T190311Z
LAST-MODIFIED:20211129T190311Z
UID:10000229-1638471600-1638484200@www.springcreekoaks.org
SUMMARY:Kuehnle courts 1-4\, Bausch\, league playoff
DESCRIPTION:
URL:https://www.springcreekoaks.org/reservations/kuehnle-courts-1-4-bausch-league-playoff/
CATEGORIES:Tennis
END:VEVENT
END:VCALENDAR