BEGIN:VCALENDAR
VERSION:2.0
PRODID:-//Spring Creek Oaks - ECPv6.15.20//NONSGML v1.0//EN
CALSCALE:GREGORIAN
METHOD:PUBLISH
X-WR-CALNAME:Spring Creek Oaks
X-ORIGINAL-URL:https://www.springcreekoaks.org
X-WR-CALDESC:Events for Spring Creek Oaks
REFRESH-INTERVAL;VALUE=DURATION:PT1H
X-Robots-Tag:noindex
X-PUBLISHED-TTL:PT1H
BEGIN:VTIMEZONE
TZID:America/Chicago
BEGIN:DAYLIGHT
TZOFFSETFROM:-0600
TZOFFSETTO:-0500
TZNAME:CDT
DTSTART:20200308T080000
END:DAYLIGHT
BEGIN:STANDARD
TZOFFSETFROM:-0500
TZOFFSETTO:-0600
TZNAME:CST
DTSTART:20201101T070000
END:STANDARD
BEGIN:DAYLIGHT
TZOFFSETFROM:-0600
TZOFFSETTO:-0500
TZNAME:CDT
DTSTART:20210314T080000
END:DAYLIGHT
BEGIN:STANDARD
TZOFFSETFROM:-0500
TZOFFSETTO:-0600
TZNAME:CST
DTSTART:20211107T070000
END:STANDARD
BEGIN:DAYLIGHT
TZOFFSETFROM:-0600
TZOFFSETTO:-0500
TZNAME:CDT
DTSTART:20220313T080000
END:DAYLIGHT
BEGIN:STANDARD
TZOFFSETFROM:-0500
TZOFFSETTO:-0600
TZNAME:CST
DTSTART:20221106T070000
END:STANDARD
END:VTIMEZONE
BEGIN:VEVENT
DTSTART;VALUE=DATE:20211113
DTEND;VALUE=DATE:20211114
DTSTAMP:20260423T114822
CREATED:20210814T175646Z
LAST-MODIFIED:20210814T175646Z
UID:10003714-1636761600-1636847999@www.springcreekoaks.org
SUMMARY:Gregory CH2
DESCRIPTION:
URL:https://www.springcreekoaks.org/reservations/gregory-ch2/
LOCATION:Clubhouse 2\, 6002 Bur Oak Dr\, Spring\, 77379\, United States
CATEGORIES:Clubhouses
GEO:30.037539;-95.5070911
X-APPLE-STRUCTURED-LOCATION;VALUE=URI;X-ADDRESS=Clubhouse 2 6002 Bur Oak Dr Spring 77379 United States;X-APPLE-RADIUS=500;X-TITLE=6002 Bur Oak Dr:geo:-95.5070911,30.037539
END:VEVENT
BEGIN:VEVENT
DTSTART;VALUE=DATE:20211113
DTEND;VALUE=DATE:20211114
DTSTAMP:20260423T114822
CREATED:20210814T182818Z
LAST-MODIFIED:20210814T182818Z
UID:10003715-1636761600-1636847999@www.springcreekoaks.org
SUMMARY:Richards CH1
DESCRIPTION:
URL:https://www.springcreekoaks.org/reservations/richards-ch1-2/
LOCATION:Clubhouse 1\, 17111 Misty Creek\, Spring\, TX\, 77379\, United States
CATEGORIES:Clubhouses
GEO:30.0346602;-95.5117522
X-APPLE-STRUCTURED-LOCATION;VALUE=URI;X-ADDRESS=Clubhouse 1 17111 Misty Creek Spring TX 77379 United States;X-APPLE-RADIUS=500;X-TITLE=17111 Misty Creek:geo:-95.5117522,30.0346602
END:VEVENT
BEGIN:VEVENT
DTSTART;TZID=America/Chicago:20211113T080000
DTEND;TZID=America/Chicago:20211113T103000
DTSTAMP:20260423T114822
CREATED:20200805T161253Z
LAST-MODIFIED:20200805T161253Z
UID:10001116-1636790400-1636799400@www.springcreekoaks.org
SUMMARY:LLERENA (Big Soccer Field)
DESCRIPTION:
URL:https://www.springcreekoaks.org/reservations/llerena-big-soccer-field/2021-11-13/
CATEGORIES:Soccer Fields
END:VEVENT
BEGIN:VEVENT
DTSTART;TZID=America/Chicago:20211113T090000
DTEND;TZID=America/Chicago:20211113T120000
DTSTAMP:20260423T114822
CREATED:20211111T132830Z
LAST-MODIFIED:20211111T132830Z
UID:10004024-1636794000-1636804800@www.springcreekoaks.org
SUMMARY:CH 2 court 1\, Camp
DESCRIPTION:
URL:https://www.springcreekoaks.org/reservations/ch-2-court-1-camp-3/
CATEGORIES:Tennis
END:VEVENT
END:VCALENDAR