BEGIN:VCALENDAR
VERSION:2.0
PRODID:-//Spring Creek Oaks - ECPv6.15.20//NONSGML v1.0//EN
CALSCALE:GREGORIAN
METHOD:PUBLISH
X-WR-CALNAME:Spring Creek Oaks
X-ORIGINAL-URL:https://www.springcreekoaks.org
X-WR-CALDESC:Events for Spring Creek Oaks
REFRESH-INTERVAL;VALUE=DURATION:PT1H
X-Robots-Tag:noindex
X-PUBLISHED-TTL:PT1H
BEGIN:VTIMEZONE
TZID:America/Chicago
BEGIN:DAYLIGHT
TZOFFSETFROM:-0600
TZOFFSETTO:-0500
TZNAME:CDT
DTSTART:20200308T080000
END:DAYLIGHT
BEGIN:STANDARD
TZOFFSETFROM:-0500
TZOFFSETTO:-0600
TZNAME:CST
DTSTART:20201101T070000
END:STANDARD
BEGIN:DAYLIGHT
TZOFFSETFROM:-0600
TZOFFSETTO:-0500
TZNAME:CDT
DTSTART:20210314T080000
END:DAYLIGHT
BEGIN:STANDARD
TZOFFSETFROM:-0500
TZOFFSETTO:-0600
TZNAME:CST
DTSTART:20211107T070000
END:STANDARD
BEGIN:DAYLIGHT
TZOFFSETFROM:-0600
TZOFFSETTO:-0500
TZNAME:CDT
DTSTART:20220313T080000
END:DAYLIGHT
BEGIN:STANDARD
TZOFFSETFROM:-0500
TZOFFSETTO:-0600
TZNAME:CST
DTSTART:20221106T070000
END:STANDARD
END:VTIMEZONE
BEGIN:VEVENT
DTSTART;TZID=America/Chicago:20211004T080000
DTEND;TZID=America/Chicago:20211004T120000
DTSTAMP:20260422T153602
CREATED:20210914T223709Z
LAST-MODIFIED:20210914T223709Z
UID:10003824-1633334400-1633348800@www.springcreekoaks.org
SUMMARY:CH 1 court 1\, Tennis Pro Danny
DESCRIPTION:
URL:https://www.springcreekoaks.org/reservations/ch-1-court-1-tennis-pro-danny-2/2021-10-04/
CATEGORIES:Tennis
END:VEVENT
BEGIN:VEVENT
DTSTART;TZID=America/Chicago:20211004T083000
DTEND;TZID=America/Chicago:20211004T120000
DTSTAMP:20260422T153602
CREATED:20210815T195911Z
LAST-MODIFIED:20210815T195911Z
UID:10003718-1633336200-1633348800@www.springcreekoaks.org
SUMMARY:Kuehnle courts 1-4\, HLTA A3W
DESCRIPTION:
URL:https://www.springcreekoaks.org/reservations/kuehnle-courts-1-4-hlta-a3w/2021-10-04/
CATEGORIES:Tennis
END:VEVENT
BEGIN:VEVENT
DTSTART;TZID=America/Chicago:20211004T160000
DTEND;TZID=America/Chicago:20211004T190000
DTSTAMP:20260422T153602
CREATED:20240109T180920Z
LAST-MODIFIED:20240109T180920Z
UID:10003901-1633363200-1633374000@www.springcreekoaks.org
SUMMARY:CH 2 courts 1-3\, Tennis Pro Danny
DESCRIPTION:
URL:https://www.springcreekoaks.org/reservations/ch-2-courts-1-3-tennis-pro-danny/2021-10-04/
CATEGORIES:Tennis
END:VEVENT
BEGIN:VEVENT
DTSTART;TZID=America/Chicago:20211004T190000
DTEND;TZID=America/Chicago:20211004T220000
DTSTAMP:20260422T153602
CREATED:20210914T170257Z
LAST-MODIFIED:20210914T170257Z
UID:10002345-1633374000-1633384800@www.springcreekoaks.org
SUMMARY:CH 2 courts 1-6\, Ladies night league
DESCRIPTION:
URL:https://www.springcreekoaks.org/reservations/ch-2-courts-1-6-ladies-night-league/2021-10-04/
CATEGORIES:Tennis
END:VEVENT
END:VCALENDAR