BEGIN:VCALENDAR
VERSION:2.0
PRODID:-//Spring Creek Oaks - ECPv6.15.20//NONSGML v1.0//EN
CALSCALE:GREGORIAN
METHOD:PUBLISH
X-ORIGINAL-URL:https://www.springcreekoaks.org
X-WR-CALDESC:Events for Spring Creek Oaks
REFRESH-INTERVAL;VALUE=DURATION:PT1H
X-Robots-Tag:noindex
X-PUBLISHED-TTL:PT1H
BEGIN:VTIMEZONE
TZID:America/Chicago
BEGIN:DAYLIGHT
TZOFFSETFROM:-0600
TZOFFSETTO:-0500
TZNAME:CDT
DTSTART:20200308T080000
END:DAYLIGHT
BEGIN:STANDARD
TZOFFSETFROM:-0500
TZOFFSETTO:-0600
TZNAME:CST
DTSTART:20201101T070000
END:STANDARD
BEGIN:DAYLIGHT
TZOFFSETFROM:-0600
TZOFFSETTO:-0500
TZNAME:CDT
DTSTART:20210314T080000
END:DAYLIGHT
BEGIN:STANDARD
TZOFFSETFROM:-0500
TZOFFSETTO:-0600
TZNAME:CST
DTSTART:20211107T070000
END:STANDARD
BEGIN:DAYLIGHT
TZOFFSETFROM:-0600
TZOFFSETTO:-0500
TZNAME:CDT
DTSTART:20220313T080000
END:DAYLIGHT
BEGIN:STANDARD
TZOFFSETFROM:-0500
TZOFFSETTO:-0600
TZNAME:CST
DTSTART:20221106T070000
END:STANDARD
END:VTIMEZONE
BEGIN:VEVENT
DTSTART;TZID=America/Chicago:20210924T080000
DTEND;TZID=America/Chicago:20210924T090000
DTSTAMP:20260423T004711
CREATED:20210811T141409Z
LAST-MODIFIED:20210811T141409Z
UID:10003601-1632470400-1632474000@www.springcreekoaks.org
SUMMARY:CH 2 court 6\, Mason
DESCRIPTION:
URL:https://www.springcreekoaks.org/reservations/ch-2-court-6-mason-10/2021-09-24/
CATEGORIES:Tennis
END:VEVENT
BEGIN:VEVENT
DTSTART;TZID=America/Chicago:20210924T080000
DTEND;TZID=America/Chicago:20210924T120000
DTSTAMP:20260423T004711
CREATED:20240109T180915Z
LAST-MODIFIED:20240109T180915Z
UID:10003867-1632470400-1632484800@www.springcreekoaks.org
SUMMARY:CH 1 court 1\, Tennis Pro Danny
DESCRIPTION:
URL:https://www.springcreekoaks.org/reservations/ch-1-court-1-tennis-pro-danny-3/2021-09-24/
CATEGORIES:Tennis
END:VEVENT
BEGIN:VEVENT
DTSTART;TZID=America/Chicago:20210924T083000
DTEND;TZID=America/Chicago:20210924T120000
DTSTAMP:20260423T004711
CREATED:20210818T183426Z
LAST-MODIFIED:20210818T183426Z
UID:10003746-1632472200-1632484800@www.springcreekoaks.org
SUMMARY:Kuehnle courts 1-4\, JR A-2
DESCRIPTION:
URL:https://www.springcreekoaks.org/reservations/kuehnle-courts-1-4-jr-a-2/2021-09-24/
CATEGORIES:Tennis
END:VEVENT
BEGIN:VEVENT
DTSTART;TZID=America/Chicago:20210924T083000
DTEND;TZID=America/Chicago:20210924T120000
DTSTAMP:20260423T004711
CREATED:20210818T183547Z
LAST-MODIFIED:20210903T022650Z
UID:10003748-1632472200-1632484800@www.springcreekoaks.org
SUMMARY:CH 2 courts 1-4\, JR B-3
DESCRIPTION:
URL:https://www.springcreekoaks.org/reservations/ch-2-courts-1-4-jr-b-3-2021-09-24/2021-09-24/
CATEGORIES:Tennis
END:VEVENT
BEGIN:VEVENT
DTSTART;TZID=America/Chicago:20210924T100000
DTEND;TZID=America/Chicago:20210924T130000
DTSTAMP:20260423T004711
CREATED:20210923T002046Z
LAST-MODIFIED:20210923T002046Z
UID:10003977-1632477600-1632488400@www.springcreekoaks.org
SUMMARY:CH 2 court 6\, Hudson
DESCRIPTION:
URL:https://www.springcreekoaks.org/reservations/ch-2-court-6-hudson-5/
CATEGORIES:Tennis
END:VEVENT
BEGIN:VEVENT
DTSTART;TZID=America/Chicago:20210924T160000
DTEND;TZID=America/Chicago:20210924T190000
DTSTAMP:20260423T004711
CREATED:20240109T180922Z
LAST-MODIFIED:20240109T180922Z
UID:10003947-1632499200-1632510000@www.springcreekoaks.org
SUMMARY:CH 2 courts 1-3\, Tennis Pro Danny
DESCRIPTION:
URL:https://www.springcreekoaks.org/reservations/ch-2-courts-1-3-tennis-pro-danny/2021-09-24/
CATEGORIES:Tennis
END:VEVENT
END:VCALENDAR