BEGIN:VCALENDAR
VERSION:2.0
PRODID:-//Spring Creek Oaks - ECPv6.15.20//NONSGML v1.0//EN
CALSCALE:GREGORIAN
METHOD:PUBLISH
X-WR-CALNAME:Spring Creek Oaks
X-ORIGINAL-URL:https://www.springcreekoaks.org
X-WR-CALDESC:Events for Spring Creek Oaks
REFRESH-INTERVAL;VALUE=DURATION:PT1H
X-Robots-Tag:noindex
X-PUBLISHED-TTL:PT1H
BEGIN:VTIMEZONE
TZID:America/Chicago
BEGIN:DAYLIGHT
TZOFFSETFROM:-0600
TZOFFSETTO:-0500
TZNAME:CDT
DTSTART:20200308T080000
END:DAYLIGHT
BEGIN:STANDARD
TZOFFSETFROM:-0500
TZOFFSETTO:-0600
TZNAME:CST
DTSTART:20201101T070000
END:STANDARD
BEGIN:DAYLIGHT
TZOFFSETFROM:-0600
TZOFFSETTO:-0500
TZNAME:CDT
DTSTART:20210314T080000
END:DAYLIGHT
BEGIN:STANDARD
TZOFFSETFROM:-0500
TZOFFSETTO:-0600
TZNAME:CST
DTSTART:20211107T070000
END:STANDARD
BEGIN:DAYLIGHT
TZOFFSETFROM:-0600
TZOFFSETTO:-0500
TZNAME:CDT
DTSTART:20220313T080000
END:DAYLIGHT
BEGIN:STANDARD
TZOFFSETFROM:-0500
TZOFFSETTO:-0600
TZNAME:CST
DTSTART:20221106T070000
END:STANDARD
END:VTIMEZONE
BEGIN:VEVENT
DTSTART;TZID=America/Chicago:20210819T080000
DTEND;TZID=America/Chicago:20210819T110000
DTSTAMP:20260421T175820
CREATED:20210623T035733Z
LAST-MODIFIED:20210623T035911Z
UID:10003561-1629360000-1629370800@www.springcreekoaks.org
SUMMARY:Kuehnle court 2\, Lopez
DESCRIPTION:
URL:https://www.springcreekoaks.org/reservations/kuehnle-court-2-lopez-12/2021-08-19/
CATEGORIES:Tennis
END:VEVENT
BEGIN:VEVENT
DTSTART;TZID=America/Chicago:20210819T080000
DTEND;TZID=America/Chicago:20210819T120000
DTSTAMP:20260421T175820
CREATED:20210809T002903Z
LAST-MODIFIED:20210809T002903Z
UID:10003620-1629360000-1629374400@www.springcreekoaks.org
SUMMARY:CH 2 courts 5-6\, Junek
DESCRIPTION:
URL:https://www.springcreekoaks.org/reservations/ch-2-courts-5-6-junek/2021-08-19/
CATEGORIES:Tennis
END:VEVENT
BEGIN:VEVENT
DTSTART;TZID=America/Chicago:20210819T173000
DTEND;TZID=America/Chicago:20210819T193000
DTSTAMP:20260421T175820
CREATED:20210701T193330Z
LAST-MODIFIED:20210701T193330Z
UID:10003586-1629394200-1629401400@www.springcreekoaks.org
SUMMARY:Pack Swim CH2
DESCRIPTION:
URL:https://www.springcreekoaks.org/reservations/pack-swim-ch2/2021-08-19/
CATEGORIES:Clubhouses
END:VEVENT
END:VCALENDAR