BEGIN:VCALENDAR
VERSION:2.0
PRODID:-//Spring Creek Oaks - ECPv6.15.20//NONSGML v1.0//EN
CALSCALE:GREGORIAN
METHOD:PUBLISH
X-ORIGINAL-URL:https://www.springcreekoaks.org
X-WR-CALDESC:Events for Spring Creek Oaks
REFRESH-INTERVAL;VALUE=DURATION:PT1H
X-Robots-Tag:noindex
X-PUBLISHED-TTL:PT1H
BEGIN:VTIMEZONE
TZID:America/Chicago
BEGIN:DAYLIGHT
TZOFFSETFROM:-0600
TZOFFSETTO:-0500
TZNAME:CDT
DTSTART:20200308T080000
END:DAYLIGHT
BEGIN:STANDARD
TZOFFSETFROM:-0500
TZOFFSETTO:-0600
TZNAME:CST
DTSTART:20201101T070000
END:STANDARD
BEGIN:DAYLIGHT
TZOFFSETFROM:-0600
TZOFFSETTO:-0500
TZNAME:CDT
DTSTART:20210314T080000
END:DAYLIGHT
BEGIN:STANDARD
TZOFFSETFROM:-0500
TZOFFSETTO:-0600
TZNAME:CST
DTSTART:20211107T070000
END:STANDARD
BEGIN:DAYLIGHT
TZOFFSETFROM:-0600
TZOFFSETTO:-0500
TZNAME:CDT
DTSTART:20220313T080000
END:DAYLIGHT
BEGIN:STANDARD
TZOFFSETFROM:-0500
TZOFFSETTO:-0600
TZNAME:CST
DTSTART:20221106T070000
END:STANDARD
END:VTIMEZONE
BEGIN:VEVENT
DTSTART;TZID=America/Chicago:20210809T083000
DTEND;TZID=America/Chicago:20210813T150000
DTSTAMP:20260421T180019
CREATED:20210414T201700Z
LAST-MODIFIED:20210414T201700Z
UID:10003236-1628497800-1628866800@www.springcreekoaks.org
SUMMARY:CH 2 courts 1-3\, Sports Camp
DESCRIPTION:
URL:https://www.springcreekoaks.org/reservations/ch-2-courts-1-3-sports-camp-4/
CATEGORIES:Tennis
END:VEVENT
BEGIN:VEVENT
DTSTART;TZID=America/Chicago:20210809T090000
DTEND;TZID=America/Chicago:20210813T150000
DTSTAMP:20260421T180019
CREATED:20210417T232111Z
LAST-MODIFIED:20210417T232111Z
UID:10002354-1628499600-1628866800@www.springcreekoaks.org
SUMMARY:Tennis Camp
DESCRIPTION:
URL:https://www.springcreekoaks.org/reservations/tennis-camp-3/2021-08-09/
CATEGORIES:Clubhouses,Tennis
END:VEVENT
BEGIN:VEVENT
DTSTART;TZID=America/Chicago:20210812T080000
DTEND;TZID=America/Chicago:20210812T110000
DTSTAMP:20260421T180019
CREATED:20210623T035733Z
LAST-MODIFIED:20210623T035911Z
UID:10003560-1628755200-1628766000@www.springcreekoaks.org
SUMMARY:Kuehnle court 2\, Lopez
DESCRIPTION:
URL:https://www.springcreekoaks.org/reservations/kuehnle-court-2-lopez-12/2021-08-12/
CATEGORIES:Tennis
END:VEVENT
BEGIN:VEVENT
DTSTART;TZID=America/Chicago:20210812T080000
DTEND;TZID=America/Chicago:20210812T120000
DTSTAMP:20260421T180019
CREATED:20210809T002903Z
LAST-MODIFIED:20210809T002903Z
UID:10003619-1628755200-1628769600@www.springcreekoaks.org
SUMMARY:CH 2 courts 5-6\, Junek
DESCRIPTION:
URL:https://www.springcreekoaks.org/reservations/ch-2-courts-5-6-junek/2021-08-12/
CATEGORIES:Tennis
END:VEVENT
BEGIN:VEVENT
DTSTART;TZID=America/Chicago:20210812T080000
DTEND;TZID=America/Chicago:20210812T120000
DTSTAMP:20260421T180019
CREATED:20210812T205059Z
LAST-MODIFIED:20210812T205059Z
UID:10003708-1628755200-1628769600@www.springcreekoaks.org
SUMMARY:Kuehnle court 3\, Nacewski
DESCRIPTION:
URL:https://www.springcreekoaks.org/reservations/kuehnle-court-3-nacewski/
CATEGORIES:Tennis
END:VEVENT
BEGIN:VEVENT
DTSTART;TZID=America/Chicago:20210812T160000
DTEND;TZID=America/Chicago:20210812T200000
DTSTAMP:20260421T180019
CREATED:20210617T184757Z
LAST-MODIFIED:20210617T184757Z
UID:10003507-1628784000-1628798400@www.springcreekoaks.org
SUMMARY:CH 2 court 1\, Tennis Pro Danny
DESCRIPTION:
URL:https://www.springcreekoaks.org/reservations/ch-2-court-1-tennis-pro-danny-9/2021-08-12/
CATEGORIES:Tennis
END:VEVENT
END:VCALENDAR