BEGIN:VCALENDAR
VERSION:2.0
PRODID:-//Spring Creek Oaks - ECPv6.15.20//NONSGML v1.0//EN
CALSCALE:GREGORIAN
METHOD:PUBLISH
X-WR-CALNAME:Spring Creek Oaks
X-ORIGINAL-URL:https://www.springcreekoaks.org
X-WR-CALDESC:Events for Spring Creek Oaks
REFRESH-INTERVAL;VALUE=DURATION:PT1H
X-Robots-Tag:noindex
X-PUBLISHED-TTL:PT1H
BEGIN:VTIMEZONE
TZID:America/Chicago
BEGIN:DAYLIGHT
TZOFFSETFROM:-0600
TZOFFSETTO:-0500
TZNAME:CDT
DTSTART:20200308T080000
END:DAYLIGHT
BEGIN:STANDARD
TZOFFSETFROM:-0500
TZOFFSETTO:-0600
TZNAME:CST
DTSTART:20201101T070000
END:STANDARD
BEGIN:DAYLIGHT
TZOFFSETFROM:-0600
TZOFFSETTO:-0500
TZNAME:CDT
DTSTART:20210314T080000
END:DAYLIGHT
BEGIN:STANDARD
TZOFFSETFROM:-0500
TZOFFSETTO:-0600
TZNAME:CST
DTSTART:20211107T070000
END:STANDARD
BEGIN:DAYLIGHT
TZOFFSETFROM:-0600
TZOFFSETTO:-0500
TZNAME:CDT
DTSTART:20220313T080000
END:DAYLIGHT
BEGIN:STANDARD
TZOFFSETFROM:-0500
TZOFFSETTO:-0600
TZNAME:CST
DTSTART:20221106T070000
END:STANDARD
END:VTIMEZONE
BEGIN:VEVENT
DTSTART;TZID=America/Chicago:20210630T080000
DTEND;TZID=America/Chicago:20210630T120000
DTSTAMP:20260421T095328
CREATED:20210512T162316Z
LAST-MODIFIED:20210512T162316Z
UID:10003251-1625040000-1625054400@www.springcreekoaks.org
SUMMARY:CH 1 courts 2-3 (pickleball)\, Hudson
DESCRIPTION:
URL:https://www.springcreekoaks.org/reservations/ch-1-courts-2-3-pickleball-hudson/2021-06-30/
CATEGORIES:Tennis
END:VEVENT
BEGIN:VEVENT
DTSTART;TZID=America/Chicago:20210630T080000
DTEND;TZID=America/Chicago:20210630T120000
DTSTAMP:20260421T095328
CREATED:20210617T184038Z
LAST-MODIFIED:20210617T184038Z
UID:10003424-1625040000-1625054400@www.springcreekoaks.org
SUMMARY:CH 2 court 4\, Tennis Pro Danny
DESCRIPTION:
URL:https://www.springcreekoaks.org/reservations/ch-2-court-4-tennis-pro-danny/
CATEGORIES:Tennis
END:VEVENT
BEGIN:VEVENT
DTSTART;TZID=America/Chicago:20210630T090000
DTEND;TZID=America/Chicago:20210630T110000
DTSTAMP:20260421T095328
CREATED:20210430T040850Z
LAST-MODIFIED:20210430T040850Z
UID:10003205-1625043600-1625050800@www.springcreekoaks.org
SUMMARY:CH 2 courts 1 and 3\, Camp
DESCRIPTION:
URL:https://www.springcreekoaks.org/reservations/ch-2-courts-1-and-3-camp-3/2021-06-30/
CATEGORIES:Tennis
END:VEVENT
BEGIN:VEVENT
DTSTART;TZID=America/Chicago:20210630T160000
DTEND;TZID=America/Chicago:20210630T200000
DTSTAMP:20260421T095328
CREATED:20210617T184653Z
LAST-MODIFIED:20210617T184653Z
UID:10003491-1625068800-1625083200@www.springcreekoaks.org
SUMMARY:CH 2 court 1\, Tennis Pro Danny
DESCRIPTION:
URL:https://www.springcreekoaks.org/reservations/ch-2-court-1-tennis-pro-danny-8/2021-06-30/
CATEGORIES:Tennis
END:VEVENT
BEGIN:VEVENT
DTSTART;TZID=America/Chicago:20210630T180000
DTEND;TZID=America/Chicago:20210630T200000
DTSTAMP:20260421T095328
CREATED:20200805T160749Z
LAST-MODIFIED:20200805T161100Z
UID:10001337-1625076000-1625083200@www.springcreekoaks.org
SUMMARY:CIFUENTES (Big Soccer Field)
DESCRIPTION:
URL:https://www.springcreekoaks.org/reservations/cifuentes-open-play-big-soccer-field/2021-06-30/
CATEGORIES:Soccer Fields
END:VEVENT
END:VCALENDAR