BEGIN:VCALENDAR
VERSION:2.0
PRODID:-//Spring Creek Oaks - ECPv6.15.20//NONSGML v1.0//EN
CALSCALE:GREGORIAN
METHOD:PUBLISH
X-WR-CALNAME:Spring Creek Oaks
X-ORIGINAL-URL:https://www.springcreekoaks.org
X-WR-CALDESC:Events for Spring Creek Oaks
REFRESH-INTERVAL;VALUE=DURATION:PT1H
X-Robots-Tag:noindex
X-PUBLISHED-TTL:PT1H
BEGIN:VTIMEZONE
TZID:America/Chicago
BEGIN:DAYLIGHT
TZOFFSETFROM:-0600
TZOFFSETTO:-0500
TZNAME:CDT
DTSTART:20200308T080000
END:DAYLIGHT
BEGIN:STANDARD
TZOFFSETFROM:-0500
TZOFFSETTO:-0600
TZNAME:CST
DTSTART:20201101T070000
END:STANDARD
BEGIN:DAYLIGHT
TZOFFSETFROM:-0600
TZOFFSETTO:-0500
TZNAME:CDT
DTSTART:20210314T080000
END:DAYLIGHT
BEGIN:STANDARD
TZOFFSETFROM:-0500
TZOFFSETTO:-0600
TZNAME:CST
DTSTART:20211107T070000
END:STANDARD
BEGIN:DAYLIGHT
TZOFFSETFROM:-0600
TZOFFSETTO:-0500
TZNAME:CDT
DTSTART:20220313T080000
END:DAYLIGHT
BEGIN:STANDARD
TZOFFSETFROM:-0500
TZOFFSETTO:-0600
TZNAME:CST
DTSTART:20221106T070000
END:STANDARD
END:VTIMEZONE
BEGIN:VEVENT
DTSTART;TZID=America/Chicago:20210528T160000
DTEND;TZID=America/Chicago:20210529T140000
DTSTAMP:20260421T034941
CREATED:20210303T190655Z
LAST-MODIFIED:20210303T193157Z
UID:10003104-1622217600-1622296800@www.springcreekoaks.org
SUMMARY:SCO Dolphins Swim Meet CH2
DESCRIPTION:
URL:https://www.springcreekoaks.org/reservations/sco-dolphins-swim-meet-2/
CATEGORIES:Clubhouses
END:VEVENT
BEGIN:VEVENT
DTSTART;TZID=America/Chicago:20210529T060000
DTEND;TZID=America/Chicago:20210529T130000
DTSTAMP:20260421T034941
CREATED:20210303T183844Z
LAST-MODIFIED:20210303T232444Z
UID:10001928-1622268000-1622293200@www.springcreekoaks.org
SUMMARY:Dolphin Swim Meet
DESCRIPTION:
URL:https://www.springcreekoaks.org/reservations/dolphin-swim-meet-3/
LOCATION:CH 2 Pool\, 6002 Bur Oak Dr.\, Spring\, TX\, 77379\, United States
CATEGORIES:Pools
GEO:30.037539;-95.5070911
X-APPLE-STRUCTURED-LOCATION;VALUE=URI;X-ADDRESS=CH 2 Pool 6002 Bur Oak Dr. Spring TX 77379 United States;X-APPLE-RADIUS=500;X-TITLE=6002 Bur Oak Dr.:geo:-95.5070911,30.037539
END:VEVENT
BEGIN:VEVENT
DTSTART;TZID=America/Chicago:20210529T080000
DTEND;TZID=America/Chicago:20210529T103000
DTSTAMP:20260421T034941
CREATED:20200805T161253Z
LAST-MODIFIED:20200805T161253Z
UID:10001092-1622275200-1622284200@www.springcreekoaks.org
SUMMARY:LLERENA (Big Soccer Field)
DESCRIPTION:
URL:https://www.springcreekoaks.org/reservations/llerena-big-soccer-field/2021-05-29/
CATEGORIES:Soccer Fields
END:VEVENT
BEGIN:VEVENT
DTSTART;TZID=America/Chicago:20210529T090000
DTEND;TZID=America/Chicago:20210529T110000
DTSTAMP:20260421T034941
CREATED:20210322T130345Z
LAST-MODIFIED:20210322T130345Z
UID:10003193-1622278800-1622286000@www.springcreekoaks.org
SUMMARY:CH 2 courts 1-2\, Camp
DESCRIPTION:
URL:https://www.springcreekoaks.org/reservations/ch-2-courts-1-2-camp/2021-05-29/
CATEGORIES:Tennis
END:VEVENT
BEGIN:VEVENT
DTSTART;TZID=America/Chicago:20210529T100000
DTEND;TZID=America/Chicago:20210529T120000
DTSTAMP:20260421T034941
CREATED:20210305T140921Z
LAST-MODIFIED:20210308T153122Z
UID:10002013-1622282400-1622289600@www.springcreekoaks.org
SUMMARY:Field 1-Poulos
DESCRIPTION:
URL:https://www.springcreekoaks.org/reservations/field-2-poulos/2021-05-29/
CATEGORIES:Baseball Fields
END:VEVENT
BEGIN:VEVENT
DTSTART;TZID=America/Chicago:20210529T120000
DTEND;TZID=America/Chicago:20210529T150000
DTSTAMP:20260421T034941
CREATED:20210126T194920Z
LAST-MODIFIED:20210308T153209Z
UID:10002813-1622289600-1622300400@www.springcreekoaks.org
SUMMARY:Field 1-Foudy (9U)
DESCRIPTION:
URL:https://www.springcreekoaks.org/reservations/field-1-foudy-9u/2021-05-29/
CATEGORIES:Baseball Fields
END:VEVENT
BEGIN:VEVENT
DTSTART;TZID=America/Chicago:20210529T150000
DTEND;TZID=America/Chicago:20210529T170000
DTSTAMP:20260421T034941
CREATED:20210204T155324Z
LAST-MODIFIED:20210310T162052Z
UID:10002995-1622300400-1622307600@www.springcreekoaks.org
SUMMARY:Field 1-McDowell
DESCRIPTION:
URL:https://www.springcreekoaks.org/reservations/field-1-mcdowell-2/2021-05-29/
CATEGORIES:Baseball Fields
END:VEVENT
END:VCALENDAR