BEGIN:VCALENDAR
VERSION:2.0
PRODID:-//Spring Creek Oaks - ECPv6.15.20//NONSGML v1.0//EN
CALSCALE:GREGORIAN
METHOD:PUBLISH
X-ORIGINAL-URL:https://www.springcreekoaks.org
X-WR-CALDESC:Events for Spring Creek Oaks
REFRESH-INTERVAL;VALUE=DURATION:PT1H
X-Robots-Tag:noindex
X-PUBLISHED-TTL:PT1H
BEGIN:VTIMEZONE
TZID:America/Chicago
BEGIN:DAYLIGHT
TZOFFSETFROM:-0600
TZOFFSETTO:-0500
TZNAME:CDT
DTSTART:20200308T080000
END:DAYLIGHT
BEGIN:STANDARD
TZOFFSETFROM:-0500
TZOFFSETTO:-0600
TZNAME:CST
DTSTART:20201101T070000
END:STANDARD
BEGIN:DAYLIGHT
TZOFFSETFROM:-0600
TZOFFSETTO:-0500
TZNAME:CDT
DTSTART:20210314T080000
END:DAYLIGHT
BEGIN:STANDARD
TZOFFSETFROM:-0500
TZOFFSETTO:-0600
TZNAME:CST
DTSTART:20211107T070000
END:STANDARD
BEGIN:DAYLIGHT
TZOFFSETFROM:-0600
TZOFFSETTO:-0500
TZNAME:CDT
DTSTART:20220313T080000
END:DAYLIGHT
BEGIN:STANDARD
TZOFFSETFROM:-0500
TZOFFSETTO:-0600
TZNAME:CST
DTSTART:20221106T070000
END:STANDARD
END:VTIMEZONE
BEGIN:VEVENT
DTSTART;TZID=America/Chicago:20210526T080000
DTEND;TZID=America/Chicago:20210526T110000
DTSTAMP:20260420T031828
CREATED:20210106T153044Z
LAST-MODIFIED:20210106T153044Z
UID:10001875-1622016000-1622026800@www.springcreekoaks.org
SUMMARY:Kuehnle court 4\, Danny Cardenas
DESCRIPTION:
URL:https://www.springcreekoaks.org/reservations/kuehnle-court-4-danny-cardenas-4/2021-05-26/
CATEGORIES:Tennis
END:VEVENT
BEGIN:VEVENT
DTSTART;TZID=America/Chicago:20210526T083000
DTEND;TZID=America/Chicago:20210526T113000
DTSTAMP:20260420T031828
CREATED:20210105T201107Z
LAST-MODIFIED:20210105T201259Z
UID:10001973-1622017800-1622028600@www.springcreekoaks.org
SUMMARY:CH 1 courts 2 and 3 (pickleball)\, Mason
DESCRIPTION:
URL:https://www.springcreekoaks.org/reservations/ch-2-courts-2-and-3-mason/2021-05-26/
CATEGORIES:Tennis
END:VEVENT
BEGIN:VEVENT
DTSTART;TZID=America/Chicago:20210526T090000
DTEND;TZID=America/Chicago:20210526T110000
DTSTAMP:20260420T031828
CREATED:20210430T040850Z
LAST-MODIFIED:20210430T040850Z
UID:10003202-1622019600-1622026800@www.springcreekoaks.org
SUMMARY:CH 2 courts 1 and 3\, Camp
DESCRIPTION:
URL:https://www.springcreekoaks.org/reservations/ch-2-courts-1-and-3-camp-3/2021-05-26/
CATEGORIES:Tennis
END:VEVENT
BEGIN:VEVENT
DTSTART;TZID=America/Chicago:20210526T160000
DTEND;TZID=America/Chicago:20210526T190000
DTSTAMP:20260420T031829
CREATED:20210125T035234Z
LAST-MODIFIED:20210125T035234Z
UID:10002663-1622044800-1622055600@www.springcreekoaks.org
SUMMARY:Field 1-Yearwood (9U)
DESCRIPTION:
URL:https://www.springcreekoaks.org/reservations/field-1-yearwood-9u/2021-05-26/
CATEGORIES:Baseball Fields
END:VEVENT
BEGIN:VEVENT
DTSTART;TZID=America/Chicago:20210526T160000
DTEND;TZID=America/Chicago:20210526T190000
DTSTAMP:20260420T031829
CREATED:20210126T180617Z
LAST-MODIFIED:20210126T181309Z
UID:10002705-1622044800-1622055600@www.springcreekoaks.org
SUMMARY:Field 2-Tyger (9U)
DESCRIPTION:
URL:https://www.springcreekoaks.org/reservations/field-2-tyger-9u/2021-05-26/
CATEGORIES:Baseball Fields
END:VEVENT
BEGIN:VEVENT
DTSTART;TZID=America/Chicago:20210526T160000
DTEND;TZID=America/Chicago:20210526T190000
DTSTAMP:20260420T031829
CREATED:20210224T185851Z
LAST-MODIFIED:20210306T014907Z
UID:10002337-1622044800-1622055600@www.springcreekoaks.org
SUMMARY:Field 4-Foster (5U)
DESCRIPTION:
URL:https://www.springcreekoaks.org/reservations/field-4-foster-5u/2021-05-26/
CATEGORIES:Baseball Fields
END:VEVENT
BEGIN:VEVENT
DTSTART;TZID=America/Chicago:20210526T160000
DTEND;TZID=America/Chicago:20210526T200000
DTSTAMP:20260420T031829
CREATED:20210106T153147Z
LAST-MODIFIED:20210106T153147Z
UID:10001815-1622044800-1622059200@www.springcreekoaks.org
SUMMARY:Kuehnle court 4\, Danny Cardenas
DESCRIPTION:
URL:https://www.springcreekoaks.org/reservations/kuehnle-court-4-danny-cardenas-5/2021-05-26/
CATEGORIES:Tennis
END:VEVENT
BEGIN:VEVENT
DTSTART;TZID=America/Chicago:20210526T180000
DTEND;TZID=America/Chicago:20210526T200000
DTSTAMP:20260420T031829
CREATED:20200805T160749Z
LAST-MODIFIED:20200805T161100Z
UID:10001332-1622052000-1622059200@www.springcreekoaks.org
SUMMARY:CIFUENTES (Big Soccer Field)
DESCRIPTION:
URL:https://www.springcreekoaks.org/reservations/cifuentes-open-play-big-soccer-field/2021-05-26/
CATEGORIES:Soccer Fields
END:VEVENT
END:VCALENDAR