BEGIN:VCALENDAR
VERSION:2.0
PRODID:-//Spring Creek Oaks - ECPv6.15.20//NONSGML v1.0//EN
CALSCALE:GREGORIAN
METHOD:PUBLISH
X-ORIGINAL-URL:https://www.springcreekoaks.org
X-WR-CALDESC:Events for Spring Creek Oaks
REFRESH-INTERVAL;VALUE=DURATION:PT1H
X-Robots-Tag:noindex
X-PUBLISHED-TTL:PT1H
BEGIN:VTIMEZONE
TZID:America/Chicago
BEGIN:DAYLIGHT
TZOFFSETFROM:-0600
TZOFFSETTO:-0500
TZNAME:CDT
DTSTART:20190310T080000
END:DAYLIGHT
BEGIN:STANDARD
TZOFFSETFROM:-0500
TZOFFSETTO:-0600
TZNAME:CST
DTSTART:20191103T070000
END:STANDARD
BEGIN:DAYLIGHT
TZOFFSETFROM:-0600
TZOFFSETTO:-0500
TZNAME:CDT
DTSTART:20200308T080000
END:DAYLIGHT
BEGIN:STANDARD
TZOFFSETFROM:-0500
TZOFFSETTO:-0600
TZNAME:CST
DTSTART:20201101T070000
END:STANDARD
BEGIN:DAYLIGHT
TZOFFSETFROM:-0600
TZOFFSETTO:-0500
TZNAME:CDT
DTSTART:20210314T080000
END:DAYLIGHT
BEGIN:STANDARD
TZOFFSETFROM:-0500
TZOFFSETTO:-0600
TZNAME:CST
DTSTART:20211107T070000
END:STANDARD
END:VTIMEZONE
BEGIN:VEVENT
DTSTART;VALUE=DATE:20200110
DTEND;VALUE=DATE:20200125
DTSTAMP:20260420T184645
CREATED:20200109T212444Z
LAST-MODIFIED:20200109T212444Z
UID:10000478-1578614400-1579910399@www.springcreekoaks.org
SUMMARY:CH 1 courts closed due to resurfacing
DESCRIPTION:
URL:https://www.springcreekoaks.org/reservations/ch-1-courts-closed-due-to-resurfacing/
CATEGORIES:Tennis
END:VEVENT
BEGIN:VEVENT
DTSTART;TZID=America/Chicago:20200124T090000
DTEND;TZID=America/Chicago:20200124T110000
DTSTAMP:20260420T184645
CREATED:20200112T194417Z
LAST-MODIFIED:20200119T040819Z
UID:10000509-1579856400-1579863600@www.springcreekoaks.org
SUMMARY:CH 2 courts 1-3\, Lopez
DESCRIPTION:
URL:https://www.springcreekoaks.org/reservations/ch-2-courts-2-3-lopez/
CATEGORIES:Tennis
END:VEVENT
BEGIN:VEVENT
DTSTART;TZID=America/Chicago:20200124T090000
DTEND;TZID=America/Chicago:20200124T120000
DTSTAMP:20260420T184645
CREATED:20200116T095049Z
LAST-MODIFIED:20200116T095049Z
UID:10000121-1579856400-1579867200@www.springcreekoaks.org
SUMMARY:CH 2 courts 4-6\, Nacewski
DESCRIPTION:
URL:https://www.springcreekoaks.org/reservations/ch-2-courts-4-6-nacewski/
CATEGORIES:Tennis
END:VEVENT
BEGIN:VEVENT
DTSTART;TZID=America/Chicago:20200124T090000
DTEND;TZID=America/Chicago:20200124T120000
DTSTAMP:20260420T184645
CREATED:20200120T213430Z
LAST-MODIFIED:20200120T213430Z
UID:10000224-1579856400-1579867200@www.springcreekoaks.org
SUMMARY:Kuehnle courts 1-2\, Ranney
DESCRIPTION:
URL:https://www.springcreekoaks.org/reservations/kuehnle-courts-1-2-ranney/
CATEGORIES:Tennis
END:VEVENT
END:VCALENDAR